BEGIN:VCALENDAR
VERSION:2.0
PRODID:-//Scottsdale Institute - ECPv6.8.0//NONSGML v1.0//EN
CALSCALE:GREGORIAN
METHOD:PUBLISH
X-ORIGINAL-URL:https://scottsdaleinstitute.org
X-WR-CALDESC:Events for Scottsdale Institute
REFRESH-INTERVAL;VALUE=DURATION:PT1H
X-Robots-Tag:noindex
X-PUBLISHED-TTL:PT1H
BEGIN:VTIMEZONE
TZID:America/Chicago
BEGIN:DAYLIGHT
TZOFFSETFROM:-0600
TZOFFSETTO:-0500
TZNAME:CDT
DTSTART:20200308T080000
END:DAYLIGHT
BEGIN:STANDARD
TZOFFSETFROM:-0500
TZOFFSETTO:-0600
TZNAME:CST
DTSTART:20201101T070000
END:STANDARD
BEGIN:DAYLIGHT
TZOFFSETFROM:-0600
TZOFFSETTO:-0500
TZNAME:CDT
DTSTART:20210314T080000
END:DAYLIGHT
BEGIN:STANDARD
TZOFFSETFROM:-0500
TZOFFSETTO:-0600
TZNAME:CST
DTSTART:20211107T070000
END:STANDARD
BEGIN:DAYLIGHT
TZOFFSETFROM:-0600
TZOFFSETTO:-0500
TZNAME:CDT
DTSTART:20220313T080000
END:DAYLIGHT
BEGIN:STANDARD
TZOFFSETFROM:-0500
TZOFFSETTO:-0600
TZNAME:CST
DTSTART:20221106T070000
END:STANDARD
BEGIN:DAYLIGHT
TZOFFSETFROM:-0600
TZOFFSETTO:-0500
TZNAME:CDT
DTSTART:20230312T080000
END:DAYLIGHT
BEGIN:STANDARD
TZOFFSETFROM:-0500
TZOFFSETTO:-0600
TZNAME:CST
DTSTART:20231105T070000
END:STANDARD
BEGIN:DAYLIGHT
TZOFFSETFROM:-0600
TZOFFSETTO:-0500
TZNAME:CDT
DTSTART:20240310T080000
END:DAYLIGHT
BEGIN:STANDARD
TZOFFSETFROM:-0500
TZOFFSETTO:-0600
TZNAME:CST
DTSTART:20241103T070000
END:STANDARD
BEGIN:DAYLIGHT
TZOFFSETFROM:-0600
TZOFFSETTO:-0500
TZNAME:CDT
DTSTART:20250309T080000
END:DAYLIGHT
BEGIN:STANDARD
TZOFFSETFROM:-0500
TZOFFSETTO:-0600
TZNAME:CST
DTSTART:20251102T070000
END:STANDARD
END:VTIMEZONE
BEGIN:VEVENT
DTSTART;TZID=America/Chicago:20250515T130000
DTEND;TZID=America/Chicago:20250515T140000
DTSTAMP:20260420T101715
CREATED:20250425T144340Z
LAST-MODIFIED:20250709T164651Z
UID:70823-1747314000-1747317600@scottsdaleinstitute.org
SUMMARY:WEBINAR | When C-Suite Leaders Are Aligned\, Health Systems Can Improve Technology Transformation
DESCRIPTION:Christy Lemak\, Executive Vice President\, Scottsdale Institute; Tim Skeen\, EVP\, CIO\, Sentara Healthcare; Michael T. Black\, Managing Director\, Deloitte; and Maulesh Shukla\, Executive [...]
URL:https://scottsdaleinstitute.org/event/when-c-suite-leaders-are-aligned-health-systems-can-improve-technology-transformation/
END:VEVENT
BEGIN:VEVENT
DTSTART;TZID=America/Chicago:20250507T130000
DTEND;TZID=America/Chicago:20250507T140000
DTSTAMP:20260420T101715
CREATED:20250408T165434Z
LAST-MODIFIED:20250709T164412Z
UID:70639-1746622800-1746626400@scottsdaleinstitute.org
SUMMARY:WEBINAR | Art of the Possible: How Generative and Ambient AI Drives Rapid Innovation at Scale
DESCRIPTION:Lance M. Owens\, DO\, CMIO\, University of Michigan Health West; and Jared Pelo\, MD\, CMIO\, Microsoft. As an early adopter of ambient listening in primary care\, University of Michigan H [...]
URL:https://scottsdaleinstitute.org/event/webinar-art-of-the-possible-how-generative-and-ambient-ai-drives-rapid-innovation-at-scale/
END:VEVENT
BEGIN:VEVENT
DTSTART;TZID=America/Chicago:20250403T130000
DTEND;TZID=America/Chicago:20250403T140000
DTSTAMP:20260420T101715
CREATED:20250207T150434Z
LAST-MODIFIED:20251203T015506Z
UID:69868-1743685200-1743688800@scottsdaleinstitute.org
SUMMARY:FIRESIDE CHAT | What’s New with Patient Messaging and InBasket Management at CommonSpirit Health and Baptist Health
DESCRIPTION:John Chelico\, MD\, MA\, FACP\, FAMIA\, System Chief Medical Informatics Officer at CommonSpirit Health; and Brett Oliver\, MD\, Chief Medical Informatics Officer at Baptist Health discuss [...]
URL:https://scottsdaleinstitute.org/event/fireside-chat-whats-new-with-patient-messaging-and-inbasket-management-at-commonspirit-health-and-baptist-health/
END:VEVENT
BEGIN:VEVENT
DTSTART;TZID=America/Chicago:20250401T130000
DTEND;TZID=America/Chicago:20250401T140000
DTSTAMP:20260420T101715
CREATED:20250325T130235Z
LAST-MODIFIED:20251203T015506Z
UID:70501-1743512400-1743516000@scottsdaleinstitute.org
SUMMARY:Fireside Chat | Responsible AI at Stanford Medicine
DESCRIPTION:Nigam Shah\, MBBS\, PhD\, Professor of Medicine and of Biomedical Data Science; Chief Data Scientist\, Stanford Health Care; Associate Dean for Research\, School of Medicine; Associate Dir [...]
URL:https://scottsdaleinstitute.org/event/responsible-ai-at-stanford-medicine/
END:VEVENT
BEGIN:VEVENT
DTSTART;TZID=America/Chicago:20250320T130000
DTEND;TZID=America/Chicago:20250320T140000
DTSTAMP:20260420T101715
CREATED:20250124T182218Z
LAST-MODIFIED:20260323T170947Z
UID:69670-1742475600-1742479200@scottsdaleinstitute.org
SUMMARY:WEBINAR | Why AI Won't Put Physicians out of a Job - Yet...
DESCRIPTION:Join Brian T. Garibaldi\, MD\, MEHP\, FACP\, FRCP(E)\, Director\, Center for Bedside Medicine\, Charles Horace Mayo Professor of Medicine\, Division of Pulmonary and Critical Care Medicine [...]
URL:https://scottsdaleinstitute.org/event/webinar-why-ai-wont-put-physicians-out-of-a-job-yet/
END:VEVENT
BEGIN:VEVENT
DTSTART;TZID=America/Chicago:20250319T130000
DTEND;TZID=America/Chicago:20250319T140000
DTSTAMP:20260420T101715
CREATED:20250218T160401Z
LAST-MODIFIED:20250708T225129Z
UID:69933-1742389200-1742392800@scottsdaleinstitute.org
SUMMARY:WEBINAR | Integrated Patient Safety & Risk - a New Source of Value in the AI Era
DESCRIPTION:Join us as Drew Ladner\, Founding President & CEO and David Stockwell\, MD\, Chief Clinical Officer\, of Pascal Metrics\, a patient safety company dedicated to helping healthcare provid [...]
URL:https://scottsdaleinstitute.org/event/webinar-integrated-patient-safety-risk-a-new-source-of-value-in-the-ai-era/
END:VEVENT
BEGIN:VEVENT
DTSTART;TZID=America/Chicago:20250318T130000
DTEND;TZID=America/Chicago:20250318T140000
DTSTAMP:20260420T101715
CREATED:20250204T163205Z
LAST-MODIFIED:20250708T224742Z
UID:69808-1742302800-1742306400@scottsdaleinstitute.org
SUMMARY:WEBINAR | Forging an IT Sustainability Culture and Team
DESCRIPTION:Ann-Marie Yap\, Executive Director of Technology\, Stanford Medicine and Inna Dolottseva\, Certified Energy Manager\, Stanford Health Care. Most IT sustainability efforts start as well-mea [...]
URL:https://scottsdaleinstitute.org/event/webinar-forging-an-it-sustainability-culture-and-team/
END:VEVENT
BEGIN:VEVENT
DTSTART;TZID=America/Chicago:20250225T130000
DTEND;TZID=America/Chicago:20250225T140000
DTSTAMP:20260420T101715
CREATED:20250128T134737Z
LAST-MODIFIED:20260323T170947Z
UID:69723-1740488400-1740492000@scottsdaleinstitute.org
SUMMARY:WEBINAR | Transforming Healthcare Operations through Math
DESCRIPTION:Mohan Giridharadas\, Founder & CEO; and Tim Vasil\, Chief Technology Officer\, LeanTaaS. In this engaging fireside chat\, Mohan and Tim explore the critical role of advanced mathematics\,  [...]
URL:https://scottsdaleinstitute.org/event/webinar-transforming-healthcare-operations-through-math/
END:VEVENT
BEGIN:VEVENT
DTSTART;TZID=America/Chicago:20250213T130000
DTEND;TZID=America/Chicago:20250213T140000
DTSTAMP:20260420T101715
CREATED:20250115T175053Z
LAST-MODIFIED:20260323T170948Z
UID:69556-1739451600-1739455200@scottsdaleinstitute.org
SUMMARY:WEBINAR | How St. Luke’s is Optimizing Documentation and Coding with AI Scribing
DESCRIPTION:Clinicians today face overwhelming administrative burdens\, with less than 27% of their day spent on direct patient care. As the U.S. faces a growing physician shortage\, health systems mu [...]
URL:https://scottsdaleinstitute.org/event/webinar-how-st-lukes-is-optimizing-documentation-and-coding-with-ai-scribing/
END:VEVENT
BEGIN:VEVENT
DTSTART;TZID=America/Chicago:20250211T130000
DTEND;TZID=America/Chicago:20250211T140000
DTSTAMP:20260420T101715
CREATED:20250107T160835Z
LAST-MODIFIED:20260323T170949Z
UID:69386-1739278800-1739282400@scottsdaleinstitute.org
SUMMARY:WEBINAR | Accelerating Healthcare with AI: A Deep Dive into Bronson's AI Activation
DESCRIPTION:Join us as Ash Goel\, MD\, Bronson Healthcare’s Chief Information Officer and Amit Jindal\, Senior Partner at Chartis\, share Bronson’s groundbreaking journey into the realm of AI. Thi [...]
URL:https://scottsdaleinstitute.org/event/webinar-accelerating-healthcare-with-ai-a-deep-dive-into-bronsons-ai-activation/
END:VEVENT
BEGIN:VEVENT
DTSTART;TZID=America/Chicago:20250206T130000
DTEND;TZID=America/Chicago:20250206T140000
DTSTAMP:20260420T101715
CREATED:20250113T194431Z
LAST-MODIFIED:20250708T221655Z
UID:69482-1738846800-1738850400@scottsdaleinstitute.org
SUMMARY:WEBINAR | From Free Agents to Loyal Patients: Piedmont's Digital Strategy for Healthcare Access
DESCRIPTION:With a vast array of new care options right at their fingertips\, a growing number of patients have become “free agents”. They expect convenient\, accessible\, and mobile-friendly expe [...]
URL:https://scottsdaleinstitute.org/event/webinar-how-piedmont-has-reduced-time-to-care-with-a-modern-patient-first-approach/
END:VEVENT
BEGIN:VEVENT
DTSTART;TZID=America/Chicago:20250204T130000
DTEND;TZID=America/Chicago:20250204T140000
DTSTAMP:20260420T101715
CREATED:20250113T193014Z
LAST-MODIFIED:20260323T170949Z
UID:69475-1738674000-1738677600@scottsdaleinstitute.org
SUMMARY:WEBINAR | Actionable AI:  How University of Iowa Health Care’s Clinical Intelligence Platform Reduced Cognitive Burden\, Improved Health Outcomes and Boosted Revenue
DESCRIPTION:James M. Blum\, MD\, FCCM\, CDH-E\, Chief Health Information Officer\, University of Iowa; and Kalie Dove-Maguire\, MD\, Chief Product Officer\, Evidently present University of Iowa Health [...]
URL:https://scottsdaleinstitute.org/event/webinar-actionable-ai-how-university-of-iowa-health-cares-clinical-intelligence-platform-reduced-cognitive-burden-improved-health-outcomes-and-boosted-revenue/
END:VEVENT
BEGIN:VEVENT
DTSTART;TZID=America/Chicago:20250130T130000
DTEND;TZID=America/Chicago:20250130T140000
DTSTAMP:20260420T101715
CREATED:20241211T160537Z
LAST-MODIFIED:20250708T220201Z
UID:69243-1738242000-1738245600@scottsdaleinstitute.org
SUMMARY:WEBINAR | AI Policy Beat – Emerging Federal and State Policy Priorities
DESCRIPTION:Mark Sendak\, MD\, MPP\, Population Health & Data Science Lead\, Duke Institute for Health Innovation (DIHI) ; & Jared Augenstein\, Managing Director\, Manatt Health. The AI legal and regu [...]
URL:https://scottsdaleinstitute.org/event/webinar-ai-policy-beat-emerging-federal-and-state-policy-priorities/
END:VEVENT
BEGIN:VEVENT
DTSTART;TZID=America/Chicago:20250109T130000
DTEND;TZID=America/Chicago:20250109T140000
DTSTAMP:20260420T101715
CREATED:20241211T193007Z
LAST-MODIFIED:20250708T210611Z
UID:69249-1736427600-1736431200@scottsdaleinstitute.org
SUMMARY:WEBINAR | Moving Health Forward: Lessons from a CDIO
DESCRIPTION:Jeﬀ Sturman\, Senior Vice President\, Chief Digital Oﬃcer\, Memorial Healthcare System/South Broward Hospital District; and John Kravitz\, Vice President\, Healthcare\, Workday. Provid [...]
URL:https://scottsdaleinstitute.org/event/webinar-moving-health-forward-lessons-from-a-cdio/
END:VEVENT
BEGIN:VEVENT
DTSTART;TZID=America/Chicago:20241023T150000
DTEND;TZID=America/Chicago:20241023T160000
DTSTAMP:20260420T101715
CREATED:20240521T182734Z
LAST-MODIFIED:20260416T164738Z
UID:66697-1729695600-1729699200@scottsdaleinstitute.org
SUMMARY:DIALOGUE | Analytics + AI | "Buy or Build? Navigating AI Implementation Strategies – A Collaborative Discussion"
DESCRIPTION:Rosalia Tungaraza\, PhD\, AVP\, Artificial Intelligence\, Technology and Digital\, Baptist Health South Florida\nAre you facing the challenge of deciding whether to buy off-the-shelf AI so [...]
URL:https://scottsdaleinstitute.org/event/analytics-buy-or-build-navigating-ai-implementation-strategies-a-collaborative-discussion/
END:VEVENT
BEGIN:VEVENT
DTSTART;TZID=America/Chicago:20241010T130000
DTEND;TZID=America/Chicago:20241010T143000
DTSTAMP:20260420T101715
CREATED:20240829T181650Z
LAST-MODIFIED:20260415T015709Z
UID:67979-1728565200-1728570600@scottsdaleinstitute.org
SUMMARY:ROUNDTABLE | "AI in Nurse Well-Being: Adopting New Technologies in Healthcare featuring CNIOs from Northwestern Medicine\, Michigan Medicine\, Advocate Health\, and CHOP. " Moderated by Dr. Oriana Beaudet from the American Nurses Association (ANA) Enterprise
DESCRIPTION:The American Nurses Foundation (ANF)\, the philanthropic arm of the ANA\, in partnership with Scottsdale Institute (SI) is delighted to invite you to attend this SPECIAL 90-minute Roundtab [...]
URL:https://scottsdaleinstitute.org/event/roundtable-ai-in-nurse-well-being/
END:VEVENT
BEGIN:VEVENT
DTSTART;TZID=America/Chicago:20241009T100000
DTEND;TZID=America/Chicago:20241009T113000
DTSTAMP:20260420T101715
CREATED:20240829T181153Z
LAST-MODIFIED:20260415T015941Z
UID:67976-1728468000-1728473400@scottsdaleinstitute.org
SUMMARY:ROUNDTABLE | "AI and ROI:  Achieving Productivity and Throughput Results"
DESCRIPTION:AI is everywhere. How fast should you move and how much risk should you assume? Can Generative AI reduce clinician burden\, improve care team collaboration and the quality of patient care? [...]
URL:https://scottsdaleinstitute.org/event/roundtable-ai-and-roi-achieving-productivity-and-throughput-results/
END:VEVENT
BEGIN:VEVENT
DTSTART;TZID=America/Chicago:20240718T150000
DTEND;TZID=America/Chicago:20240718T160000
DTSTAMP:20260420T101715
CREATED:20240521T180742Z
LAST-MODIFIED:20260415T202732Z
UID:66679-1721314800-1721318400@scottsdaleinstitute.org
SUMMARY:DIALOGUE | Analytics | "Analytics Strategy & Roadmap Exploration"
DESCRIPTION:Meghan Cole\, Vice President\, Analytics & Program Management and Paul Vitantonio\, MS\, Manager\, Information Technology\, Data Analytics\, Bronson Healthcare Group\n\nPresentation Slides [...]
URL:https://scottsdaleinstitute.org/event/dialogue-analytics-analytics-strategy-roadmap-exploration/
END:VEVENT
BEGIN:VEVENT
DTSTART;VALUE=DATE:20240620
DTEND;VALUE=DATE:20240622
DTSTAMP:20260420T101715
CREATED:20240301T205031Z
LAST-MODIFIED:20251104T035805Z
UID:65685-1718841600-1719014399@scottsdaleinstitute.org
SUMMARY:SUMMIT | 2024 Clinical Informatics - Charting the Future: The Role of AI in the EHR and Clinician Well Being
DESCRIPTION:Charting the Future: The Role of AI in the EHR and Clinician Well Being\n\nJune 20-21\, 2024\nSI Clinical Informatics Summit\nHosted by Texas Health Resources and UT Southwestern Medical C [...]
URL:https://scottsdaleinstitute.org/event/summit-2024-clinical-informatics-charting-the-future-the-role-of-ai-in-the-ehr-and-clinician-well-being/
ATTACH;FMTTYPE=image/jpeg:https://scottsdaleinstitute.org/wp-content/uploads/2024/03/CI-Summit-Image.jpg
END:VEVENT
BEGIN:VEVENT
DTSTART;TZID=America/Chicago:20240613T130000
DTEND;TZID=America/Chicago:20240613T140000
DTSTAMP:20260420T101715
CREATED:20240424T181804Z
LAST-MODIFIED:20260323T171000Z
UID:66403-1718283600-1718287200@scottsdaleinstitute.org
SUMMARY:WEBINAR | “Why Don’t You Just Cut Off Your Family?”: An Educational Training Tool using Multimodal AI to Increase Cultural Competency in the Next Generation of Therapists
DESCRIPTION: \n \n \n \n \n \nJoin this award-winning PsykAI team from the University of Michigan\, Dushyanth Aluwihare\, UI/UX Designer\, MSc in Information Science; Meha Goyal\, Software Engin [...]
URL:https://scottsdaleinstitute.org/event/webinar-why-dont-you-just-cut-off-your-family-a-multimodel-ai-training-tool-to-increase-cultural-sensitivity-competency-in-the-next-generation-of-therapists/
END:VEVENT
BEGIN:VEVENT
DTSTART;TZID=America/Chicago:20240410T130000
DTEND;TZID=America/Chicago:20240410T140000
DTSTAMP:20260420T101715
CREATED:20240305T152308Z
LAST-MODIFIED:20260323T171004Z
UID:65707-1712754000-1712757600@scottsdaleinstitute.org
SUMMARY:FIRESIDE CHAT / WEBINAR | Augmented Ingenuity: AI for Patient Safety
DESCRIPTION: \n \n \n \n \n \n“Patient safety may offer us the most far-reaching opportunity to apply AI to clinical care\,” says David Classen\, MD\, MS\, Professor\, University of Utah. Ex [...]
URL:https://scottsdaleinstitute.org/event/fireside-chat-webinar-augmented-ingenuity-ai-for-patient-safety/
END:VEVENT
BEGIN:VEVENT
DTSTART;TZID=America/Chicago:20240125T150000
DTEND;TZID=America/Chicago:20240125T160000
DTSTAMP:20260420T101715
CREATED:20240108T200612Z
LAST-MODIFIED:20260416T170848Z
UID:64935-1706194800-1706198400@scottsdaleinstitute.org
SUMMARY:DIALOGUE | Analytics | "Early Results of Deploying Generative AI in Clinical Workflows at Houston Methodist"
DESCRIPTION:S. Nicholas Desai\, DPM\, MBA\, VP\, Chief Operating Officer\, Houston Methodist Cypress Hospital and Chief Medical Officer and Chief Quality Officer\, Houston Methodist Cypress Hospital a [...]
URL:https://scottsdaleinstitute.org/event/dialogue-analytics-early-results-of-deploying-generative-ai-in-clinical-workflows-at-houston-methodist/
END:VEVENT
BEGIN:VEVENT
DTSTART;TZID=America/Chicago:20231116T120000
DTEND;TZID=America/Chicago:20231116T130000
DTSTAMP:20260420T101715
CREATED:20231101T150152Z
LAST-MODIFIED:20240506T182018Z
UID:63995-1700136000-1700139600@scottsdaleinstitute.org
SUMMARY:WEBINAR | Artificial Intelligence: Smart Strategies to Do Better for Clinicians and Patients
DESCRIPTION:Shakeeb Akhter\, Chief Digital & Information Officer (CDIO)\, Children’s Hospital of Philadelphia; and John Kravitz\, Head of Healthcare Industry GTM\, Workday. AI and ML promise to deli [...]
URL:https://scottsdaleinstitute.org/event/webinar-artificial-intelligence-smart-strategies-to-do-better-for-clinicians-and-patients/
END:VEVENT
BEGIN:VEVENT
DTSTART;TZID=America/Chicago:20201006T130000
DTEND;TZID=America/Chicago:20201006T140000
DTSTAMP:20260420T101715
CREATED:20200902T232933Z
LAST-MODIFIED:20251120T173130Z
UID:39554-1601989200-1601992800@scottsdaleinstitute.org
SUMMARY:Using Artificial Intelligence to Identify COVID-19 Patients at High Risk of Clinical Deterioration
DESCRIPTION:Peter Winkelstein\, MD\, MS\, MBA\, FAAP\, Professor of Clinical Pediatrics\, VP and CMIO\, Kaleida Health\, Executive Director\, University at Buffalo Institute for Healthcare Informatics [...]
URL:https://scottsdaleinstitute.org/event/using-artificial-intelligence-to-identify-covid-19-patients-at-high-risk-of-clinical-deterioration/
END:VEVENT
END:VCALENDAR