BEGIN:VCALENDAR
VERSION:2.0
PRODID:-//Scottsdale Institute - ECPv6.8.0//NONSGML v1.0//EN
CALSCALE:GREGORIAN
METHOD:PUBLISH
X-WR-CALNAME:Scottsdale Institute
X-ORIGINAL-URL:https://scottsdaleinstitute.org
X-WR-CALDESC:Events for Scottsdale Institute
REFRESH-INTERVAL;VALUE=DURATION:PT1H
X-Robots-Tag:noindex
X-PUBLISHED-TTL:PT1H
BEGIN:VTIMEZONE
TZID:America/Chicago
BEGIN:DAYLIGHT
TZOFFSETFROM:-0600
TZOFFSETTO:-0500
TZNAME:CDT
DTSTART:20260308T080000
END:DAYLIGHT
BEGIN:STANDARD
TZOFFSETFROM:-0500
TZOFFSETTO:-0600
TZNAME:CST
DTSTART:20261101T070000
END:STANDARD
END:VTIMEZONE
BEGIN:VEVENT
DTSTART;TZID=America/Chicago:20260407T140000
DTEND;TZID=America/Chicago:20260407T150000
DTSTAMP:20260420T073341
CREATED:20260218T203523Z
LAST-MODIFIED:20260416T162542Z
UID:75163-1775570400-1775574000@scottsdaleinstitute.org
SUMMARY:DIALOGUE | CISO – Strategic Priorities\, Plans\, and Perils for 2026
DESCRIPTION:Janet Guptill\, FACHE\, CPHIMS\, President & CEO\, Scottsdale Institute\nWhat’s in store for 2026 for leading health system CISO? Join your Scottsdale Institute peers to share your prior [...]
URL:https://scottsdaleinstitute.org/event/dialogue-ciso-strategic-priorities-plans-and-perils-for-2026/
END:VEVENT
END:VCALENDAR