BEGIN:VCALENDAR
VERSION:2.0
PRODID:-//Scottsdale Institute - ECPv6.8.0//NONSGML v1.0//EN
CALSCALE:GREGORIAN
METHOD:PUBLISH
X-ORIGINAL-URL:https://scottsdaleinstitute.org
X-WR-CALDESC:Events for Scottsdale Institute
REFRESH-INTERVAL;VALUE=DURATION:PT1H
X-Robots-Tag:noindex
X-PUBLISHED-TTL:PT1H
BEGIN:VTIMEZONE
TZID:America/Chicago
BEGIN:DAYLIGHT
TZOFFSETFROM:-0600
TZOFFSETTO:-0500
TZNAME:CDT
DTSTART:20200308T080000
END:DAYLIGHT
BEGIN:STANDARD
TZOFFSETFROM:-0500
TZOFFSETTO:-0600
TZNAME:CST
DTSTART:20201101T070000
END:STANDARD
BEGIN:DAYLIGHT
TZOFFSETFROM:-0600
TZOFFSETTO:-0500
TZNAME:CDT
DTSTART:20210314T080000
END:DAYLIGHT
BEGIN:STANDARD
TZOFFSETFROM:-0500
TZOFFSETTO:-0600
TZNAME:CST
DTSTART:20211107T070000
END:STANDARD
BEGIN:DAYLIGHT
TZOFFSETFROM:-0600
TZOFFSETTO:-0500
TZNAME:CDT
DTSTART:20220313T080000
END:DAYLIGHT
BEGIN:STANDARD
TZOFFSETFROM:-0500
TZOFFSETTO:-0600
TZNAME:CST
DTSTART:20221106T070000
END:STANDARD
END:VTIMEZONE
BEGIN:VEVENT
DTSTART;TZID=America/Chicago:20220511T100000
DTEND;TZID=America/Chicago:20220511T133000
DTSTAMP:20260420T200107
CREATED:20220304T234528Z
LAST-MODIFIED:20260413T215228Z
UID:52820-1652263200-1652275800@scottsdaleinstitute.org
SUMMARY:SUMMIT | CIO/CISO Virtual - From Foundation to Future
DESCRIPTION:Our Member CISOs are continually planning\, constructing and renovating to keep their security strong…and it seems the best builds entail a collaborative effort to implement real-world e [...]
URL:https://scottsdaleinstitute.org/event/cio-ciso-virtual-summit-from-foundation-to-future/
LOCATION:Zoom Meeting
ATTACH;FMTTYPE=image/jpeg:https://scottsdaleinstitute.org/wp-content/uploads/2022/03/ciso-sm-e1675210548184.jpg
END:VEVENT
BEGIN:VEVENT
DTSTART;TZID=America/Chicago:20220503T130000
DTEND;TZID=America/Chicago:20220503T140000
DTSTAMP:20260420T200107
CREATED:20220330T133852Z
LAST-MODIFIED:20250319T191843Z
UID:53712-1651582800-1651586400@scottsdaleinstitute.org
SUMMARY:WEBINAR | Moving Away from the Company-Owned Data Center
DESCRIPTION:Shane Rodabaugh\, MBA\, VP\, IT Infrastructure\, Baptist Health.  Yep\, Baptist Health got out of the company-owned data center business.  Shane will dig into Baptist’s journey to get  [...]
URL:https://scottsdaleinstitute.org/event/webinar-moving-away-from-the-company-owned-data-center/
END:VEVENT
BEGIN:VEVENT
DTSTART;TZID=America/Chicago:20220412T130000
DTEND;TZID=America/Chicago:20220412T140000
DTSTAMP:20260420T200107
CREATED:20220228T014656Z
LAST-MODIFIED:20251029T153513Z
UID:52672-1649768400-1649772000@scottsdaleinstitute.org
SUMMARY:WEBINAR | EHR on Cloud
DESCRIPTION:Eric Foote\, Managing Director\, and Suraj Ramdeo\, Senior Manager\, Deloitte Consulting. Join Eric and Suraj to learn about the current state of the EHR on Cloud landscape including the v [...]
URL:https://scottsdaleinstitute.org/event/webinar-ehr-on-cloud/
END:VEVENT
BEGIN:VEVENT
DTSTART;TZID=America/Chicago:20220323T150000
DTEND;TZID=America/Chicago:20220323T160000
DTSTAMP:20260420T200107
CREATED:20211015T201426Z
LAST-MODIFIED:20230404T000132Z
UID:48288-1648047600-1648051200@scottsdaleinstitute.org
SUMMARY:DIALOGUE | CIO + CISO "405d Breach Relief"
DESCRIPTION:Erik Decker\, AVP & CISO\, Intermountain Healthcare “405d Breach Relief”
URL:https://scottsdaleinstitute.org/event/si-cio-ciso-dialogue-mar-23-2022/
END:VEVENT
BEGIN:VEVENT
DTSTART;TZID=America/Chicago:20220309T130000
DTEND;TZID=America/Chicago:20220309T140000
DTSTAMP:20260420T200107
CREATED:20220131T212307Z
LAST-MODIFIED:20250319T191843Z
UID:52122-1646830800-1646834400@scottsdaleinstitute.org
SUMMARY:WEBINAR | From the ONC: Cures Act\, TEFCA\, Interoperability and Health Information Exchange
DESCRIPTION:Micky Tripathi\, PhD\, National Coordinator for Health Information Technology at the U.S. Department of Health and Human Services. Dr. Tripathi discusses the recent publication of the Trus [...]
URL:https://scottsdaleinstitute.org/event/webinar-from-the-onc-cures-act-tefca-interoperability-and-health-information-exchange/
END:VEVENT
BEGIN:VEVENT
DTSTART;TZID=America/Chicago:20220303T130000
DTEND;TZID=America/Chicago:20220303T140000
DTSTAMP:20260420T200107
CREATED:20220131T200254Z
LAST-MODIFIED:20250319T192102Z
UID:52089-1646312400-1646316000@scottsdaleinstitute.org
SUMMARY:WEBINAR | Leveraging Data Science to Address Workforce Limitations in Healthcare
DESCRIPTION:Derek Streat\, Founder & CEO\, Dexcare; Aaron Martin\, Executive Vice President and Chief Digital and Innovation Officer\, Providence; and Melek Somai\, CTO\, Inception Health. While exace [...]
URL:https://scottsdaleinstitute.org/event/webinar-leveraging-data-science-to-address-workforce-limitations-in-healthcare/
END:VEVENT
BEGIN:VEVENT
DTSTART;TZID=America/Chicago:20220301T130000
DTEND;TZID=America/Chicago:20220301T140000
DTSTAMP:20260420T200107
CREATED:20220127T151106Z
LAST-MODIFIED:20250319T191843Z
UID:52009-1646139600-1646143200@scottsdaleinstitute.org
SUMMARY:WEBINAR | Simplify Your Data Analytics: Insights from Lee Health
DESCRIPTION:Marcelo Zottolo\, VP of Data Analytics and Continuous Improvement\, Lee Health\, and Doug Erich\, Senior Analytics Leaders\, Impact Advisors. Lee Health has had success over the past 5 yea [...]
URL:https://scottsdaleinstitute.org/event/webinar-simplify-your-data-analytics-insights-from-lee-health/
END:VEVENT
BEGIN:VEVENT
DTSTART;TZID=America/Chicago:20220222T130000
DTEND;TZID=America/Chicago:20220222T140000
DTSTAMP:20260420T200107
CREATED:20220125T213735Z
LAST-MODIFIED:20250319T191843Z
UID:51945-1645534800-1645538400@scottsdaleinstitute.org
SUMMARY:WEBINAR | Healthcare’s Plight: What Executives Need To Understand About Cybersecurity
DESCRIPTION:Mac McMillan\, Chief Executive Officer\, CynergisTek. What do healthcare executives need to know to be more successful at protecting their institutions and the people they serve?  In thi [...]
URL:https://scottsdaleinstitute.org/event/webinar-the-current-threat-picture-what-healthcare-executives-need-to-know/
END:VEVENT
BEGIN:VEVENT
DTSTART;TZID=America/Chicago:20220215T130000
DTEND;TZID=America/Chicago:20220215T140000
DTSTAMP:20260420T200107
CREATED:20220125T010747Z
LAST-MODIFIED:20260109T150944Z
UID:51934-1644930000-1644933600@scottsdaleinstitute.org
SUMMARY:WEBINAR | The Newly Finalized Common Agreement: Its Content\, and What it May Mean
DESCRIPTION:Dan Golder\, DDS\, MBA\, Principal\, and Larry Katzovitz\, Principal\, Impact Advisors\, provide a high-level overview of the various components of the recently finalized Version 1 of the  [...]
URL:https://scottsdaleinstitute.org/event/webinar-the-newly-finalized-common-agreement-its-content-and-what-it-may-mean/
END:VEVENT
BEGIN:VEVENT
DTSTART;TZID=America/Chicago:20220201T130000
DTEND;TZID=America/Chicago:20220201T140000
DTSTAMP:20260420T200107
CREATED:20220112T021206Z
LAST-MODIFIED:20251203T015521Z
UID:51398-1643720400-1643724000@scottsdaleinstitute.org
SUMMARY:WEBINAR | Winning the War for Talent in Healthcare
DESCRIPTION:John Mackey\, Client Partner\, and Flo Falayi\, PhD\, Client Partner\, Korn Ferry.  The ongoing and evolving presence of COVID has intensified the talent crisis in today’s healthcare w [...]
URL:https://scottsdaleinstitute.org/event/webinar-winning-the-war-for-talent-in-healthcare/
END:VEVENT
BEGIN:VEVENT
DTSTART;TZID=America/Chicago:20211207T100000
DTEND;TZID=America/Chicago:20211207T133000
DTSTAMP:20260420T200107
CREATED:20210527T211539Z
LAST-MODIFIED:20250707T224048Z
UID:45239-1638871200-1638883800@scottsdaleinstitute.org
SUMMARY:SI 2021 CISO Virtual Summit - Strategic Security: Facing Off Against Threats
DESCRIPTION:At its recent CISO Virtual Summit\, sponsored by Deloitte on December 7\, 2021\, the Scottsdale Institute\nconvened 18 Members from 18 organizations to discuss strategy options in environm [...]
URL:https://scottsdaleinstitute.org/event/si-2021-ciso-summit-nbh862/
ATTACH;FMTTYPE=image/jpeg:https://scottsdaleinstitute.org/wp-content/uploads/2021/05/2021-CISO-Summit-panoramic-e1675210610262.jpg
END:VEVENT
BEGIN:VEVENT
DTSTART;TZID=America/Chicago:20211202T130000
DTEND;TZID=America/Chicago:20211202T140000
DTSTAMP:20260420T200107
CREATED:20211111T164533Z
LAST-MODIFIED:20250319T191844Z
UID:48770-1638450000-1638453600@scottsdaleinstitute.org
SUMMARY:WEBINAR | Accelerating Adoption of Leading Clinical Practice Through Research Data
DESCRIPTION:Danessa Sandmann\, MPH\, Implementation Executive and Managing Editor/Director\, and Jackie Gerhart\, MD\, Physician\, Clinical Informatics\, Epic.  New medical discoveries can take more  [...]
URL:https://scottsdaleinstitute.org/event/webinar-accelerating-adoption-of-leading-clinical-practice-through-research-data/
END:VEVENT
BEGIN:VEVENT
DTSTART;TZID=America/Chicago:20211021T143000
DTEND;TZID=America/Chicago:20211021T153000
DTSTAMP:20260420T200107
CREATED:20210312T222716Z
LAST-MODIFIED:20230404T000154Z
UID:43191-1634826600-1634830200@scottsdaleinstitute.org
SUMMARY:SI CIO + CISO Dialogue - Oct 21 2021
DESCRIPTION:“What CIOs and CISOs need to know about Windows 11”\nMitch Parker\, MBA\, CISSP\, Executive Director\, Information Security & Compliance\, IU Health\nThis is an invitation-only event. [...]
URL:https://scottsdaleinstitute.org/event/cio-ciso-dialogue-call-10212021/
END:VEVENT
BEGIN:VEVENT
DTSTART;TZID=America/Chicago:20211020T140000
DTEND;TZID=America/Chicago:20211020T150000
DTSTAMP:20260420T200107
CREATED:20210611T183815Z
LAST-MODIFIED:20251203T015522Z
UID:45529-1634738400-1634742000@scottsdaleinstitute.org
SUMMARY:WEBINAR | Women Healthcare CEOs: Making it to the Top
DESCRIPTION:Jane Edison Stevenson\, Vice Chair\, Board & CEO Services\, and Katie Bell\, Senior Client Partner and Global Account Leader\, Korn Ferry\, with Marna P. Borgstrom\, CEO\, Yale New Haven [...]
URL:https://scottsdaleinstitute.org/event/fireside-chat-webinar-women-healthcare-ceos-making-it-to-the-top/
END:VEVENT
BEGIN:VEVENT
DTSTART;TZID=America/Chicago:20211019T110000
DTEND;TZID=America/Chicago:20211019T120000
DTSTAMP:20260420T200107
CREATED:20210312T222718Z
LAST-MODIFIED:20230404T000155Z
UID:43190-1634641200-1634644800@scottsdaleinstitute.org
SUMMARY:SI CIO + CISO Dialogue - Oct 19 2021
DESCRIPTION:“Advice and Sharing Session around BYOD and REMOTE WORK”\nMatt Eversole\, CIO\, Bon Secours Mercy Health\nThis is an invitation-only event.  For more information\, fill out the form\, [...]
URL:https://scottsdaleinstitute.org/event/si-cio-ciso-dialogue-oct-19-2021/
END:VEVENT
BEGIN:VEVENT
DTSTART;TZID=America/Chicago:20211014T130000
DTEND;TZID=America/Chicago:20211014T140000
DTSTAMP:20260420T200107
CREATED:20211006T210735Z
LAST-MODIFIED:20250319T191844Z
UID:48048-1634216400-1634220000@scottsdaleinstitute.org
SUMMARY:WEBINAR | Incident Response – Are you Prepared for a Security Event?
DESCRIPTION:Stephen Collins\, CISSP\, C|CISO\, Security Single Point of Contact\, Impact Advisors.  Health systems are continually challenged by the everchanging security threat landscape.  While or [...]
URL:https://scottsdaleinstitute.org/event/webinar-incident-response-are-you-prepared-for-a-security-event/
END:VEVENT
BEGIN:VEVENT
DTSTART;TZID=America/Chicago:20210929T130000
DTEND;TZID=America/Chicago:20210929T140000
DTSTAMP:20260420T200107
CREATED:20210824T174605Z
LAST-MODIFIED:20250319T191845Z
UID:47097-1632920400-1632924000@scottsdaleinstitute.org
SUMMARY:WEBINAR | Mayo Clinic Cloud: Simplified. Scalable. Secure.
DESCRIPTION:Dale Magnuson\, MS\, Section Head\, and Travis Drucker\, Enterprise IT Architect\, Mayo Clinic.  Innovation isn’t easy. That’s why Mayo Clinic Cloud (MCC) is busy simplifying\, scalin [...]
URL:https://scottsdaleinstitute.org/event/webinar-mayo-clinic-cloud-simplified-scalable-secure/
END:VEVENT
BEGIN:VEVENT
DTSTART;TZID=America/Chicago:20210823T130000
DTEND;TZID=America/Chicago:20210823T140000
DTSTAMP:20260420T200107
CREATED:20210616T222449Z
LAST-MODIFIED:20260104T163814Z
UID:45616-1629723600-1629727200@scottsdaleinstitute.org
SUMMARY:WEBINAR | Advancing Care Delivery Innovation with Cedars-Sinai\, Houston Methodist & Spectrum
DESCRIPTION:Tom Priselac\, President & CEO\, Cedars-Sinai; Marc Boom\, MD\, President & CEO\, Houston Methodist and Tina Freese Decker\, President & CEO\, Spectrum Health join John Simon\, SVP\, Op [...]
URL:https://scottsdaleinstitute.org/event/webinar-advancing-care-delivery-innovation-with-cedars-sinai-houston-methodist-spectrum/
END:VEVENT
BEGIN:VEVENT
DTSTART;TZID=America/Chicago:20210819T143000
DTEND;TZID=America/Chicago:20210819T153000
DTSTAMP:20260420T200107
CREATED:20210312T222721Z
LAST-MODIFIED:20230404T000157Z
UID:43189-1629383400-1629387000@scottsdaleinstitute.org
SUMMARY:SI CIO-CISO Dialogue - Aug 19 2021
DESCRIPTION:“CISO Fundamentals:  Policies\, Partners & Playbook”\nPhil Napier\, Health ISO\, UVA Health System\nThis is an invitation-only event.  For more information\, fill out the form\, belo [...]
URL:https://scottsdaleinstitute.org/event/cio-ciso-dialogue-call-08192021/
END:VEVENT
BEGIN:VEVENT
DTSTART;TZID=America/Chicago:20210818T130000
DTEND;TZID=America/Chicago:20210818T140000
DTSTAMP:20260420T200107
CREATED:20210802T164311Z
LAST-MODIFIED:20250319T191845Z
UID:46845-1629291600-1629295200@scottsdaleinstitute.org
SUMMARY:WEBINAR | Stronger Together: Why Industry Alignment is the Only Means to Mitigate Healthcare Cybersecurity Risk
DESCRIPTION:Erik Decker\, AVP & CISO\, Intermountain Healthcare\, and Ed Gaudet\, CEO\, Censinet. Cyber attacks. Data breaches. Ransomware incidents. All these challenges jeopardize effective patient  [...]
URL:https://scottsdaleinstitute.org/event/webinar-stronger-together-why-industry-alignment-is-the-only-means-to-mitigate-healthcare-cybersecurity-risk/
END:VEVENT
BEGIN:VEVENT
DTSTART;TZID=America/Chicago:20210714T130000
DTEND;TZID=America/Chicago:20210714T140000
DTSTAMP:20260420T200107
CREATED:20210611T183304Z
LAST-MODIFIED:20250319T191845Z
UID:45524-1626267600-1626271200@scottsdaleinstitute.org
SUMMARY:WEBINAR | Social Determinants of Health: Interoperability Standards and Evidence-Based Decision Support
DESCRIPTION:Evelyn Gallego\, MBA\, MPH\, CPHIMS\, CEO\, EMI Advisors and Program Manager and SME\, HL7®Gravity Project\, and Cheyenne Santiago\, RN\, MSN\, Managing Editor\, MCG Health.  The impact  [...]
URL:https://scottsdaleinstitute.org/event/webinar-social-determinants-of-health-interoperability-standards-and-evidence-based-decision-support/
END:VEVENT
BEGIN:VEVENT
DTSTART;TZID=America/Chicago:20210617T143000
DTEND;TZID=America/Chicago:20210617T153000
DTSTAMP:20260420T200107
CREATED:20210312T222722Z
LAST-MODIFIED:20230404T000158Z
UID:43187-1623940200-1623943800@scottsdaleinstitute.org
SUMMARY:SI CIO-CISO Dialogue - Jun 17 2021
DESCRIPTION:“NSA Healthcare Cybersecurity Workforce Certificate Program”\nMichael Erickson\, CISO\, Baptist Health\nThis is an invitation-only event.  For more information\, fill out the form\, b [...]
URL:https://scottsdaleinstitute.org/event/cio-ciso-dialogue-call-06172021/
END:VEVENT
BEGIN:VEVENT
DTSTART;TZID=America/Chicago:20210602T130000
DTEND;TZID=America/Chicago:20210602T140000
DTSTAMP:20260420T200107
CREATED:20210518T172303Z
LAST-MODIFIED:20250319T191620Z
UID:45104-1622638800-1622642400@scottsdaleinstitute.org
SUMMARY:WEBINAR | Harnessing the Power of Data: Truveta at Trinity Health
DESCRIPTION:Marcus Shipley\, MBA\, SVP\, Innovation and CIO\, Trinity Health.  Health systems have amassed an amazing amount of data\, yet no one system has enough data in size or diversity to genera [...]
URL:https://scottsdaleinstitute.org/event/webinar-harnessing-the-power-of-data-truveta-at-trinity-health/
END:VEVENT
BEGIN:VEVENT
DTSTART;TZID=America/Chicago:20210526T130000
DTEND;TZID=America/Chicago:20210526T140000
DTSTAMP:20260420T200107
CREATED:20210213T210957Z
LAST-MODIFIED:20250926T162536Z
UID:42576-1622034000-1622037600@scottsdaleinstitute.org
SUMMARY:WEBINAR | Understanding and Successfully Combating Security Threats
DESCRIPTION:Scott Gaydos\, VP Product Management\, Optum\, and Mike Rogers\, Director of Cybersecurity\, Optum Technology. As healthcare organizations continue to barrel toward modernization\, cyber-a [...]
URL:https://scottsdaleinstitute.org/event/understanding-and-successfully-combating-security-threats/
END:VEVENT
BEGIN:VEVENT
DTSTART;TZID=America/Chicago:20210504T130000
DTEND;TZID=America/Chicago:20210504T140000
DTSTAMP:20260420T200107
CREATED:20210213T210752Z
LAST-MODIFIED:20250319T192104Z
UID:42570-1620133200-1620136800@scottsdaleinstitute.org
SUMMARY:WEBINAR | Vaccination Credential Initiative: Open Source COVID Vax Standards
DESCRIPTION:JP Pollak\, PhD\, Chief Product Officer\, The Commons Project. The COVID-19 pandemic has inspired the most ambitious immunization effort in history\, and along with it an immediate need to [...]
URL:https://scottsdaleinstitute.org/event/webinar-vaccination-credential-initiative-open-source-covid-vax-standards/
END:VEVENT
BEGIN:VEVENT
DTSTART;TZID=America/Chicago:20210422T143000
DTEND;TZID=America/Chicago:20210422T153000
DTSTAMP:20260420T200107
CREATED:20210312T222729Z
LAST-MODIFIED:20230404T000200Z
UID:43185-1619101800-1619105400@scottsdaleinstitute.org
SUMMARY:SI CIO-CISO Dialogue - Apr 22 2021
DESCRIPTION:“Cyber-Security at the Board Level”\nJigar Kadakia\, Mass General Brigham\nThis is an invitation-only event.  For more information\, fill out the form\, below.\n\n \n\n\n\n\n Name (re [...]
URL:https://scottsdaleinstitute.org/event/cio-ciso-dialogue-call-04222021/
END:VEVENT
BEGIN:VEVENT
DTSTART;TZID=America/Chicago:20210421T130000
DTEND;TZID=America/Chicago:20210421T140000
DTSTAMP:20260420T200107
CREATED:20210315T002213Z
LAST-MODIFIED:20250319T191845Z
UID:43301-1619010000-1619013600@scottsdaleinstitute.org
SUMMARY:Developing Future Ready IT Leaders
DESCRIPTION:Scott Arnold\, EVP & CIO\, Tampa General Hospital\, and Judy Kirby\, CEO\, Kirby Partners.  Health systems are morphing into technology companies who deliver healthcare.  With this major [...]
URL:https://scottsdaleinstitute.org/event/developing-future-ready-it-leaders/
END:VEVENT
BEGIN:VEVENT
DTSTART;TZID=America/Chicago:20210224T130000
DTEND;TZID=America/Chicago:20210224T140000
DTSTAMP:20260420T200107
CREATED:20210113T002043Z
LAST-MODIFIED:20250319T191915Z
UID:41838-1614171600-1614175200@scottsdaleinstitute.org
SUMMARY:Healthcare AI/ML Confidential Computing Platform
DESCRIPTION:Mary Beth Chalk\, Business Development\, Center for Digital Health Innovation\, UCSF Innovation Ventures. Cyberattacks on healthcare data are a clear and present danger resulting in constr [...]
URL:https://scottsdaleinstitute.org/event/healthcare-ai-ml-confidential-computing-platform/
END:VEVENT
BEGIN:VEVENT
DTSTART;TZID=America/Chicago:20210211T143000
DTEND;TZID=America/Chicago:20210211T153000
DTSTAMP:20260420T200107
CREATED:20210205T211419Z
LAST-MODIFIED:20231107T191745Z
UID:42313-1613053800-1613057400@scottsdaleinstitute.org
SUMMARY:Dialogue | CIO-CISO - Feb 11 2021
DESCRIPTION:“Building an Effective Enterprise Risk Management Program and Lessons Learned”\nBryan McDowell & Daniel Bucci\, UH\n\n\n\n\nDialogue Digest
URL:https://scottsdaleinstitute.org/event/cio-ciso-dialogue-call/
END:VEVENT
BEGIN:VEVENT
DTSTART;TZID=America/Chicago:20201112T143000
DTEND;TZID=America/Chicago:20201112T153000
DTSTAMP:20260420T200107
CREATED:20210908T163714Z
LAST-MODIFIED:20230404T000202Z
UID:47382-1605191400-1605195000@scottsdaleinstitute.org
SUMMARY:SI CIO-CISO Dialogue - Nov 12 2020
DESCRIPTION:Topic TBD\nThis is an invitation-only event.  For more information\, fill out the form\, below.\n\n \n\n\n\n\n Name (required)\n \n\nEmail (required):\n \n\nTitle (required):\n \n\n>> Ple [...]
URL:https://scottsdaleinstitute.org/event/si-cio-ciso-dialogue-nov-12-2020/
END:VEVENT
END:VCALENDAR