BEGIN:VCALENDAR
VERSION:2.0
PRODID:-//Scottsdale Institute - ECPv6.8.0//NONSGML v1.0//EN
CALSCALE:GREGORIAN
METHOD:PUBLISH
X-WR-CALNAME:Scottsdale Institute
X-ORIGINAL-URL:https://scottsdaleinstitute.org
X-WR-CALDESC:Events for Scottsdale Institute
REFRESH-INTERVAL;VALUE=DURATION:PT1H
X-Robots-Tag:noindex
X-PUBLISHED-TTL:PT1H
BEGIN:VTIMEZONE
TZID:America/Chicago
BEGIN:DAYLIGHT
TZOFFSETFROM:-0600
TZOFFSETTO:-0500
TZNAME:CDT
DTSTART:20240310T080000
END:DAYLIGHT
BEGIN:STANDARD
TZOFFSETFROM:-0500
TZOFFSETTO:-0600
TZNAME:CST
DTSTART:20241103T070000
END:STANDARD
BEGIN:DAYLIGHT
TZOFFSETFROM:-0600
TZOFFSETTO:-0500
TZNAME:CDT
DTSTART:20250309T080000
END:DAYLIGHT
BEGIN:STANDARD
TZOFFSETFROM:-0500
TZOFFSETTO:-0600
TZNAME:CST
DTSTART:20251102T070000
END:STANDARD
END:VTIMEZONE
BEGIN:VEVENT
DTSTART;TZID=America/Chicago:20250611T130000
DTEND;TZID=America/Chicago:20250611T140000
DTSTAMP:20260420T074105
CREATED:20250421T135018Z
LAST-MODIFIED:20250707T195936Z
UID:70790-1749646800-1749650400@scottsdaleinstitute.org
SUMMARY:WEBINAR | Centering Social Determinants of Health and Leveraging Digital Health Solutions\, Healthcare Delivery Models\, and Innovation to Impact the Life Expectancy Gap
DESCRIPTION:Garth Walker\, MD\, Chief Medical Officer\, Rush Health. This webinar reflects on Dr. Walker’s career and Rush’s mission to align digital innovation and strategic partnerships to addre [...]
URL:https://scottsdaleinstitute.org/event/webinar-centering-social-determinants-of-health-and-leveraging-digital-health-solutions-healthcare-delivery-models-and-innovation-to-impact-the-life-expectancy-gap/
END:VEVENT
BEGIN:VEVENT
DTSTART;TZID=America/Chicago:20250605T130000
DTEND;TZID=America/Chicago:20250605T140000
DTSTAMP:20260420T074105
CREATED:20250516T142424Z
LAST-MODIFIED:20250707T200236Z
UID:71047-1749128400-1749132000@scottsdaleinstitute.org
SUMMARY:WEBINAR | AI in Healthcare: Froedtert ThedaCare Health & the Medical College of Wisconsin Health Network’s Approach - Part 1
DESCRIPTION:Brad Crotty\, MD\, MPH\, VP\, Chief Digital Officer; and Melek Somai\, MD\, Chief Technology Officer present Part 1 of the Froedtert ThedaCare Health and Medical College of Wisconsin Healt [...]
URL:https://scottsdaleinstitute.org/event/webinar-ai-in-healthcare-froedtert-thedacare-health-the-medical-college-of-wisconsin-health-networks-approach-part-1/
END:VEVENT
BEGIN:VEVENT
DTSTART;VALUE=DATE:20250529
DTEND;VALUE=DATE:20250531
DTSTAMP:20260420T074105
CREATED:20250224T202727Z
LAST-MODIFIED:20260415T002016Z
UID:69964-1748476800-1748649599@scottsdaleinstitute.org
SUMMARY:SUMMIT | 2025 CISO - Future-Proofing Healthcare Cybersecurity: AI\, Cloud Transformation\, and Capabilities for Tomorrow
DESCRIPTION:Future-Proofing Healthcare Cybersecurity: AI\, Cloud Transformation\, and Capabilities for Tomorrow\n\nMay 29-30\, 2025\nSI CISO Summit and Site Visit\nSponsored by Deloitte\nHosted by Har [...]
URL:https://scottsdaleinstitute.org/event/summit-2025-ciso-future-proofing-healthcare-cybersecurity-ai-cloud-transformation-and-capabilities-for-tomorrow/
ATTACH;FMTTYPE=image/jpeg:https://scottsdaleinstitute.org/wp-content/uploads/2025/02/ciso.jpg
END:VEVENT
BEGIN:VEVENT
DTSTART;TZID=America/Chicago:20250515T130000
DTEND;TZID=America/Chicago:20250515T140000
DTSTAMP:20260420T074105
CREATED:20250425T144340Z
LAST-MODIFIED:20250709T164651Z
UID:70823-1747314000-1747317600@scottsdaleinstitute.org
SUMMARY:WEBINAR | When C-Suite Leaders Are Aligned\, Health Systems Can Improve Technology Transformation
DESCRIPTION:Christy Lemak\, Executive Vice President\, Scottsdale Institute; Tim Skeen\, EVP\, CIO\, Sentara Healthcare; Michael T. Black\, Managing Director\, Deloitte; and Maulesh Shukla\, Executive [...]
URL:https://scottsdaleinstitute.org/event/when-c-suite-leaders-are-aligned-health-systems-can-improve-technology-transformation/
END:VEVENT
BEGIN:VEVENT
DTSTART;TZID=America/Chicago:20250416T130000
DTEND;TZID=America/Chicago:20250416T140000
DTSTAMP:20260420T074105
CREATED:20250122T160806Z
LAST-MODIFIED:20260323T170946Z
UID:69625-1744808400-1744812000@scottsdaleinstitute.org
SUMMARY:WEBINAR | Shifting from Value-Based Care to Delivering High Value Care
DESCRIPTION:Kelly Garrison\, MBA\, MHA\, Chief Transformation Officer; and Mark Collins\, MD\, FAAFP\, Chief Operating Officer\, One Health\, Advocate Health. This webinar discusses the world of value [...]
URL:https://scottsdaleinstitute.org/event/webinar-shifting-from-value-based-care-to-delivering-high-value-care/
END:VEVENT
BEGIN:VEVENT
DTSTART;TZID=America/Chicago:20250320T140000
DTEND;TZID=America/Chicago:20250320T150000
DTSTAMP:20260420T074105
CREATED:20250113T195504Z
LAST-MODIFIED:20260416T163918Z
UID:69493-1742479200-1742482800@scottsdaleinstitute.org
SUMMARY:DIALOGUE | CISO | "Center for Healthcare Cybersecurity at UCSD"
DESCRIPTION:Dr. Christian Dameff\, M.D.\, M.S.\, FACEP\, Medical Director of Cybersecurity\, University of California San Diego Health\, and Co-Director of the UC San Diego Center for Healthcare Cyber [...]
URL:https://scottsdaleinstitute.org/event/dialogue-ciso-center-for-healthcare-cybersecurity-at-ucsd/
END:VEVENT
BEGIN:VEVENT
DTSTART;TZID=America/Chicago:20250218T130000
DTEND;TZID=America/Chicago:20250218T140000
DTSTAMP:20260420T074105
CREATED:20250123T150551Z
LAST-MODIFIED:20250708T223036Z
UID:69634-1739883600-1739887200@scottsdaleinstitute.org
SUMMARY:WEBINAR | Responsible AI Governance in Oncology at Memorial Sloan Kettering Cancer Center
DESCRIPTION:Peter Stetson\, MD\, MA\, Chief Health Informatics Officer at MSK focuses on real-world governance of AI in oncology. He reports on their AI Governance Committee’s 1-year experience and  [...]
URL:https://scottsdaleinstitute.org/event/webinar-responsible-ai-governance-in-oncology/
END:VEVENT
BEGIN:VEVENT
DTSTART;TZID=America/Chicago:20250211T130000
DTEND;TZID=America/Chicago:20250211T140000
DTSTAMP:20260420T074105
CREATED:20250107T160835Z
LAST-MODIFIED:20260323T170949Z
UID:69386-1739278800-1739282400@scottsdaleinstitute.org
SUMMARY:WEBINAR | Accelerating Healthcare with AI: A Deep Dive into Bronson's AI Activation
DESCRIPTION:Join us as Ash Goel\, MD\, Bronson Healthcare’s Chief Information Officer and Amit Jindal\, Senior Partner at Chartis\, share Bronson’s groundbreaking journey into the realm of AI. Thi [...]
URL:https://scottsdaleinstitute.org/event/webinar-accelerating-healthcare-with-ai-a-deep-dive-into-bronsons-ai-activation/
END:VEVENT
BEGIN:VEVENT
DTSTART;TZID=America/Chicago:20250206T130000
DTEND;TZID=America/Chicago:20250206T140000
DTSTAMP:20260420T074105
CREATED:20250113T194431Z
LAST-MODIFIED:20250708T221655Z
UID:69482-1738846800-1738850400@scottsdaleinstitute.org
SUMMARY:WEBINAR | From Free Agents to Loyal Patients: Piedmont's Digital Strategy for Healthcare Access
DESCRIPTION:With a vast array of new care options right at their fingertips\, a growing number of patients have become “free agents”. They expect convenient\, accessible\, and mobile-friendly expe [...]
URL:https://scottsdaleinstitute.org/event/webinar-how-piedmont-has-reduced-time-to-care-with-a-modern-patient-first-approach/
END:VEVENT
BEGIN:VEVENT
DTSTART;TZID=America/Chicago:20250205T130000
DTEND;TZID=America/Chicago:20250205T140000
DTSTAMP:20260420T074105
CREATED:20250110T153846Z
LAST-MODIFIED:20250708T221405Z
UID:69443-1738760400-1738764000@scottsdaleinstitute.org
SUMMARY:WEBINAR | Innovating for Impact: Real-World Approaches to Advancing Health Using Data Science and AI
DESCRIPTION:Arash Naeim\, MD\, PhD\, Professor of Medicine in both the Division(s) of Hematology-Oncology & Geriatric Medicine\, David Geffen UCLA School of Medicine; & Greg Dorn\, Senior Vice Preside [...]
URL:https://scottsdaleinstitute.org/event/webinar-innovating-for-impact-real-world-approaches-to-advancing-health-using-data-science-and-ai/
END:VEVENT
BEGIN:VEVENT
DTSTART;TZID=America/Chicago:20250204T130000
DTEND;TZID=America/Chicago:20250204T140000
DTSTAMP:20260420T074105
CREATED:20250113T193014Z
LAST-MODIFIED:20260323T170949Z
UID:69475-1738674000-1738677600@scottsdaleinstitute.org
SUMMARY:WEBINAR | Actionable AI:  How University of Iowa Health Care’s Clinical Intelligence Platform Reduced Cognitive Burden\, Improved Health Outcomes and Boosted Revenue
DESCRIPTION:James M. Blum\, MD\, FCCM\, CDH-E\, Chief Health Information Officer\, University of Iowa; and Kalie Dove-Maguire\, MD\, Chief Product Officer\, Evidently present University of Iowa Health [...]
URL:https://scottsdaleinstitute.org/event/webinar-actionable-ai-how-university-of-iowa-health-cares-clinical-intelligence-platform-reduced-cognitive-burden-improved-health-outcomes-and-boosted-revenue/
END:VEVENT
BEGIN:VEVENT
DTSTART;TZID=America/Chicago:20250130T130000
DTEND;TZID=America/Chicago:20250130T140000
DTSTAMP:20260420T074105
CREATED:20241211T160537Z
LAST-MODIFIED:20250708T220201Z
UID:69243-1738242000-1738245600@scottsdaleinstitute.org
SUMMARY:WEBINAR | AI Policy Beat – Emerging Federal and State Policy Priorities
DESCRIPTION:Mark Sendak\, MD\, MPP\, Population Health & Data Science Lead\, Duke Institute for Health Innovation (DIHI) ; & Jared Augenstein\, Managing Director\, Manatt Health. The AI legal and regu [...]
URL:https://scottsdaleinstitute.org/event/webinar-ai-policy-beat-emerging-federal-and-state-policy-priorities/
END:VEVENT
BEGIN:VEVENT
DTSTART;TZID=America/Chicago:20250115T130000
DTEND;TZID=America/Chicago:20250115T140000
DTSTAMP:20260420T074105
CREATED:20250107T150132Z
LAST-MODIFIED:20260323T170950Z
UID:69373-1736946000-1736949600@scottsdaleinstitute.org
SUMMARY:FIRESIDE CHAT | Providence Global Innovation Center:  A New Global Capability Model Transforming Operations\, Improving Performance and Patient & Caregiver Experiences
DESCRIPTION:Murali Krishna\, Chief Global Officer & Country Head at Providence presents the Providence Global Innovation Center\, a specialized global healthcare engineering\, operations and innovati [...]
URL:https://scottsdaleinstitute.org/event/webinar-providence-global-innovation-center-a-new-model-transforming-operations-improving-performance-and-patient-caregiver-experiences/
END:VEVENT
BEGIN:VEVENT
DTSTART;TZID=America/Chicago:20250109T130000
DTEND;TZID=America/Chicago:20250109T140000
DTSTAMP:20260420T074105
CREATED:20241211T193007Z
LAST-MODIFIED:20250708T210611Z
UID:69249-1736427600-1736431200@scottsdaleinstitute.org
SUMMARY:WEBINAR | Moving Health Forward: Lessons from a CDIO
DESCRIPTION:Jeﬀ Sturman\, Senior Vice President\, Chief Digital Oﬃcer\, Memorial Healthcare System/South Broward Hospital District; and John Kravitz\, Vice President\, Healthcare\, Workday. Provid [...]
URL:https://scottsdaleinstitute.org/event/webinar-moving-health-forward-lessons-from-a-cdio/
END:VEVENT
BEGIN:VEVENT
DTSTART;TZID=America/Chicago:20241211T130000
DTEND;TZID=America/Chicago:20241211T140000
DTSTAMP:20260420T074105
CREATED:20241113T170044Z
LAST-MODIFIED:20250402T195355Z
UID:68915-1733922000-1733925600@scottsdaleinstitute.org
SUMMARY:WEBINAR | Current State Adoption of AI Predictive Models in Clinical Practice
DESCRIPTION:Clinical adoption of AI-based tools faces challenges and opportunities alike. Juan C. Rojas\, MD\, MS\, Associate Chief Medical Information Officer at Rush University System for Health\, c [...]
URL:https://scottsdaleinstitute.org/event/webinar-current-state-adoption-of-ai-predictive-models-in-clinical-practice/
END:VEVENT
BEGIN:VEVENT
DTSTART;TZID=America/Chicago:20241114T130000
DTEND;TZID=America/Chicago:20241114T140000
DTSTAMP:20260420T074105
CREATED:20241001T165411Z
LAST-MODIFIED:20260323T170952Z
UID:68471-1731589200-1731592800@scottsdaleinstitute.org
SUMMARY:FIRESIDE CHAT / WEBINAR | 2024 Election Impacts on Healthcare
DESCRIPTION:Join us for an insightful and interactive Fireside Chat featuring two prominent healthcare industry leaders\, Paul Keckley\, Ph.D.\, Managing Editor\, The Keckley Report\, Healthcare Polic [...]
URL:https://scottsdaleinstitute.org/event/fireside-chat-webinar-2024-election-impacts-on-healthcare/
END:VEVENT
BEGIN:VEVENT
DTSTART;TZID=America/Chicago:20241107T130000
DTEND;TZID=America/Chicago:20241107T140000
DTSTAMP:20260420T074105
CREATED:20241007T132548Z
LAST-MODIFIED:20250402T195356Z
UID:68529-1730984400-1730988000@scottsdaleinstitute.org
SUMMARY:WEBINAR | Do you know? HHS Information Blocking Disincentives Final Rule
DESCRIPTION:Alexander Baker\, Senior Policy Advisor at the U.S. Department of Health and Human Services Office of the National Coordinator for Health Information Technology presents a deep dive look i [...]
URL:https://scottsdaleinstitute.org/event/webinar-do-you-know-hhs-information-blocking-disincentives-final-rule/
END:VEVENT
BEGIN:VEVENT
DTSTART;TZID=America/Chicago:20241105T130000
DTEND;TZID=America/Chicago:20241105T140000
DTSTAMP:20260420T074105
CREATED:20240918T154004Z
LAST-MODIFIED:20250402T195356Z
UID:68292-1730811600-1730815200@scottsdaleinstitute.org
SUMMARY:WEBINAR | How an Industry Collaboration is Advancing Multi Modal Data Models for Better Patient Outcomes and Innovative Care
DESCRIPTION:Richard Bruce\, MD\, Vice Chair of Informatics\, University of Wisconsin-Madison; and Matt Lungren\, MD\, MPH\, Chief Data Science Officer\, Microsoft. With a new open source for healthcar [...]
URL:https://scottsdaleinstitute.org/event/webinar-how-an-industry-collaboration-is-advancing-multi-modal-data-models-for-better-patient-outcomes-and-innovative-care/
END:VEVENT
BEGIN:VEVENT
DTSTART;TZID=America/Chicago:20241030T130000
DTEND;TZID=America/Chicago:20241030T140000
DTSTAMP:20260420T074105
CREATED:20241004T124931Z
LAST-MODIFIED:20260323T170953Z
UID:68523-1730293200-1730296800@scottsdaleinstitute.org
SUMMARY:WEBINAR | Sentara Health’s Centralized Home Health Care Delivery Model
DESCRIPTION:As patient care moves more assertively into people’s homes\, the models of care are evolving clinically and operationally. Sherry Kesler\, Director of Home Health Services at Sentara Hea [...]
URL:https://scottsdaleinstitute.org/event/webinar-sentara-healths-centralized-home-health-care-delivery-model/
END:VEVENT
BEGIN:VEVENT
DTSTART;TZID=America/Chicago:20241029T130000
DTEND;TZID=America/Chicago:20241029T140000
DTSTAMP:20260420T074105
CREATED:20240816T151905Z
LAST-MODIFIED:20250402T195356Z
UID:67807-1730206800-1730210400@scottsdaleinstitute.org
SUMMARY:WEBINAR | A Discussion with the Virtual First Care (V1C) Coalition by the Digital Medicine Society (DiMe): How Health Systems Can Keep Pace in an Evolving Landscape with V1C
DESCRIPTION:Abby Sugg\, MSHCM\, Associate Program Director\, Digital Medicine Society (DiMe). Join us for an enlightening follow-up webinar from the Digital Medicine Society on the Virtual First Care  [...]
URL:https://scottsdaleinstitute.org/event/webinar-a-discussion-with-the-virtual-first-care-v1c-coalition-by-the-digital-medicine-society-dime-how-health-systems-can-keep-pace-in-an-evolving-landscape-with-v1c/
END:VEVENT
BEGIN:VEVENT
DTSTART;TZID=America/Chicago:20241016T150000
DTEND;TZID=America/Chicago:20241016T160000
DTSTAMP:20260420T074105
CREATED:20241002T202106Z
LAST-MODIFIED:20241017T160558Z
UID:68516-1729090800-1729094400@scottsdaleinstitute.org
SUMMARY:WEBCAST | Health Industry Cybersecurity Benchmarks Study Launch Webcast
DESCRIPTION:The Scottsdale Institute is delighted to encourage our members to participate in this year’s Healthcare Cybersecurity Benchmarking Study led by Censinet.  As cyberattacks increasingly [...]
URL:https://scottsdaleinstitute.org/event/webcast-health-industry-cybersecurity-benchmarks-study-launch-webcast/
END:VEVENT
BEGIN:VEVENT
DTSTART;TZID=America/Chicago:20241016T130000
DTEND;TZID=America/Chicago:20241016T140000
DTSTAMP:20260420T074105
CREATED:20240925T142911Z
LAST-MODIFIED:20250402T195356Z
UID:68405-1729083600-1729087200@scottsdaleinstitute.org
SUMMARY:WEBINAR | The DiMe Seal: A Symbol of Quality and Trust for Health Systems to Evaluate Digital Health Software Products
DESCRIPTION:In a rapidly evolving digital health landscape\, identifying high-quality\, trustworthy software products to support your patients\, your own operations\, and advance your digital strategi [...]
URL:https://scottsdaleinstitute.org/event/webinar-the-dime-seal-a-symbol-of-quality-and-trust-for-health-systems-to-evaluate-digital-health-software-products/
END:VEVENT
BEGIN:VEVENT
DTSTART;TZID=America/Chicago:20241015T120000
DTEND;TZID=America/Chicago:20241015T130000
DTSTAMP:20260420T074105
CREATED:20240522T155313Z
LAST-MODIFIED:20260323T170954Z
UID:66722-1728993600-1728997200@scottsdaleinstitute.org
SUMMARY:FIRESIDE CHAT / WEBINAR | Industry Expert Joe Kvedar: Updates in the Ever-Changing World of Virtual Care
DESCRIPTION:Join a timely conversation between Joseph C. Kvedar\, MD\, Professor of Dermatology\, Harvard Medical School\, Senior Advisor\, ATA (American Telemedicine Association)\, Co-chair\, AMA Di [...]
URL:https://scottsdaleinstitute.org/event/webinar-updates-in-the-ever-changing-world-of-virtual-care/
END:VEVENT
BEGIN:VEVENT
DTSTART;TZID=America/Chicago:20240911T130000
DTEND;TZID=America/Chicago:20240911T140000
DTSTAMP:20260420T074105
CREATED:20240816T164904Z
LAST-MODIFIED:20260323T170957Z
UID:67815-1726059600-1726063200@scottsdaleinstitute.org
SUMMARY:WEBINAR | Centering Physicians in Documentation Integrity
DESCRIPTION:Kearstin Jorgenson\, MS\, CCS\, CIC\, CPC\, COC\, Operations Director\, Intermountain Physician Advisor Services (IPAS); and Sathya Vijayakumar\, MS\, MBA\, Clinical Operations Director\,  [...]
URL:https://scottsdaleinstitute.org/event/webinar-centering-physicians-in-documentation-integrity/
END:VEVENT
BEGIN:VEVENT
DTSTART;TZID=America/Chicago:20240910T130000
DTEND;TZID=America/Chicago:20240910T140000
DTSTAMP:20260420T074105
CREATED:20240828T204526Z
LAST-MODIFIED:20250319T193653Z
UID:67953-1725973200-1725976800@scottsdaleinstitute.org
SUMMARY:WEBINAR | Navigating the Future of Healthcare Informatics: A Fireside Chat between Judy Kirby\, CEO of Kirby Partners and Lacy Knight\, MD\, MS\, VP and Chief Health Informatics Officer at Piedmont Healthcare
DESCRIPTION:Join us for an exclusive Fireside Chat between Judy Kirby\, CEO of Kirby Partners and Lacy Knight\, MD\, MS\, VP and Chief Health Informatics Officer at Piedmont Healthcare as we explore t [...]
URL:https://scottsdaleinstitute.org/event/webinar-navigating-the-future-of-healthcare-informatics-a-fireside-chat-between-judy-kirby-ceo-of-kirby-partners-and-lacy-knight-md-ms-vp-and-chief-health-informatics-officer-at-piedmont-health/
END:VEVENT
BEGIN:VEVENT
DTSTART;TZID=America/Chicago:20240904T130000
DTEND;TZID=America/Chicago:20240904T140000
DTSTAMP:20260420T074105
CREATED:20240816T154326Z
LAST-MODIFIED:20260323T170957Z
UID:67813-1725454800-1725458400@scottsdaleinstitute.org
SUMMARY:FIRESIDE CHAT / WEBINAR | The AI Movement Underway in Nursing: How Breakthrough Technologies\, Partnerships and NURSES are Fueling Industry Transformation
DESCRIPTION:Kay Lytle\, DNP\, RN\, NI-BC\, NEA-BC\, CPHIMS\, ACHIP\, FHIMSS\, FAMIA\, Chief Nursing Information Officer\, Duke University Health System; and Mary Varghese Presti\, RN\, VP\, Portfolio [...]
URL:https://scottsdaleinstitute.org/event/fireside-chat-webinar-the-ai-movement-underway-in-nursing-how-breakthrough-technologies-partnerships-and-nurses-are-fueling-industry-transformation/
END:VEVENT
BEGIN:VEVENT
DTSTART;TZID=America/Chicago:20240730T130000
DTEND;TZID=America/Chicago:20240730T140000
DTSTAMP:20260420T074105
CREATED:20240529T163249Z
LAST-MODIFIED:20250319T192023Z
UID:66743-1722344400-1722348000@scottsdaleinstitute.org
SUMMARY:WEBINAR | Ensuring Business Resiliency: Recovering from Inevitable Cyber Breaches
DESCRIPTION:Marc Johnson\, Director; and James Rountree\, Director\, Impact Advisors.  It has taken affected organizations a significant amount of time to recover from recent and high-profile ransom [...]
URL:https://scottsdaleinstitute.org/event/webinar-ensuring-business-resiliency-recovering-from-inevitable-breaches/
END:VEVENT
BEGIN:VEVENT
DTSTART;TZID=America/Chicago:20240729T150000
DTEND;TZID=America/Chicago:20240729T160000
DTSTAMP:20260420T074105
CREATED:20240521T182449Z
LAST-MODIFIED:20260416T164848Z
UID:66695-1722265200-1722268800@scottsdaleinstitute.org
SUMMARY:Pop-Up DIALOGUE | CISO | CrowdStrike Debrief for CISOs
DESCRIPTION:Dialogue Digest
URL:https://scottsdaleinstitute.org/event/dialogue-ciso-crowdstrike-debrief-for-cisos/
END:VEVENT
BEGIN:VEVENT
DTSTART;TZID=America/Chicago:20240725T130000
DTEND;TZID=America/Chicago:20240725T140000
DTSTAMP:20260420T074105
CREATED:20240625T184326Z
LAST-MODIFIED:20250319T191809Z
UID:67001-1721912400-1721916000@scottsdaleinstitute.org
SUMMARY:WEBINAR | Cutting Edge Talent and Leadership Development in the Era of AI
DESCRIPTION:Join us for an insightful session with David Mayfield\, PhD\, Korn Ferry\, as he introduces two innovative Talent and Leadership Development practice areas that are critical for cultivatin [...]
URL:https://scottsdaleinstitute.org/event/webinar-cutting-edge-talent-and-leadership-development-in-the-era-of-ai/
END:VEVENT
BEGIN:VEVENT
DTSTART;TZID=America/Chicago:20240724T150000
DTEND;TZID=America/Chicago:20240724T160000
DTSTAMP:20260420T074105
CREATED:20240521T182025Z
LAST-MODIFIED:20260416T165828Z
UID:66688-1721833200-1721836800@scottsdaleinstitute.org
SUMMARY:Pop-Up DIALOGUE | CIO | "CrowdStrike" Debrief for CIOs
DESCRIPTION:Dialogue Digest
URL:https://scottsdaleinstitute.org/event/dialogue-cio-crowdstrike-debrief-for-cios/
END:VEVENT
END:VCALENDAR