BEGIN:VCALENDAR
VERSION:2.0
PRODID:-//Scottsdale Institute - ECPv6.8.0//NONSGML v1.0//EN
CALSCALE:GREGORIAN
METHOD:PUBLISH
X-WR-CALNAME:Scottsdale Institute
X-ORIGINAL-URL:https://scottsdaleinstitute.org
X-WR-CALDESC:Events for Scottsdale Institute
REFRESH-INTERVAL;VALUE=DURATION:PT1H
X-Robots-Tag:noindex
X-PUBLISHED-TTL:PT1H
BEGIN:VTIMEZONE
TZID:America/Chicago
BEGIN:DAYLIGHT
TZOFFSETFROM:-0600
TZOFFSETTO:-0500
TZNAME:CDT
DTSTART:20220313T080000
END:DAYLIGHT
BEGIN:STANDARD
TZOFFSETFROM:-0500
TZOFFSETTO:-0600
TZNAME:CST
DTSTART:20221106T070000
END:STANDARD
BEGIN:DAYLIGHT
TZOFFSETFROM:-0600
TZOFFSETTO:-0500
TZNAME:CDT
DTSTART:20230312T080000
END:DAYLIGHT
BEGIN:STANDARD
TZOFFSETFROM:-0500
TZOFFSETTO:-0600
TZNAME:CST
DTSTART:20231105T070000
END:STANDARD
END:VTIMEZONE
BEGIN:VEVENT
DTSTART;TZID=America/Chicago:20230802T120000
DTEND;TZID=America/Chicago:20230802T130000
DTSTAMP:20260420T164822
CREATED:20230406T171234Z
LAST-MODIFIED:20250319T192313Z
UID:60849-1690977600-1690981200@scottsdaleinstitute.org
SUMMARY:WEBINAR | From Theory to Reality: How AI is Transforming Healthcare
DESCRIPTION:Jeffrey Sturman\, SVP & Chief Digital Officer; Benjamin Freedman\, MD\, Chief of Radiology\, Memorial Healthcare System; and Elad Walach\, CEO\, Aidoc. In this webinar\, you can gain valua [...]
URL:https://scottsdaleinstitute.org/event/webinar-from-theory-to-reality-how-ai-is-transforming-healthcare/
END:VEVENT
BEGIN:VEVENT
DTSTART;TZID=America/Chicago:20230801T130000
DTEND;TZID=America/Chicago:20230801T140000
DTSTAMP:20260420T164822
CREATED:20230406T163221Z
LAST-MODIFIED:20260218T190626Z
UID:60836-1690894800-1690898400@scottsdaleinstitute.org
SUMMARY:WEBINAR | Meeting Patients Where They Are: How Cleveland Clinic Modernized the Patient Experience with Omnichannel AI
DESCRIPTION:Sarah Hatchett\, CH-CHIO\, MBA\, PMP\, Interim CIO\, Cleveland Clinic; and Peter Durlach\, CVP\, Chief Strategy Officer\, Health & Life Sciences\, Microsoft. In the depths of the pandemic\ [...]
URL:https://scottsdaleinstitute.org/event/webinar-meeting-patients-where-they-are-how-cleveland-clinic-modernized-the-patient-experience-with-omnichannel-ai/
END:VEVENT
BEGIN:VEVENT
DTSTART;TZID=America/Chicago:20230727T130000
DTEND;TZID=America/Chicago:20230727T140000
DTSTAMP:20260420T164822
CREATED:20230629T135847Z
LAST-MODIFIED:20251203T015514Z
UID:62212-1690462800-1690466400@scottsdaleinstitute.org
SUMMARY:FIRESIDE CHAT / WEBINAR | Accelerating Value: M&A Strategies to Drive the Digital Future of Health at Scale
DESCRIPTION:Jason Joseph\, Chief Digital and Information Officer\, Corewell Health; and John Kravitz\, Head of Healthcare Industry GTM\, Workday. As the growing cost of healthcare in the United States [...]
URL:https://scottsdaleinstitute.org/event/webinar-fireside-chat-accelerating-value-ma-strategies-to-drive-the-digital-future-of-health-at-scale/
END:VEVENT
BEGIN:VEVENT
DTSTART;TZID=America/Chicago:20230726T130000
DTEND;TZID=America/Chicago:20230726T140000
DTSTAMP:20260420T164822
CREATED:20230616T145404Z
LAST-MODIFIED:20251203T015514Z
UID:62082-1690376400-1690380000@scottsdaleinstitute.org
SUMMARY:FIRESIDE CHAT / WEBINAR | Initiating and Implementing Innovation: The Use of Technology in Virtual Nursing at CommonSpirit
DESCRIPTION:Kathy Sanford\, DBA\, RN\, FAAN\, FACHE\, EVP and Chief Nursing Officer; and Linda Goodwin\, RN\, MSN\, MBA\, NEA-BC\, FACHE\, SVP\, Nursing Innovation\, Transformation\, Virtual Nursing a [...]
URL:https://scottsdaleinstitute.org/event/fireside-chat-webinar-initiating-and-implementing-innovation-the-use-of-technology-in-virtual-nursing/
END:VEVENT
BEGIN:VEVENT
DTSTART;TZID=America/Chicago:20230712T130000
DTEND;TZID=America/Chicago:20230712T140000
DTSTAMP:20260420T164822
CREATED:20230406T165308Z
LAST-MODIFIED:20250319T193733Z
UID:60841-1689166800-1689170400@scottsdaleinstitute.org
SUMMARY:WEBINAR | Bringing the Joy Back to Medicine Through AI And Automation
DESCRIPTION:Doug King\, SVP\, CIO\, Northwestern Medicine; and Stephanie Lahr\, MD\, CHCIO\, President of Artisight\, Former CIO and CMIO\, Monument Health. The healthcare industry is facing a combina [...]
URL:https://scottsdaleinstitute.org/event/webinar-bringing-the-joy-back-to-medicine-through-ai-and-automation/
END:VEVENT
BEGIN:VEVENT
DTSTART;TZID=America/Chicago:20230622T130000
DTEND;TZID=America/Chicago:20230622T140000
DTSTAMP:20260420T164822
CREATED:20230525T133621Z
LAST-MODIFIED:20250319T192313Z
UID:61680-1687438800-1687442400@scottsdaleinstitute.org
SUMMARY:WEBINAR | Digital Transformation in Healthcare: Getting Back to Basics
DESCRIPTION:Aaron Warren\, Vice President of Digital Growth; and Keri McCrensky\, Vice President of Healthcare Digital Transformation\, EXL Health. In the healthcare industry\, there’s been a massiv [...]
URL:https://scottsdaleinstitute.org/event/webinar-digital-transformation-in-healthcare-getting-back-to-basics/
END:VEVENT
BEGIN:VEVENT
DTSTART;TZID=America/Chicago:20230621T130000
DTEND;TZID=America/Chicago:20230621T140000
DTSTAMP:20260420T164822
CREATED:20230531T152027Z
LAST-MODIFIED:20250319T193733Z
UID:61897-1687352400-1687356000@scottsdaleinstitute.org
SUMMARY:WEBINAR | Drug Diversion: The Never-ending Chase
DESCRIPTION:Kenneth Mishark\, MD\, SFHM\, FACP\, Chair of Orders and Protocol Group\, Mayo Clinic. Drug diversion is the theft of medications for personal use or profit. The Mayo Clinic’s Dr. Ken Mi [...]
URL:https://scottsdaleinstitute.org/event/webinar-drug-diversion-the-never-ending-chase/
END:VEVENT
BEGIN:VEVENT
DTSTART;TZID=America/Chicago:20230620T130000
DTEND;TZID=America/Chicago:20230620T140000
DTSTAMP:20260420T164822
CREATED:20230523T140012Z
LAST-MODIFIED:20250319T192313Z
UID:61676-1687266000-1687269600@scottsdaleinstitute.org
SUMMARY:WEBINAR | Establishing AI Governance: Real-World Challenges & Best Practices
DESCRIPTION:Liam Bouchier\, Vice President; Victor Collins\, Advanced Intelligence (Data Science) Service Line Lead; and Petrina Griesbach\, RN\, MSBI\, CPHQ\, CPPS\, Senior Leader Healthcare Data Sci [...]
URL:https://scottsdaleinstitute.org/event/webinar-establishing-ai-governance-real-world-challenges-best-practices/
END:VEVENT
BEGIN:VEVENT
DTSTART;TZID=America/Chicago:20230607T150000
DTEND;TZID=America/Chicago:20230607T160000
DTSTAMP:20260420T164822
CREATED:20230103T151235Z
LAST-MODIFIED:20260415T023844Z
UID:58312-1686150000-1686153600@scottsdaleinstitute.org
SUMMARY:DIALOGUE | CIO + CISO "AI and Emerging Technology"
DESCRIPTION:Christy Wheaton\, VP\, Chief Information Privacy and Security Officer\, Henry Ford Health\nDiscussion Questions:\n\nWhat is your stance on AI? Embracing\, blocking? If so\, what and how? s [...]
URL:https://scottsdaleinstitute.org/event/dialogue-cio-ciso-jun-7-2023/
END:VEVENT
BEGIN:VEVENT
DTSTART;TZID=America/Chicago:20230511T130000
DTEND;TZID=America/Chicago:20230511T140000
DTSTAMP:20260420T164822
CREATED:20230428T164519Z
LAST-MODIFIED:20250319T193520Z
UID:61157-1683810000-1683813600@scottsdaleinstitute.org
SUMMARY:WEBINAR | Federal Health IT Update: HTI-1 Proposed Rule\, TEFCA
DESCRIPTION:Micky Tripathi\, PhD\, National Coordinator for Health Information Technology\, U.S. Department of Health and Human Services. Join National Coordinator for Health IT Micky Tripathi to lear [...]
URL:https://scottsdaleinstitute.org/event/webinar-federal-health-it-update-hti-1-proposed-rule-tefca/
END:VEVENT
BEGIN:VEVENT
DTSTART;TZID=America/Chicago:20230509T130000
DTEND;TZID=America/Chicago:20230509T140000
DTSTAMP:20260420T164822
CREATED:20230406T161310Z
LAST-MODIFIED:20250319T193734Z
UID:60823-1683637200-1683640800@scottsdaleinstitute.org
SUMMARY:WEBINAR | Will Generative AI Revolutionize the Field Of Clinical Decision Support?
DESCRIPTION:Scott Weingarten\, MD\, MPH\, Chief Value Officer\, Board Member for Vytalize Health\, President of FJM Health; and David Rhew\, MD\, Global Chief Medical Officer & VP of Healthcare\, Micr [...]
URL:https://scottsdaleinstitute.org/event/webinar-will-generative-ai-revolutionize-the-field-of-clinical-decision-support/
END:VEVENT
BEGIN:VEVENT
DTSTART;TZID=America/Chicago:20230504T130000
DTEND;TZID=America/Chicago:20230504T140000
DTSTAMP:20260420T164822
CREATED:20230406T160521Z
LAST-MODIFIED:20250319T193734Z
UID:60819-1683205200-1683208800@scottsdaleinstitute.org
SUMMARY:WEBINAR | DE&I is a Business Enabler: Why Healthcare Organizations Cannot Take The Foot Off The Pedal
DESCRIPTION:Shajmil Smith\, MHA\, ACC\, Principal\, Healthcare\, Korn Ferry. According to recent reports\, organizations are beginning to reduce DEI leadership roles indicating a decline in commitmen [...]
URL:https://scottsdaleinstitute.org/event/webinar-dei-is-a-business-enabler-why-healthcare-organizations-cannot-take-the-foot-off-the-pedal/
END:VEVENT
BEGIN:VEVENT
DTSTART;TZID=America/Chicago:20230502T130000
DTEND;TZID=America/Chicago:20230502T140000
DTSTAMP:20260420T164822
CREATED:20230406T154945Z
LAST-MODIFIED:20251203T015516Z
UID:60814-1683032400-1683036000@scottsdaleinstitute.org
SUMMARY:WEBINAR / FIRESIDE CHAT  | Home Hospital at Scale: A Fireside Chat with Mass General Brigham
DESCRIPTION:Denise W. Gee\, MD\, Vice Chair of Clinical Operations\, Massachusetts General Hospital\, Clinical Director of Surgical Services; Kevin Whitney\, DNP\, RN\, EMT-P\, COO & CNO; Stephen C. D [...]
URL:https://scottsdaleinstitute.org/event/webinar-fireside-chat-home-hospital-at-scale-a-fireside-chat-with-mass-general-brigham/
END:VEVENT
BEGIN:VEVENT
DTSTART;TZID=America/Chicago:20230425T130000
DTEND;TZID=America/Chicago:20230425T140000
DTSTAMP:20260420T164822
CREATED:20230317T134111Z
LAST-MODIFIED:20250319T193520Z
UID:60408-1682427600-1682431200@scottsdaleinstitute.org
SUMMARY:WEBINAR | Capitalizing on Tighter EHR-ERP Integration
DESCRIPTION:C. Lydon Neumann\, CFCHE\, Vice President\, and Brian Evans\, MS\, Vice President\, Workday Healthcare Practice Leader\, Impact Advisors. There is a significant opportunity for hospitals a [...]
URL:https://scottsdaleinstitute.org/event/webinar-capitalizing-on-tighter-ehr-erp-integration/
END:VEVENT
BEGIN:VEVENT
DTSTART;TZID=America/Chicago:20230405T130000
DTEND;TZID=America/Chicago:20230405T140000
DTSTAMP:20260420T164822
CREATED:20230317T131735Z
LAST-MODIFIED:20251029T154356Z
UID:60404-1680699600-1680703200@scottsdaleinstitute.org
SUMMARY:WEBINAR | Building a More Efficient Digital Transformation
DESCRIPTION:Michael Black\, Managing Director\, and Sahithi Bayana\, Senior Manager\, Deloitte. Healthcare organizations often cite IT spend as a barrier to embarking on a Cloud transformation journey [...]
URL:https://scottsdaleinstitute.org/event/webinar-building-a-more-efficient-digital-transformation/
END:VEVENT
BEGIN:VEVENT
DTSTART;TZID=America/Chicago:20230330T150000
DTEND;TZID=America/Chicago:20230330T160000
DTSTAMP:20260420T164822
CREATED:20230103T150614Z
LAST-MODIFIED:20260415T195906Z
UID:58309-1680188400-1680192000@scottsdaleinstitute.org
SUMMARY:DIALOGUE | CIO + CISO - “FBI CISO Academy Program”
DESCRIPTION:Scott Dresen\, FACHE\, FHIMSS\, CISSP\, CISM\, SVP\, Information Security & CISO\, Corewell Health and Special Agent Mike Glennon\, Private Sector Coordinator (PSC)\, Detroit Field Office\ [...]
URL:https://scottsdaleinstitute.org/event/dialogue-cio-ciso-fbi-ciso-academy-program/
END:VEVENT
BEGIN:VEVENT
DTSTART;TZID=America/Chicago:20230216T130000
DTEND;TZID=America/Chicago:20230216T140000
DTSTAMP:20260420T164822
CREATED:20230124T151036Z
LAST-MODIFIED:20250319T193521Z
UID:59040-1676552400-1676556000@scottsdaleinstitute.org
SUMMARY:WEBINAR | Technology Can’t Fix Problems by Itself: Why You Need an IT Assurance Program
DESCRIPTION:Marc Johnson\, CISO & Senior Advisor\, Impact Advisors. The nature of business leans toward trying to operationalize the swiftest\, most cost-effective solution to solve problems. Technolo [...]
URL:https://scottsdaleinstitute.org/event/webinar-technology-cant-fix-problems-by-itself-why-you-need-an-it-assurance-program/
END:VEVENT
BEGIN:VEVENT
DTSTART;TZID=America/Chicago:20230201T130000
DTEND;TZID=America/Chicago:20230201T140000
DTSTAMP:20260420T164822
CREATED:20230119T195536Z
LAST-MODIFIED:20251203T015517Z
UID:58990-1675256400-1675260000@scottsdaleinstitute.org
SUMMARY:WEBINAR / FIRESIDE CHAT | Addressing the Healthcare Talent Emergency
DESCRIPTION:Olesea Azevedo\, Chief People Officer\, AdventHealth; Ken Abrams\, MD\, MBA\, Chief Medical Officer & Managing Director; Eileen Radis\, MBA\, Principal; Natasha Elsner\, Research Manager\, [...]
URL:https://scottsdaleinstitute.org/event/webinar-addressing-the-healthcare-talent-emergency/
END:VEVENT
BEGIN:VEVENT
DTSTART;TZID=America/Chicago:20230117T130000
DTEND;TZID=America/Chicago:20230117T140000
DTSTAMP:20260420T164822
CREATED:20221220T153145Z
LAST-MODIFIED:20250319T193521Z
UID:58194-1673960400-1673964000@scottsdaleinstitute.org
SUMMARY:WEBINAR | Update from the National Coordinator
DESCRIPTION:Micky Tripathi\, PhD\, MPP\, National Coordinator for Health Information Technology\, U.S. Department of Health and Human Services\, provides updates on the recent and current work to enab [...]
URL:https://scottsdaleinstitute.org/event/webinar-update-from-the-national-coordinator/
END:VEVENT
BEGIN:VEVENT
DTSTART;TZID=America/Chicago:20221207T150000
DTEND;TZID=America/Chicago:20221207T160000
DTSTAMP:20260420T164822
CREATED:20211015T201523Z
LAST-MODIFIED:20230404T000125Z
UID:48291-1670425200-1670428800@scottsdaleinstitute.org
SUMMARY:DIALOGUE | CIO + CISO "A Special Scottsdale Cyber Dialogue to set National Health Cyber Strategy"
DESCRIPTION:Erik Decker\, AVP & CISO\, Intermountain Healthcare. The HSCC Cyber Working Group and HHS is getting ready to update the Healthcare Industry Cybersecurity Report (HCIC) that was released i [...]
URL:https://scottsdaleinstitute.org/event/si-cio-ciso-dialogue-dec-7-2022/
END:VEVENT
BEGIN:VEVENT
DTSTART;TZID=America/Chicago:20221128T130000
DTEND;TZID=America/Chicago:20221128T140000
DTSTAMP:20260420T164822
CREATED:20221122T151545Z
LAST-MODIFIED:20250319T193521Z
UID:57829-1669640400-1669644000@scottsdaleinstitute.org
SUMMARY:WEBINAR | Digital Transformation Implementation: Agile Informatics?
DESCRIPTION:Pete Stetson\, MD\, MA\, CHIO\, Memorial Sloan Kettering Cancer Center.  Dr. Stetson shares a status update\, lessons learned\, and the vision for next steps on executing a digital transf [...]
URL:https://scottsdaleinstitute.org/event/webinar-digital-transformation-implementation-agile-informatics/
END:VEVENT
BEGIN:VEVENT
DTSTART;TZID=America/Chicago:20221122T130000
DTEND;TZID=America/Chicago:20221122T140000
DTSTAMP:20260420T164822
CREATED:20221103T190936Z
LAST-MODIFIED:20250319T193521Z
UID:57502-1669122000-1669125600@scottsdaleinstitute.org
SUMMARY:WEBINAR | State of the Healthcare Workforce: Top 5 Key Drivers of Retention
DESCRIPTION:Jessica Dudley\, MD\, Chief Clinical Officer\, Press Ganey. Top-tier healthcare organizations strive to continually improve their employees’ experience. But the global pandemic has left  [...]
URL:https://scottsdaleinstitute.org/event/webinar-state-of-the-healthcare-workforce-top-5-key-drivers-of-retention/
END:VEVENT
BEGIN:VEVENT
DTSTART;TZID=America/Chicago:20221110T130000
DTEND;TZID=America/Chicago:20221110T140000
DTSTAMP:20260420T164822
CREATED:20221011T182849Z
LAST-MODIFIED:20251203T015518Z
UID:56906-1668085200-1668088800@scottsdaleinstitute.org
SUMMARY:WEBINAR / FIRESIDE CHAT | A Case for Digital Engagement: Trends and Challenges in Telehealth
DESCRIPTION:Heidi West\, Head of Healthcare\, Zoom; and Bill Shickolovich\, Senior Vice President\, Optum.  Every healthcare organization learned something from the pandemic. Many learned how they wo [...]
URL:https://scottsdaleinstitute.org/event/webinar-a-case-for-digital-engagement-trends-and-challenges-in-telehealth/
END:VEVENT
BEGIN:VEVENT
DTSTART;TZID=America/Chicago:20220928T150000
DTEND;TZID=America/Chicago:20220928T160000
DTSTAMP:20260420T164822
CREATED:20211015T201504Z
LAST-MODIFIED:20230404T000127Z
UID:48290-1664377200-1664380800@scottsdaleinstitute.org
SUMMARY:DIALOGUE | CIO + CISO "ERM and Cybersecurity"
DESCRIPTION:Ron Mehring\, Chief Information Security Officer & Vice President – Technology & Security / ITS – ERM and Cybersecurity
URL:https://scottsdaleinstitute.org/event/si-cio-ciso-dialogue-sep-28-2022/
END:VEVENT
BEGIN:VEVENT
DTSTART;TZID=America/Chicago:20220921T130000
DTEND;TZID=America/Chicago:20220921T140000
DTSTAMP:20260420T164822
CREATED:20220726T212958Z
LAST-MODIFIED:20250319T193522Z
UID:55206-1663765200-1663768800@scottsdaleinstitute.org
SUMMARY:WEBINAR | Clinician of the Future
DESCRIPTION:Thomas Erlinger\, MD\, MPH\, Vice President\, Clinical Analytics\, and Teresa Mueller\, MS\, Global Vice President\, Communications\, Elsevier Health. Over the next 10 years\, the healthca [...]
URL:https://scottsdaleinstitute.org/event/webinar-clinician-of-the-future/
END:VEVENT
BEGIN:VEVENT
DTSTART;TZID=America/Chicago:20220727T130000
DTEND;TZID=America/Chicago:20220727T140000
DTSTAMP:20260420T164822
CREATED:20220523T183110Z
LAST-MODIFIED:20250319T193523Z
UID:54275-1658926800-1658930400@scottsdaleinstitute.org
SUMMARY:WEBINAR | Intelligent Infrastructure is Key to Unleashing Pharmacy Transformation 
DESCRIPTION:Jillian Foster\, PharmD\, MBA\, FACHE\, FASHP\, System Pharmacy Service Line Administrator\, Baptist Memorial Health Care Corporation\, Memphis; Allen Flynn\, PhD\, PharmD\, Director of Ma [...]
URL:https://scottsdaleinstitute.org/event/webinar-intelligent-infrastructure-is-key-to-unleashing-pharmacy-transformation/
END:VEVENT
BEGIN:VEVENT
DTSTART;TZID=America/Chicago:20220622T150000
DTEND;TZID=America/Chicago:20220622T160000
DTSTAMP:20260420T164822
CREATED:20211015T201447Z
LAST-MODIFIED:20230404T000130Z
UID:48289-1655910000-1655913600@scottsdaleinstitute.org
SUMMARY:DIALOGUE | CIO + CISO – "Ransomware Resiliency"
DESCRIPTION:Rob Perry\, CISO\, Carilion Clinic – “Ransomware Resiliency”
URL:https://scottsdaleinstitute.org/event/si-cio-ciso-dialogue-jun-22-2022/
END:VEVENT
BEGIN:VEVENT
DTSTART;TZID=America/Chicago:20220614T130000
DTEND;TZID=America/Chicago:20220614T140000
DTSTAMP:20260420T164822
CREATED:20220607T035528Z
LAST-MODIFIED:20250319T193523Z
UID:54565-1655211600-1655215200@scottsdaleinstitute.org
SUMMARY:WEBINAR | How the UCLA Center for SMART Health Leverages Data Science and Technology to Advance Patient Care
DESCRIPTION:Arash Naeim\, MD\, PhD\, Chief Medical Officer for Clinical Research\, Co-Director UCLA Center for SMART Health\, and Alex Bui\, PhD\, Director of UCLA Medical & Imaging Informatics\, Co-D [...]
URL:https://scottsdaleinstitute.org/event/webinar-how-the-ucla-center-for-smart-health-leverages-data-science-and-technology-to-advance-patient-care/
END:VEVENT
BEGIN:VEVENT
DTSTART;TZID=America/Chicago:20220601T130000
DTEND;TZID=America/Chicago:20220601T140000
DTSTAMP:20260420T164822
CREATED:20220517T132513Z
LAST-MODIFIED:20250319T191843Z
UID:54211-1654088400-1654092000@scottsdaleinstitute.org
SUMMARY:WEBINAR |  Cybersecurity in Healthcare: Protecting Data\, Users\, and Applications
DESCRIPTION:Damian Chung\, CSO of Healthcare\, Netskope\, and Paul Doherty\, Co-Founder & Head of Sales\, Cloudrise.  With cybersecurity for healthcare systems\, it’s all about protecting data. Hea [...]
URL:https://scottsdaleinstitute.org/event/webinar-data-protection-use-cases-in-the-news-and-zero-trust-programs/
END:VEVENT
BEGIN:VEVENT
DTSTART;TZID=America/Chicago:20220517T130000
DTEND;TZID=America/Chicago:20220517T140000
DTSTAMP:20260420T164822
CREATED:20220323T182602Z
LAST-MODIFIED:20250319T191250Z
UID:53514-1652792400-1652796000@scottsdaleinstitute.org
SUMMARY:WEBINAR | Managing the Unmanageable in a HIPAA Breach Response (Rising to the Challenge of the Rogue Physician)
DESCRIPTION:Michelle Pendergrass\, Chief Compliance Officer/Privacy Officer\, Midland Health; Darren Skyles\, Member; Courtney Gahm-Oldham\, Member\, FBT Law; and Stephen Collins\, Senior Advisor\, Im [...]
URL:https://scottsdaleinstitute.org/event/webinar-managing-the-unmanageable-in-a-hipaa-breach-response-rising-to-the-challenge-of-the-rogue-physician/
END:VEVENT
END:VCALENDAR