BEGIN:VCALENDAR
VERSION:2.0
PRODID:-//Scottsdale Institute - ECPv6.8.0//NONSGML v1.0//EN
CALSCALE:GREGORIAN
METHOD:PUBLISH
X-ORIGINAL-URL:https://scottsdaleinstitute.org
X-WR-CALDESC:Events for Scottsdale Institute
REFRESH-INTERVAL;VALUE=DURATION:PT1H
X-Robots-Tag:noindex
X-PUBLISHED-TTL:PT1H
BEGIN:VTIMEZONE
TZID:America/Chicago
BEGIN:DAYLIGHT
TZOFFSETFROM:-0600
TZOFFSETTO:-0500
TZNAME:CDT
DTSTART:20250309T080000
END:DAYLIGHT
BEGIN:STANDARD
TZOFFSETFROM:-0500
TZOFFSETTO:-0600
TZNAME:CST
DTSTART:20251102T070000
END:STANDARD
END:VTIMEZONE
BEGIN:VEVENT
DTSTART;TZID=America/Chicago:20251211T130000
DTEND;TZID=America/Chicago:20251211T140000
DTSTAMP:20260420T130631
CREATED:20251031T131123Z
LAST-MODIFIED:20260323T170940Z
UID:73033-1765458000-1765461600@scottsdaleinstitute.org
SUMMARY:WEBINAR | Scaling Trust: Insights from CommonSpirit and Geisinger on Enterprise AI Implementation
DESCRIPTION:John Chelico\, MD\, System Vice President and CMIO\, CommonSpirit Health; Ben Hohmuth\, MD\, MPH\, Chief Medical Informatics Officer\, Clinical Lead for the Value-Based Platform\, Geising [...]
URL:https://scottsdaleinstitute.org/event/webinar-scaling-trust-insights-from-commonspirit-and-geisinger-on-enterprise-ai-implementation/
END:VEVENT
END:VCALENDAR