BEGIN:VCALENDAR
VERSION:2.0
PRODID:-//Scottsdale Institute - ECPv6.8.0//NONSGML v1.0//EN
CALSCALE:GREGORIAN
METHOD:PUBLISH
X-ORIGINAL-URL:https://scottsdaleinstitute.org
X-WR-CALDESC:Events for Scottsdale Institute
REFRESH-INTERVAL;VALUE=DURATION:PT1H
X-Robots-Tag:noindex
X-PUBLISHED-TTL:PT1H
BEGIN:VTIMEZONE
TZID:America/Chicago
BEGIN:DAYLIGHT
TZOFFSETFROM:-0600
TZOFFSETTO:-0500
TZNAME:CDT
DTSTART:20260308T080000
END:DAYLIGHT
BEGIN:STANDARD
TZOFFSETFROM:-0500
TZOFFSETTO:-0600
TZNAME:CST
DTSTART:20261101T070000
END:STANDARD
END:VTIMEZONE
BEGIN:VEVENT
DTSTART;TZID=America/Chicago:20260318T130000
DTEND;TZID=America/Chicago:20260318T140000
DTSTAMP:20260420T085446
CREATED:20260212T145006Z
LAST-MODIFIED:20260318T192618Z
UID:75001-1773838800-1773842400@scottsdaleinstitute.org
SUMMARY:WEBINAR | Connected Care: Driving Impact with Modern Interoperability and AI
DESCRIPTION:In a time of increasing patient complexity and workforce strain\, the true value of healthcare technology is no longer measured by the mere existence of digital data\, but by its ability t [...]
URL:https://scottsdaleinstitute.org/event/webinar-connected-care-driving-impact-with-modern-interoperability-and-ai/
END:VEVENT
END:VCALENDAR