BEGIN:VCALENDAR
VERSION:2.0
PRODID:-//Scottsdale Institute - ECPv6.8.0//NONSGML v1.0//EN
CALSCALE:GREGORIAN
METHOD:PUBLISH
X-WR-CALNAME:Scottsdale Institute
X-ORIGINAL-URL:https://scottsdaleinstitute.org
X-WR-CALDESC:Events for Scottsdale Institute
REFRESH-INTERVAL;VALUE=DURATION:PT1H
X-Robots-Tag:noindex
X-PUBLISHED-TTL:PT1H
BEGIN:VTIMEZONE
TZID:America/Chicago
BEGIN:DAYLIGHT
TZOFFSETFROM:-0600
TZOFFSETTO:-0500
TZNAME:CDT
DTSTART:20230312T080000
END:DAYLIGHT
BEGIN:STANDARD
TZOFFSETFROM:-0500
TZOFFSETTO:-0600
TZNAME:CST
DTSTART:20231105T070000
END:STANDARD
END:VTIMEZONE
BEGIN:VEVENT
DTSTART;TZID=America/Chicago:20230921T130000
DTEND;TZID=America/Chicago:20230921T140000
DTSTAMP:20260421T004624
CREATED:20230906T145850Z
LAST-MODIFIED:20260323T171016Z
UID:63041-1695301200-1695304800@scottsdaleinstitute.org
SUMMARY:WEBINAR | Virtual Care: Reducing Nursing Burden While Improving Documentation
DESCRIPTION:Jill Evans\, MSN\, RN\, RN-BC\, Associate Chief Nursing Officer\, Clinical Informatics & Chief of Connected Care\, Virtual Care Enterprise\, MetroHealth; and Alicia Beebe\, Director Clinic [...]
URL:https://scottsdaleinstitute.org/event/webinar-virtual-care-reducing-nursing-burden-while-improving-documentation/
END:VEVENT
BEGIN:VEVENT
DTSTART;TZID=America/Chicago:20230919T130000
DTEND;TZID=America/Chicago:20230919T140000
DTSTAMP:20260421T004624
CREATED:20230807T173637Z
LAST-MODIFIED:20260323T171016Z
UID:62601-1695128400-1695132000@scottsdaleinstitute.org
SUMMARY:WEBINAR | Beyond the Hype – Unraveling Digital Transformation – Elevating the Human\, Reimagining Process\, Harnessing Technology
DESCRIPTION:Praveen Chopra\, Chief Digital and Information Officer; and Rajiv Naik\, MD\, FAAP\, CMIO\, Gundersen Health System. In this thought-provoking talk\, Praveen and Dr. Naik delve into the es [...]
URL:https://scottsdaleinstitute.org/event/webinar-beyond-the-hype-unraveling-digital-transformation-elevating-the-human-reimagining-process-harnessing-technology/
END:VEVENT
BEGIN:VEVENT
DTSTART;TZID=America/Chicago:20230914T130000
DTEND;TZID=America/Chicago:20230914T140000
DTSTAMP:20260421T004624
CREATED:20230809T170009Z
LAST-MODIFIED:20260323T171017Z
UID:62634-1694696400-1694700000@scottsdaleinstitute.org
SUMMARY:WEBINAR | Care Transformation: Post-acute Perspectives on Redefining the Patient Journey and Workforce Development
DESCRIPTION:Eric Rogers\, Chief Information Officer\, Hebrew SeniorLife. Delivering quality senior care across a continuum requires commitment to developing key foundational elements –an integrated  [...]
URL:https://scottsdaleinstitute.org/event/webinar-care-transformation-post-acute-perspectives-on-redefining-the-patient-journey-and-workforce-development/
END:VEVENT
BEGIN:VEVENT
DTSTART;TZID=America/Chicago:20230912T130000
DTEND;TZID=America/Chicago:20230912T140000
DTSTAMP:20260421T004624
CREATED:20230809T143821Z
LAST-MODIFIED:20260323T171017Z
UID:62617-1694523600-1694527200@scottsdaleinstitute.org
SUMMARY:WEBINAR | Coalition for Healthcare AI: A Growing Movement to Make AI Trustworthy
DESCRIPTION:Brian Anderson\, MD\, Chief Digital Health Physician; Francis Campion\, MD\, FACP\, Principal Lead Digital Health and Group Leader for Health AI; John Morgan\, Project Lead for the Coaliti [...]
URL:https://scottsdaleinstitute.org/event/webinar-coalition-for-healthcare-ai-a-growing-movement-to-make-ai-trustworthy/
END:VEVENT
BEGIN:VEVENT
DTSTART;TZID=America/Chicago:20230907T130000
DTEND;TZID=America/Chicago:20230907T140000
DTSTAMP:20260421T004624
CREATED:20230808T152433Z
LAST-MODIFIED:20251203T015513Z
UID:62609-1694091600-1694095200@scottsdaleinstitute.org
SUMMARY:FIRESIDE CHAT/WEBINAR | Ethicist Art Caplan on the Ethics of AI in Medicine & Healthcare
DESCRIPTION:Art Caplan\, PhD\, Head of the Division of Medical Ethics at NYU Langone Medical Center; Harry Greenspun\, MD\, Executive in Residence at Scottsdale Institute; and Michael Shabot\, MD\, FA [...]
URL:https://scottsdaleinstitute.org/event/fireside-chat-webinar-ethicist-art-caplan-on-the-ethics-of-ai-in-medicine-healthcare/
END:VEVENT
BEGIN:VEVENT
DTSTART;TZID=America/Chicago:20230906T130000
DTEND;TZID=America/Chicago:20230906T140000
DTSTAMP:20260421T004624
CREATED:20230807T171935Z
LAST-MODIFIED:20250319T193657Z
UID:62599-1694005200-1694008800@scottsdaleinstitute.org
SUMMARY:WEBINAR | Community Health: Texas Health’s Journey to Improve Community Health through Innovative Collaborations and Programming
DESCRIPTION:Matt Dufrene\, MBA\, Vice President\, Texas Health Resources. Texas Health Resources is a recognized leader in its approach to community health\, winning numerous awards including the pres [...]
URL:https://scottsdaleinstitute.org/event/webinar-community-health-texas-healths-journey-to-improve-community-health-through-innovative-collaborations-and-programming/
END:VEVENT
BEGIN:VEVENT
DTSTART;TZID=America/Chicago:20230831T130000
DTEND;TZID=America/Chicago:20230831T140000
DTSTAMP:20260421T004624
CREATED:20230711T151818Z
LAST-MODIFIED:20260323T171018Z
UID:62307-1693486800-1693490400@scottsdaleinstitute.org
SUMMARY:WEBINAR | Learnings\, Success Factors\, and Outcomes in Deploying Ambient Experience
DESCRIPTION:Shane Thielman\, FACHE\, CHCIO\, SVP & CIO; David Wetherhold\, MD\, CMIO\, Ambulatory Systems\, Scripps Health. Review Scripps Health experience and journey in the deployment of ambient ex [...]
URL:https://scottsdaleinstitute.org/event/webinar-learnings-success-factors-and-outcomes-in-deploying-ambient-experience/
END:VEVENT
BEGIN:VEVENT
DTSTART;TZID=America/Chicago:20230830T130000
DTEND;TZID=America/Chicago:20230830T140000
DTSTAMP:20260421T004624
CREATED:20230711T150753Z
LAST-MODIFIED:20250319T193658Z
UID:62305-1693400400-1693404000@scottsdaleinstitute.org
SUMMARY:WEBINAR | Baptist Health's Journey to Provide Patients the Right Care in The Right Venue
DESCRIPTION:Tony Whitecotton\, MBAHM\, ASAP Lead Analyst; Ashley Parker\, MSN\, RN\, Program Director\, Baptist Health KY. Baptist Health is seeing community excitement and patient satisfaction grow i [...]
URL:https://scottsdaleinstitute.org/event/webinar-baptists-journey-to-provide-patients-the-right-care-in-the-right-venue/
END:VEVENT
BEGIN:VEVENT
DTSTART;TZID=America/Chicago:20230829T130000
DTEND;TZID=America/Chicago:20230829T140000
DTSTAMP:20260421T004624
CREATED:20230718T151345Z
LAST-MODIFIED:20260323T171018Z
UID:62372-1693314000-1693317600@scottsdaleinstitute.org
SUMMARY:WEBINAR | Adapting Digitally-Enabled Health Care Delivery Models to Shifting Consumer Preferences
DESCRIPTION:Steven Milenkovic\, PA-C\, Senior Healthcare Management Consultant; Sima Muller\, Senior Manager; Leslie Korenda\, MPH\, Research Manager\, Deloitte. Today’s empowered\, digitally savvy  [...]
URL:https://scottsdaleinstitute.org/event/webinar-adapting-digitally-enabled-health-care-delivery-models-to-shifting-consumer-preferences/
END:VEVENT
BEGIN:VEVENT
DTSTART;TZID=America/Chicago:20230817T130000
DTEND;TZID=America/Chicago:20230817T140000
DTSTAMP:20260421T004624
CREATED:20230711T145655Z
LAST-MODIFIED:20250319T191840Z
UID:62296-1692277200-1692280800@scottsdaleinstitute.org
SUMMARY:WEBINAR | Why Discussing Medication Costs is Essential for Quality Care (And How to Do it Right)
DESCRIPTION:Christina O’Connor\, PharmD\, Infectious Diseases Pharmacist Supervisor\, Mayo Clinic Midwest; Melanie Engels\, PharmD\, MBA\, Director of Outpatient Pharmacy Services\, Froedtert; Nick  [...]
URL:https://scottsdaleinstitute.org/event/why-discussing-medication-costs-is-essential-for-quality-care-and-how-to-do-it-right/
END:VEVENT
BEGIN:VEVENT
DTSTART;TZID=America/Chicago:20230816T130000
DTEND;TZID=America/Chicago:20230816T140000
DTSTAMP:20260421T004624
CREATED:20230711T142837Z
LAST-MODIFIED:20250319T192313Z
UID:62293-1692190800-1692194400@scottsdaleinstitute.org
SUMMARY:WEBINAR | Moving to a Disruptor: How Northern Light’s Strategic Partnership with Optum Promises an Enhanced Patient Experience
DESCRIPTION:April Giard\, DNP\, MSN\, NP-BC\, NEA-BC\, SVP\, Chief Digital Officer; Del Dixon\, Vice President of Information Systems\, Chief Information Officer\, Northern Light Health; and Michael R [...]
URL:https://scottsdaleinstitute.org/event/webinar-moving-to-a-disruptor-how-northern-lights-strategic-partnership-with-optum-promises-an-enhanced-patient-experience/
END:VEVENT
BEGIN:VEVENT
DTSTART;TZID=America/Chicago:20230810T130000
DTEND;TZID=America/Chicago:20230810T140000
DTSTAMP:20260421T004624
CREATED:20230406T162533Z
LAST-MODIFIED:20260323T171019Z
UID:60828-1691672400-1691676000@scottsdaleinstitute.org
SUMMARY:WEBINAR | Stabilize\, Optimize\, Energize: Achieving Next Level Performance in the New Healthcare Reality
DESCRIPTION:Jeff Doucette\, DNP\, RN\, FACHE\, NEA-BC\, FAAN\, Senior Vice President & Chief Nursing Officer\, Press Ganey Associates. Join Press Ganey Thought Leader and Chief Nursing Officer\, Dr. J [...]
URL:https://scottsdaleinstitute.org/event/webinar-stabilize-optimize-energize-achieving-next-level-performance-in-the-new-healthcare-reality/
END:VEVENT
BEGIN:VEVENT
DTSTART;TZID=America/Chicago:20230809T130000
DTEND;TZID=America/Chicago:20230809T140000
DTSTAMP:20260421T004624
CREATED:20230714T132227Z
LAST-MODIFIED:20260323T171019Z
UID:62343-1691586000-1691589600@scottsdaleinstitute.org
SUMMARY:WEBINAR | Advocate Health - Navigating A Successful Combination Between Two Large Healthcare Systems from A Physician Executive’s Perspective
DESCRIPTION:Suzanna Fox\, MD\, Deputy Chief Physician Executive & Southeast Region Women’s Care Service Line Medical Director; Scott Rissmiller\, MD\, EVP\, Chief Physician Executive\, Advocate Heal [...]
URL:https://scottsdaleinstitute.org/event/webinar-advocate-health-navigating-a-successful-combination-between-two-large-health-care-systems-from-a-physician-executives-perspective/
END:VEVENT
BEGIN:VEVENT
DTSTART;TZID=America/Chicago:20230808T130000
DTEND;TZID=America/Chicago:20230808T140000
DTSTAMP:20260421T004624
CREATED:20230718T150212Z
LAST-MODIFIED:20250319T193733Z
UID:62369-1691499600-1691503200@scottsdaleinstitute.org
SUMMARY:WEBINAR | Why Addressing Clinical Bias is Missing in Your Health Equity Strategy
DESCRIPTION:Jolynn Suko\, MPH\, Chief Digital and Innovation Officer\, Parkview Health; and Alan Roga\, MD\, FACEP\, CEO\, Founder\, TruLite Health. The complexity of Health Equity issues demands that [...]
URL:https://scottsdaleinstitute.org/event/why-addressing-clinical-bias-is-missing-in-your-health-equity-strategy/
END:VEVENT
BEGIN:VEVENT
DTSTART;TZID=America/Chicago:20230802T120000
DTEND;TZID=America/Chicago:20230802T130000
DTSTAMP:20260421T004624
CREATED:20230406T171234Z
LAST-MODIFIED:20250319T192313Z
UID:60849-1690977600-1690981200@scottsdaleinstitute.org
SUMMARY:WEBINAR | From Theory to Reality: How AI is Transforming Healthcare
DESCRIPTION:Jeffrey Sturman\, SVP & Chief Digital Officer; Benjamin Freedman\, MD\, Chief of Radiology\, Memorial Healthcare System; and Elad Walach\, CEO\, Aidoc. In this webinar\, you can gain valua [...]
URL:https://scottsdaleinstitute.org/event/webinar-from-theory-to-reality-how-ai-is-transforming-healthcare/
END:VEVENT
BEGIN:VEVENT
DTSTART;TZID=America/Chicago:20230801T130000
DTEND;TZID=America/Chicago:20230801T140000
DTSTAMP:20260421T004624
CREATED:20230406T163221Z
LAST-MODIFIED:20260218T190626Z
UID:60836-1690894800-1690898400@scottsdaleinstitute.org
SUMMARY:WEBINAR | Meeting Patients Where They Are: How Cleveland Clinic Modernized the Patient Experience with Omnichannel AI
DESCRIPTION:Sarah Hatchett\, CH-CHIO\, MBA\, PMP\, Interim CIO\, Cleveland Clinic; and Peter Durlach\, CVP\, Chief Strategy Officer\, Health & Life Sciences\, Microsoft. In the depths of the pandemic\ [...]
URL:https://scottsdaleinstitute.org/event/webinar-meeting-patients-where-they-are-how-cleveland-clinic-modernized-the-patient-experience-with-omnichannel-ai/
END:VEVENT
BEGIN:VEVENT
DTSTART;TZID=America/Chicago:20230727T130000
DTEND;TZID=America/Chicago:20230727T140000
DTSTAMP:20260421T004624
CREATED:20230629T135847Z
LAST-MODIFIED:20251203T015514Z
UID:62212-1690462800-1690466400@scottsdaleinstitute.org
SUMMARY:FIRESIDE CHAT / WEBINAR | Accelerating Value: M&A Strategies to Drive the Digital Future of Health at Scale
DESCRIPTION:Jason Joseph\, Chief Digital and Information Officer\, Corewell Health; and John Kravitz\, Head of Healthcare Industry GTM\, Workday. As the growing cost of healthcare in the United States [...]
URL:https://scottsdaleinstitute.org/event/webinar-fireside-chat-accelerating-value-ma-strategies-to-drive-the-digital-future-of-health-at-scale/
END:VEVENT
BEGIN:VEVENT
DTSTART;TZID=America/Chicago:20230718T130000
DTEND;TZID=America/Chicago:20230718T140000
DTSTAMP:20260421T004624
CREATED:20230616T143348Z
LAST-MODIFIED:20250319T193733Z
UID:62080-1689685200-1689688800@scottsdaleinstitute.org
SUMMARY:WEBINAR | The 5 Disciplines of Inclusive Hospitals: How Diverse and Equitable Healthcare Systems Will Transform People's Health
DESCRIPTION:Andrés Tapia\, Senior Client Partner\, Global DE&I Strategist; and Fayruz Kirtzman\, Senior Client Partner\, Korn Ferry. The obvious case for diversity\, equity\, and inclusion in healthc [...]
URL:https://scottsdaleinstitute.org/event/webinar-the-5-disciplines-of-inclusive-hospitals-how-diverse-and-equitable-healthcare-systems-will-transform-peoples-health/
END:VEVENT
BEGIN:VEVENT
DTSTART;TZID=America/Chicago:20230713T130000
DTEND;TZID=America/Chicago:20230713T140000
DTSTAMP:20260421T004624
CREATED:20230616T142147Z
LAST-MODIFIED:20250319T193733Z
UID:62072-1689253200-1689256800@scottsdaleinstitute.org
SUMMARY:WEBINAR | Practical Resiliency Initiatives to Advance Organizational Culture and Improve Clinical Outcomes through High Reliability Practice at Houston Methodist
DESCRIPTION:Stephanie Jones-Wood\, MPH\, Director of System Provider Engagement & Resilience\, Houston Methodist. Houston Methodist (HM) has been on a journey towards high reliability.  As part of th [...]
URL:https://scottsdaleinstitute.org/event/practical-resiliency-initiatives-to-advance-organizational-culture-and-improve-clinical-outcomes-through-high-reliability-practice/
END:VEVENT
BEGIN:VEVENT
DTSTART;TZID=America/Chicago:20230712T130000
DTEND;TZID=America/Chicago:20230712T140000
DTSTAMP:20260421T004624
CREATED:20230406T165308Z
LAST-MODIFIED:20250319T193733Z
UID:60841-1689166800-1689170400@scottsdaleinstitute.org
SUMMARY:WEBINAR | Bringing the Joy Back to Medicine Through AI And Automation
DESCRIPTION:Doug King\, SVP\, CIO\, Northwestern Medicine; and Stephanie Lahr\, MD\, CHCIO\, President of Artisight\, Former CIO and CMIO\, Monument Health. The healthcare industry is facing a combina [...]
URL:https://scottsdaleinstitute.org/event/webinar-bringing-the-joy-back-to-medicine-through-ai-and-automation/
END:VEVENT
BEGIN:VEVENT
DTSTART;TZID=America/Chicago:20230628T080000
DTEND;TZID=America/Chicago:20230629T140000
DTSTAMP:20260421T004624
CREATED:20230407T145611Z
LAST-MODIFIED:20260415T203411Z
UID:60934-1687939200-1688047200@scottsdaleinstitute.org
SUMMARY:SUMMIT and SITE VISIT | 2023 Clinical Informatics—Informatics Governance: From Structures to Workflows
DESCRIPTION:Informatics Governance: From Structures to Workflows\n\n\nHow is your health system implementing the necessary governance to guide responsibilities\, goals\, structures and workflows? Join [...]
URL:https://scottsdaleinstitute.org/event/summit-2023-clinical-informatics/
ATTACH;FMTTYPE=image/jpeg:https://scottsdaleinstitute.org/wp-content/uploads/2023/04/governance.jpg
END:VEVENT
BEGIN:VEVENT
DTSTART;TZID=America/Chicago:20230627T130000
DTEND;TZID=America/Chicago:20230627T140000
DTSTAMP:20260421T004624
CREATED:20230531T184503Z
LAST-MODIFIED:20250319T193733Z
UID:61912-1687870800-1687874400@scottsdaleinstitute.org
SUMMARY:WEBINAR | Suicide Safer Care: An Organizational Approach
DESCRIPTION:Virna Little\, PsyD\, LCSW-r\, SAP\, CCM\, Co-Founder\, Chief Clinical Officer\, Concert Health. This webinar focuses on a complete organizational approach to suicide safer care; a compreh [...]
URL:https://scottsdaleinstitute.org/event/webinar-suicide-safer-care-an-organizational-approach/
END:VEVENT
BEGIN:VEVENT
DTSTART;TZID=America/Chicago:20230622T130000
DTEND;TZID=America/Chicago:20230622T140000
DTSTAMP:20260421T004624
CREATED:20230525T133621Z
LAST-MODIFIED:20250319T192313Z
UID:61680-1687438800-1687442400@scottsdaleinstitute.org
SUMMARY:WEBINAR | Digital Transformation in Healthcare: Getting Back to Basics
DESCRIPTION:Aaron Warren\, Vice President of Digital Growth; and Keri McCrensky\, Vice President of Healthcare Digital Transformation\, EXL Health. In the healthcare industry\, there’s been a massiv [...]
URL:https://scottsdaleinstitute.org/event/webinar-digital-transformation-in-healthcare-getting-back-to-basics/
END:VEVENT
BEGIN:VEVENT
DTSTART;TZID=America/Chicago:20230621T150000
DTEND;TZID=America/Chicago:20230621T160000
DTSTAMP:20260421T004624
CREATED:20230104T182045Z
LAST-MODIFIED:20260415T024258Z
UID:58344-1687359600-1687363200@scottsdaleinstitute.org
SUMMARY:DIALOGUE | Clinical Informatics - "EHR Annual Report"
DESCRIPTION:Alan Weiss\, MD\, MBA\, FACP\, VP & CMIO; and Nicole Gitney\, MS\, RN-BC\, Director of Nursing Informatics\, BayCare Health System\n\n\n\nSI Clinical Informatics Dialogue- 2023-6-21 EHR An [...]
URL:https://scottsdaleinstitute.org/event/dialogue-clinical-informatics-ehr-annual-report/
END:VEVENT
BEGIN:VEVENT
DTSTART;TZID=America/Chicago:20230621T130000
DTEND;TZID=America/Chicago:20230621T140000
DTSTAMP:20260421T004624
CREATED:20230531T152027Z
LAST-MODIFIED:20250319T193733Z
UID:61897-1687352400-1687356000@scottsdaleinstitute.org
SUMMARY:WEBINAR | Drug Diversion: The Never-ending Chase
DESCRIPTION:Kenneth Mishark\, MD\, SFHM\, FACP\, Chair of Orders and Protocol Group\, Mayo Clinic. Drug diversion is the theft of medications for personal use or profit. The Mayo Clinic’s Dr. Ken Mi [...]
URL:https://scottsdaleinstitute.org/event/webinar-drug-diversion-the-never-ending-chase/
END:VEVENT
BEGIN:VEVENT
DTSTART;TZID=America/Chicago:20230620T130000
DTEND;TZID=America/Chicago:20230620T140000
DTSTAMP:20260421T004624
CREATED:20230523T140012Z
LAST-MODIFIED:20250319T192313Z
UID:61676-1687266000-1687269600@scottsdaleinstitute.org
SUMMARY:WEBINAR | Establishing AI Governance: Real-World Challenges & Best Practices
DESCRIPTION:Liam Bouchier\, Vice President; Victor Collins\, Advanced Intelligence (Data Science) Service Line Lead; and Petrina Griesbach\, RN\, MSBI\, CPHQ\, CPPS\, Senior Leader Healthcare Data Sci [...]
URL:https://scottsdaleinstitute.org/event/webinar-establishing-ai-governance-real-world-challenges-best-practices/
END:VEVENT
BEGIN:VEVENT
DTSTART;TZID=America/Chicago:20230615T130000
DTEND;TZID=America/Chicago:20230615T140000
DTSTAMP:20260421T004624
CREATED:20230519T132734Z
LAST-MODIFIED:20250319T193733Z
UID:61456-1686834000-1686837600@scottsdaleinstitute.org
SUMMARY:WEBINAR | Leveraging Technology to Drive Both Nurse and Patient Satisfaction
DESCRIPTION:Sherri Hess\, MS-IS\, Vice President Chief Nursing Informatics Officer; and Whitney Staub-Juergens\, DNP-HSL\, MSN\, RN\, CCRN-K\, NE-BC\, Vice President of Clinical Operations\, HCA Healt [...]
URL:https://scottsdaleinstitute.org/event/webinar-leveraging-technology-to-drive-both-nurse-and-patient-satisfaction/
END:VEVENT
BEGIN:VEVENT
DTSTART;TZID=America/Chicago:20230608T130000
DTEND;TZID=America/Chicago:20230608T140000
DTSTAMP:20260421T004624
CREATED:20230515T154236Z
LAST-MODIFIED:20251203T015515Z
UID:61458-1686229200-1686232800@scottsdaleinstitute.org
SUMMARY:FIRESIDE CHAT / WEBINAR | Going Beyond CMS Interoperability: a SAFER EHR
DESCRIPTION:Peter Kleinschmidt\, MD\, Board Certified Clinical Informaticist\, Assistant Professor\, UW Health; Dean Sittig\, PhD\, Professor\, UTHealth School of Biomedical Informatics; Jorge Sanchez [...]
URL:https://scottsdaleinstitute.org/event/fireside-chat-webinar-going-beyond-cms-interoperability-a-safer-ehr/
END:VEVENT
BEGIN:VEVENT
DTSTART;TZID=America/Chicago:20230531T150000
DTEND;TZID=America/Chicago:20230531T160000
DTSTAMP:20260421T004624
CREATED:20230502T131958Z
LAST-MODIFIED:20260415T025244Z
UID:61223-1685545200-1685548800@scottsdaleinstitute.org
SUMMARY:DIALOGUE | CIO + Clinical Informatics + CTO/VP Apps + Digital + Innovation - ONC HTI-1 Proposed Rule: "Patient Requested Restrictions"
DESCRIPTION:Zain Kazmi\, MBA\, Chief Digital and Analytics Officer\, and DuWayne Willett\, MD\, CMIO\, University of Texas System.\n\n\n\n\nHTI-1 Patient Requested Restrictions Pop-Up Dialogue Slides\ [...]
URL:https://scottsdaleinstitute.org/event/dialogue-cio-clinical-informatics-cto-vp-apps-digital-innovation-onc-hti-1-proposed-rule-patient-requested-restrictions/
END:VEVENT
BEGIN:VEVENT
DTSTART;TZID=America/Chicago:20230531T130000
DTEND;TZID=America/Chicago:20230531T140000
DTSTAMP:20260421T004624
CREATED:20230419T145156Z
LAST-MODIFIED:20251203T015515Z
UID:60809-1685538000-1685541600@scottsdaleinstitute.org
SUMMARY:WEBINAR | Tiered Performance Structure: A Framework for Strategic Improvement
DESCRIPTION:Ashley Ackerman\, System Director\, Patient Experience; and Paige Pugh\, Manager\, Patient Experience\, Baptist Health System KY/IN. In the ever-changing world of healthcare\, organization [...]
URL:https://scottsdaleinstitute.org/event/webinar-tiered-performance-structure-a-framework-for-strategic-improvement/
END:VEVENT
END:VCALENDAR