BEGIN:VCALENDAR
VERSION:2.0
PRODID:-//Scottsdale Institute - ECPv6.8.0//NONSGML v1.0//EN
CALSCALE:GREGORIAN
METHOD:PUBLISH
X-ORIGINAL-URL:https://scottsdaleinstitute.org
X-WR-CALDESC:Events for Scottsdale Institute
REFRESH-INTERVAL;VALUE=DURATION:PT1H
X-Robots-Tag:noindex
X-PUBLISHED-TTL:PT1H
BEGIN:VTIMEZONE
TZID:America/Chicago
BEGIN:DAYLIGHT
TZOFFSETFROM:-0600
TZOFFSETTO:-0500
TZNAME:CDT
DTSTART:20250309T080000
END:DAYLIGHT
BEGIN:STANDARD
TZOFFSETFROM:-0500
TZOFFSETTO:-0600
TZNAME:CST
DTSTART:20251102T070000
END:STANDARD
END:VTIMEZONE
BEGIN:VEVENT
DTSTART;TZID=America/Chicago:20251015T130000
DTEND;TZID=America/Chicago:20251015T140000
DTSTAMP:20260420T172636
CREATED:20250828T000125Z
LAST-MODIFIED:20251015T192305Z
UID:71946-1760533200-1760536800@scottsdaleinstitute.org
SUMMARY:WEBINAR | AI as an Enterprise Capability Rather Than a Passing Trend
DESCRIPTION:Liam Bouchier\, Managing Director\, Data & AI; and Andrew Jung\, Director\, Impact Advisors. AI fatigue is mounting and talk of an AI bubble is growing—but disciplined programs are still [...]
URL:https://scottsdaleinstitute.org/event/webinar-ai-as-an-enterprise-capability-rather-than-a-passing-trend/
END:VEVENT
END:VCALENDAR