BEGIN:VCALENDAR
VERSION:2.0
PRODID:-//Scottsdale Institute - ECPv6.8.0//NONSGML v1.0//EN
CALSCALE:GREGORIAN
METHOD:PUBLISH
X-ORIGINAL-URL:https://scottsdaleinstitute.org
X-WR-CALDESC:Events for Scottsdale Institute
REFRESH-INTERVAL;VALUE=DURATION:PT1H
X-Robots-Tag:noindex
X-PUBLISHED-TTL:PT1H
BEGIN:VTIMEZONE
TZID:America/Chicago
BEGIN:DAYLIGHT
TZOFFSETFROM:-0600
TZOFFSETTO:-0500
TZNAME:CDT
DTSTART:20240310T080000
END:DAYLIGHT
BEGIN:STANDARD
TZOFFSETFROM:-0500
TZOFFSETTO:-0600
TZNAME:CST
DTSTART:20241103T070000
END:STANDARD
END:VTIMEZONE
BEGIN:VEVENT
DTSTART;TZID=America/Chicago:20241112T150000
DTEND;TZID=America/Chicago:20241112T160000
DTSTAMP:20260421T205750
CREATED:20240815T194408Z
LAST-MODIFIED:20260416T164632Z
UID:67796-1731423600-1731427200@scottsdaleinstitute.org
SUMMARY:DIALOGUE | Digital\, Innovation\, Telehealth | "Envisioning Tomorrow: Transforming the Consumer Patient Experience in Digital Rooms of the Future"
DESCRIPTION:Ganesh Persad\, MSBI\, CHCIO\, CDH-E\, Director\, Digital Patient Experience\, Emory Healthcare\n\n\nDialogue Digest
URL:https://scottsdaleinstitute.org/event/dialogue-digital-innovation-telehealth-envisioning-tomorrow-transforming-the-consumer-patient-experience-in-digital-rooms-of-the-future/
END:VEVENT
END:VCALENDAR