BEGIN:VCALENDAR
VERSION:2.0
PRODID:-//Scottsdale Institute - ECPv6.8.0//NONSGML v1.0//EN
CALSCALE:GREGORIAN
METHOD:PUBLISH
X-ORIGINAL-URL:https://scottsdaleinstitute.org
X-WR-CALDESC:Events for Scottsdale Institute
REFRESH-INTERVAL;VALUE=DURATION:PT1H
X-Robots-Tag:noindex
X-PUBLISHED-TTL:PT1H
BEGIN:VTIMEZONE
TZID:America/Chicago
BEGIN:DAYLIGHT
TZOFFSETFROM:-0600
TZOFFSETTO:-0500
TZNAME:CDT
DTSTART:20240310T080000
END:DAYLIGHT
BEGIN:STANDARD
TZOFFSETFROM:-0500
TZOFFSETTO:-0600
TZNAME:CST
DTSTART:20241103T070000
END:STANDARD
END:VTIMEZONE
BEGIN:VEVENT
DTSTART;TZID=America/Chicago:20241218T150000
DTEND;TZID=America/Chicago:20241218T160000
DTSTAMP:20260421T210030
CREATED:20240815T194719Z
LAST-MODIFIED:20260416T164227Z
UID:67800-1734534000-1734537600@scottsdaleinstitute.org
SUMMARY:DIALOGUE | CIO | "What's the Fuss About Consumer Convenience?"
DESCRIPTION:Praveen Chopra\, Chief Digital and Information Officer\, Emplify Health\n\nDiscussion Questions:\n\nIs retail disruption dead? \nHow do you justify the investment in the name of consumer c [...]
URL:https://scottsdaleinstitute.org/event/dialogue-cio-whats-the-fuss-about-consumer-convenience/
END:VEVENT
END:VCALENDAR