BEGIN:VCALENDAR
VERSION:2.0
PRODID:-//Scottsdale Institute - ECPv6.8.0//NONSGML v1.0//EN
CALSCALE:GREGORIAN
METHOD:PUBLISH
X-ORIGINAL-URL:https://scottsdaleinstitute.org
X-WR-CALDESC:Events for Scottsdale Institute
REFRESH-INTERVAL;VALUE=DURATION:PT1H
X-Robots-Tag:noindex
X-PUBLISHED-TTL:PT1H
BEGIN:VTIMEZONE
TZID:America/Chicago
BEGIN:DAYLIGHT
TZOFFSETFROM:-0600
TZOFFSETTO:-0500
TZNAME:CDT
DTSTART:20250309T080000
END:DAYLIGHT
BEGIN:STANDARD
TZOFFSETFROM:-0500
TZOFFSETTO:-0600
TZNAME:CST
DTSTART:20251102T070000
END:STANDARD
END:VTIMEZONE
BEGIN:VEVENT
DTSTART;VALUE=DATE:20251021
DTEND;VALUE=DATE:20251023
DTSTAMP:20260420T235758
CREATED:20250616T205645Z
LAST-MODIFIED:20260414T232654Z
UID:71258-1761004800-1761177599@scottsdaleinstitute.org
SUMMARY:SUMMIT | 2025 Population Health\, Access and Primary Care Innovation
DESCRIPTION:Enabling Access and Improved Outcomes: The Primary Care Gateway\n\nOctober 21-22\, 2025\nSI Population Health\, Access and Primary Care Innovation Summit and Site Visit\nHosted by OneHealt [...]
URL:https://scottsdaleinstitute.org/event/summit-2025-population-health-access-and-primary-care-innovation/
ATTACH;FMTTYPE=image/jpeg:https://scottsdaleinstitute.org/wp-content/uploads/2025/06/he.jpg
END:VEVENT
END:VCALENDAR