BEGIN:VCALENDAR
VERSION:2.0
PRODID:-//Scottsdale Institute - ECPv6.8.0//NONSGML v1.0//EN
CALSCALE:GREGORIAN
METHOD:PUBLISH
X-ORIGINAL-URL:https://scottsdaleinstitute.org
X-WR-CALDESC:Events for Scottsdale Institute
REFRESH-INTERVAL;VALUE=DURATION:PT1H
X-Robots-Tag:noindex
X-PUBLISHED-TTL:PT1H
BEGIN:VTIMEZONE
TZID:America/Chicago
BEGIN:DAYLIGHT
TZOFFSETFROM:-0600
TZOFFSETTO:-0500
TZNAME:CDT
DTSTART:20250309T080000
END:DAYLIGHT
BEGIN:STANDARD
TZOFFSETFROM:-0500
TZOFFSETTO:-0600
TZNAME:CST
DTSTART:20251102T070000
END:STANDARD
END:VTIMEZONE
BEGIN:VEVENT
DTSTART;TZID=America/Chicago:20251014T130000
DTEND;TZID=America/Chicago:20251014T140000
DTSTAMP:20260420T074225
CREATED:20250903T160943Z
LAST-MODIFIED:20260323T170942Z
UID:72029-1760446800-1760450400@scottsdaleinstitute.org
SUMMARY:WEBINAR | Designing an AI-ready Health System: Platforms\, People\, and Processes
DESCRIPTION:Josh Glandorf\, CIO\, UC San Diego Health; Karandeep Singh\, MD\, MMSc\, Associate Professor of Medicine in Biomedical Informatics\, Chief Health AI Officer and Associate CMIO for Inpatien [...]
URL:https://scottsdaleinstitute.org/event/webinar-designing-an-ai-ready-health-system-platforms-people-and-processes/
END:VEVENT
BEGIN:VEVENT
DTSTART;TZID=America/Chicago:20251009T080000
DTEND;TZID=America/Chicago:20251010T150000
DTSTAMP:20260420T074225
CREATED:20250715T152608Z
LAST-MODIFIED:20260414T213425Z
UID:71456-1759996800-1760108400@scottsdaleinstitute.org
SUMMARY:SUMMIT |  2025 Innovation - Think Big\, Start Small\, Move Fast
DESCRIPTION:Think Big\, Start Small\, Move Fast\n\nOctober 9 – 10\, 2025\nSI Innovation Summit and Site Visit\nHosted by Houston Methodist\, Houston\, TX \nCo-Sponsored by Deloitte and Ambience \n [...]
URL:https://scottsdaleinstitute.org/event/summit-2025-innovation-think-big-start-small-move-fast/
ATTACH;FMTTYPE=image/jpeg:https://scottsdaleinstitute.org/wp-content/uploads/2025/07/innovation.jpg
END:VEVENT
BEGIN:VEVENT
DTSTART;TZID=America/Chicago:20251008T130000
DTEND;TZID=America/Chicago:20251008T140000
DTSTAMP:20260420T074225
CREATED:20250915T173011Z
LAST-MODIFIED:20260323T170943Z
UID:72270-1759928400-1759932000@scottsdaleinstitute.org
SUMMARY:WEBINAR | Innovative Technology is Transforming Musculoskeletal Care and Team Member Wellness at Northwell Health
DESCRIPTION:Join us as Northwell Health shares how they are redefining musculoskeletal health in the workforce through an innovative digital platform.\nThis strategic conversation will feature Gregg N [...]
URL:https://scottsdaleinstitute.org/event/webinar-innovative-technology-is-transforming-musculoskeletal-care-and-team-member-wellness-at-northwell-health/
END:VEVENT
BEGIN:VEVENT
DTSTART;TZID=America/Chicago:20250826T130000
DTEND;TZID=America/Chicago:20250826T140000
DTSTAMP:20260420T074225
CREATED:20250804T173855Z
LAST-MODIFIED:20250826T201953Z
UID:71771-1756213200-1756216800@scottsdaleinstitute.org
SUMMARY:WEBINAR | Unburdening Nurses at Baptist Health South Florida: AI Fall Risk Automation
DESCRIPTION:Jean Putnam DNP\, MS\, RN\, CPHQ\, NEA-BC\, System Chief Nurse Executive; Eileen Pedraza\, Lead Technology and Digital Applied ML Engineer; Jeremiah Kayiza\, Manager Technology and Digital [...]
URL:https://scottsdaleinstitute.org/event/webinar-unburdening-nurses-at-baptist-health-south-florida-ai-fall-risk-automation/
END:VEVENT
BEGIN:VEVENT
DTSTART;TZID=America/Chicago:20250729T130000
DTEND;TZID=America/Chicago:20250729T140000
DTSTAMP:20260420T074225
CREATED:20250626T163543Z
LAST-MODIFIED:20250729T195455Z
UID:71316-1753794000-1753797600@scottsdaleinstitute.org
SUMMARY:WEBINAR | Innovation Success at Houston Methodist in the Patient Room\, OR and Outpatient Clinics
DESCRIPTION:Jordan Dale\, MD\, Chief Medical Information Officer and Inaugural Chief Health AI Officer; Aroub Khleif\, PhD\, Senior Director of Innovation\, Access\, Billing\, and Ambulatory Clinical  [...]
URL:https://scottsdaleinstitute.org/event/webinar-innovation-success-at-houston-methodist-in-the-patient-room-or-and-outpatient-clinics/
END:VEVENT
BEGIN:VEVENT
DTSTART;TZID=America/Chicago:20250722T130000
DTEND;TZID=America/Chicago:20250722T140000
DTSTAMP:20260420T074225
CREATED:20250706T175626Z
LAST-MODIFIED:20251203T015505Z
UID:71340-1753189200-1753192800@scottsdaleinstitute.org
SUMMARY:FIRESIDE CHAT | The AI Prescription: Leading Healthcare’s Workforce Revolution
DESCRIPTION:Featuring Bryan Ackermann\, Korn Ferry’s Head of AI Strategy and Transformation\nAI isn’t just transforming healthcare—it’s redefining how care is delivered\, operations are optimi [...]
URL:https://scottsdaleinstitute.org/event/the-ai-prescription-leading-healthcares-workforce-revolution/
END:VEVENT
BEGIN:VEVENT
DTSTART;TZID=America/Chicago:20250715T130000
DTEND;TZID=America/Chicago:20250715T140000
DTSTAMP:20260420T074225
CREATED:20250530T142741Z
LAST-MODIFIED:20250715T194832Z
UID:71154-1752584400-1752588000@scottsdaleinstitute.org
SUMMARY:WEBINAR | Scaling Patient Engagement: How AI Virtual Agents Are Expanding Capacity at Houston Methodist
DESCRIPTION:Adam Meyers\, Vice President of System Patient Access; Adam R. Silverman\, MD\, Chief Medical Officer; and Dana Marley\, MHA\, Client Success Manager\, ActiumHealth. Houston Methodist is l [...]
URL:https://scottsdaleinstitute.org/event/webinar-scaling-patient-engagement-how-ai-virtual-agents-are-expanding-capacity-at-houston-methodist/
END:VEVENT
BEGIN:VEVENT
DTSTART;TZID=America/Chicago:20250625T130000
DTEND;TZID=America/Chicago:20250625T140000
DTSTAMP:20260420T074225
CREATED:20250506T163740Z
LAST-MODIFIED:20260323T170945Z
UID:70932-1750856400-1750860000@scottsdaleinstitute.org
SUMMARY:WEBCAST | The 2025 Healthcare Cybersecurity Benchmarking Study
DESCRIPTION:Ed Gaudet\, CEO and Founder\, Censinet\nJoin us for an exclusive\, in-depth look at findings from the 2025 Healthcare Cybersecurity Benchmarking Study\, featuring key insights on the state [...]
URL:https://scottsdaleinstitute.org/event/webcast/
END:VEVENT
BEGIN:VEVENT
DTSTART;TZID=America/Chicago:20250624T130000
DTEND;TZID=America/Chicago:20250624T140000
DTSTAMP:20260420T074225
CREATED:20250515T190148Z
LAST-MODIFIED:20250707T180301Z
UID:71037-1750770000-1750773600@scottsdaleinstitute.org
SUMMARY:WEBINAR | Margin Improvement Strategies for Healthcare Systems: Insights from MedStar's Transformation Journey
DESCRIPTION:Join us for an insightful webinar where we delve into the margin improvement strategies employed by MedStar Health. This webinar\, featuring Brian Marshall\, VP\, Business Transformation O [...]
URL:https://scottsdaleinstitute.org/event/webinar-title-margin-improvement-strategies-for-healthcare-systems-insights-from-medstars-transformation-journey/
END:VEVENT
BEGIN:VEVENT
DTSTART;TZID=America/Chicago:20250617T140000
DTEND;TZID=America/Chicago:20250617T150000
DTSTAMP:20260420T074225
CREATED:20250512T140128Z
LAST-MODIFIED:20250707T181357Z
UID:70994-1750168800-1750172400@scottsdaleinstitute.org
SUMMARY:WEBINAR | How Enterprise AI Platforms Are Catalysts for Systemic Performance and Patient Outcomes
DESCRIPTION:Avi Sharma\, MD\, CIIP\, Director of AI\, Jefferson Health; Leonardo Kayat Bittencourt\, MD\, PhD\, Vice Chair of Innovation\, Department of Radiology\, UH Cleveland Medical Center; and To [...]
URL:https://scottsdaleinstitute.org/event/webinar-how-enterprise-ai-platforms-are-catalysts-for-systemic-performance-and-patient-outcomes/
END:VEVENT
BEGIN:VEVENT
DTSTART;TZID=America/Chicago:20250612T150000
DTEND;TZID=America/Chicago:20250612T160000
DTSTAMP:20260420T074225
CREATED:20250113T203213Z
LAST-MODIFIED:20260416T163603Z
UID:69513-1749740400-1749744000@scottsdaleinstitute.org
SUMMARY:DIALOGUE | Innovation + Digital Health + Virtual Care | “Launching a Premier Innovation Hub at Henry Ford Health to Accelerate Healthcare Solutions and Drive Economic Development”
DESCRIPTION:Lisa Prasad\, Vice President\, Chief Innovation Officer\, Henry Ford Health\n\nDialogue Digest
URL:https://scottsdaleinstitute.org/event/dialogue-digital-innovation-telehealth-launching-a-premier-innovation-hub-at-henry-ford-health-to-accelerate-healthcare-solutions-and-drive-economic-development/
END:VEVENT
BEGIN:VEVENT
DTSTART;TZID=America/Chicago:20250612T130000
DTEND;TZID=America/Chicago:20250612T140000
DTSTAMP:20260420T074225
CREATED:20250502T150621Z
LAST-MODIFIED:20250707T195845Z
UID:70901-1749733200-1749736800@scottsdaleinstitute.org
SUMMARY:WEBINAR | The Dollars and Sense of Digital ACP: How Houston Methodist Achieved Clinical\, Patient\, and Financial Gains
DESCRIPTION:Julia Andrieni\, MD\, MACP\, Senior Vice President\, Population Health and Primary Care\, Houston Methodist; Founder & Chief Executive Officer\, Houston Methodist Coordinated Care (HMCC) A [...]
URL:https://scottsdaleinstitute.org/event/webinar-the-dollars-and-sense-of-digital-acp-how-houston-methodist-achieved-clinical-patient-and-financial-gains/
END:VEVENT
BEGIN:VEVENT
DTSTART;TZID=America/Chicago:20250611T130000
DTEND;TZID=America/Chicago:20250611T140000
DTSTAMP:20260420T074225
CREATED:20250421T135018Z
LAST-MODIFIED:20250707T195936Z
UID:70790-1749646800-1749650400@scottsdaleinstitute.org
SUMMARY:WEBINAR | Centering Social Determinants of Health and Leveraging Digital Health Solutions\, Healthcare Delivery Models\, and Innovation to Impact the Life Expectancy Gap
DESCRIPTION:Garth Walker\, MD\, Chief Medical Officer\, Rush Health. This webinar reflects on Dr. Walker’s career and Rush’s mission to align digital innovation and strategic partnerships to addre [...]
URL:https://scottsdaleinstitute.org/event/webinar-centering-social-determinants-of-health-and-leveraging-digital-health-solutions-healthcare-delivery-models-and-innovation-to-impact-the-life-expectancy-gap/
END:VEVENT
BEGIN:VEVENT
DTSTART;TZID=America/Chicago:20250515T130000
DTEND;TZID=America/Chicago:20250515T140000
DTSTAMP:20260420T074225
CREATED:20250425T144340Z
LAST-MODIFIED:20250709T164651Z
UID:70823-1747314000-1747317600@scottsdaleinstitute.org
SUMMARY:WEBINAR | When C-Suite Leaders Are Aligned\, Health Systems Can Improve Technology Transformation
DESCRIPTION:Christy Lemak\, Executive Vice President\, Scottsdale Institute; Tim Skeen\, EVP\, CIO\, Sentara Healthcare; Michael T. Black\, Managing Director\, Deloitte; and Maulesh Shukla\, Executive [...]
URL:https://scottsdaleinstitute.org/event/when-c-suite-leaders-are-aligned-health-systems-can-improve-technology-transformation/
END:VEVENT
BEGIN:VEVENT
DTSTART;TZID=America/Chicago:20250506T130000
DTEND;TZID=America/Chicago:20250506T140000
DTSTAMP:20260420T074225
CREATED:20250225T163143Z
LAST-MODIFIED:20250709T164348Z
UID:70098-1746536400-1746540000@scottsdaleinstitute.org
SUMMARY:WEBINAR | Building Robust Clinician Pipelines and Elevating Healthier Communities
DESCRIPTION:Join us as Memorial Hermann Healthcare System Executives\, Bryan Sisk\, SVP\, Chief Nurse Executive and Lori Knowles\, SVP\, Chief Human Resources Officer share their experience expanding  [...]
URL:https://scottsdaleinstitute.org/event/webinar-building-robust-clinician-pipelines-and-elevating-healthier-communities/
END:VEVENT
BEGIN:VEVENT
DTSTART;TZID=America/Chicago:20250417T130000
DTEND;TZID=America/Chicago:20250417T140000
DTSTAMP:20260420T074225
CREATED:20250310T143758Z
LAST-MODIFIED:20260323T170946Z
UID:70283-1744894800-1744898400@scottsdaleinstitute.org
SUMMARY:WEBINAR | Trinity Health’s Innovative Care Delivery Model: Tech Enabled Virtual Nursing
DESCRIPTION:Trinity Health’s SVP & CNO Gay Landstrom\, PhD\, RN\, NEA-BC\, FAONL\, FACHE\, FAAN\, PCC; and SVP and Chief Health Informatics Officer\, Murielle Beene\, DNP\, MBA\, MPH\, MS\, PMP\, R [...]
URL:https://scottsdaleinstitute.org/event/webinar-trinity-healths-innovative-care-delivery-model-tech-enabled-virtual-nursing/
END:VEVENT
BEGIN:VEVENT
DTSTART;TZID=America/Chicago:20250416T130000
DTEND;TZID=America/Chicago:20250416T140000
DTSTAMP:20260420T074225
CREATED:20250122T160806Z
LAST-MODIFIED:20260323T170946Z
UID:69625-1744808400-1744812000@scottsdaleinstitute.org
SUMMARY:WEBINAR | Shifting from Value-Based Care to Delivering High Value Care
DESCRIPTION:Kelly Garrison\, MBA\, MHA\, Chief Transformation Officer; and Mark Collins\, MD\, FAAFP\, Chief Operating Officer\, One Health\, Advocate Health. This webinar discusses the world of value [...]
URL:https://scottsdaleinstitute.org/event/webinar-shifting-from-value-based-care-to-delivering-high-value-care/
END:VEVENT
BEGIN:VEVENT
DTSTART;TZID=America/Chicago:20250415T150000
DTEND;TZID=America/Chicago:20250415T160000
DTSTAMP:20260420T074225
CREATED:20250113T195916Z
LAST-MODIFIED:20260416T163821Z
UID:69497-1744729200-1744732800@scottsdaleinstitute.org
SUMMARY:DIALOGUE | Innovation\, Digital Health\, and Virtual Care | "Strategic Approaches to Innovation Intake and Prioritization: Managing Abundant Ideas with Limited Resources"
DESCRIPTION:Sharon Markman\, MHA\, Executive Director\, Clinical Excellence Innovation & Engagement; Director\, Center for Healthcare Delivery Science & Innovation (HDSI); Cheng-Kai Kao\, MD\, FACP\,  [...]
URL:https://scottsdaleinstitute.org/event/dialogue-digital-innovation-telehealth-strategic-approaches-to-innovation-intake-and-prioritization-managing-abundant-ideas-with-limited-resources/
END:VEVENT
BEGIN:VEVENT
DTSTART;TZID=America/Chicago:20250403T130000
DTEND;TZID=America/Chicago:20250403T140000
DTSTAMP:20260420T074225
CREATED:20250207T150434Z
LAST-MODIFIED:20251203T015506Z
UID:69868-1743685200-1743688800@scottsdaleinstitute.org
SUMMARY:FIRESIDE CHAT | What’s New with Patient Messaging and InBasket Management at CommonSpirit Health and Baptist Health
DESCRIPTION:John Chelico\, MD\, MA\, FACP\, FAMIA\, System Chief Medical Informatics Officer at CommonSpirit Health; and Brett Oliver\, MD\, Chief Medical Informatics Officer at Baptist Health discuss [...]
URL:https://scottsdaleinstitute.org/event/fireside-chat-whats-new-with-patient-messaging-and-inbasket-management-at-commonspirit-health-and-baptist-health/
END:VEVENT
BEGIN:VEVENT
DTSTART;TZID=America/Chicago:20250402T130000
DTEND;TZID=America/Chicago:20250402T140000
DTSTAMP:20260420T074225
CREATED:20250312T151439Z
LAST-MODIFIED:20250708T230830Z
UID:70344-1743598800-1743602400@scottsdaleinstitute.org
SUMMARY:WEBINAR | Scaling Virtual Acute Care for Sentara's Patient Community
DESCRIPTION:Sherry Kesler\, MBA\, BSN\, RN\, Director of Home Health Services; Colin L. Findlay\, MD\, Associate Chief Medical Officer; and E. Misa Ewing\, DNP\, MBA\, RN\, NEA-BC\, Associated Nurse E [...]
URL:https://scottsdaleinstitute.org/event/webinar-scaling-virtual-acute-care-for-sentaras-patient-community/
END:VEVENT
BEGIN:VEVENT
DTSTART;TZID=America/Chicago:20250401T130000
DTEND;TZID=America/Chicago:20250401T140000
DTSTAMP:20260420T074225
CREATED:20250325T130235Z
LAST-MODIFIED:20251203T015506Z
UID:70501-1743512400-1743516000@scottsdaleinstitute.org
SUMMARY:Fireside Chat | Responsible AI at Stanford Medicine
DESCRIPTION:Nigam Shah\, MBBS\, PhD\, Professor of Medicine and of Biomedical Data Science; Chief Data Scientist\, Stanford Health Care; Associate Dean for Research\, School of Medicine; Associate Dir [...]
URL:https://scottsdaleinstitute.org/event/responsible-ai-at-stanford-medicine/
END:VEVENT
BEGIN:VEVENT
DTSTART;TZID=America/Chicago:20250319T130000
DTEND;TZID=America/Chicago:20250319T140000
DTSTAMP:20260420T074225
CREATED:20250218T160401Z
LAST-MODIFIED:20250708T225129Z
UID:69933-1742389200-1742392800@scottsdaleinstitute.org
SUMMARY:WEBINAR | Integrated Patient Safety & Risk - a New Source of Value in the AI Era
DESCRIPTION:Join us as Drew Ladner\, Founding President & CEO and David Stockwell\, MD\, Chief Clinical Officer\, of Pascal Metrics\, a patient safety company dedicated to helping healthcare provid [...]
URL:https://scottsdaleinstitute.org/event/webinar-integrated-patient-safety-risk-a-new-source-of-value-in-the-ai-era/
END:VEVENT
BEGIN:VEVENT
DTSTART;TZID=America/Chicago:20250318T130000
DTEND;TZID=America/Chicago:20250318T140000
DTSTAMP:20260420T074225
CREATED:20250204T163205Z
LAST-MODIFIED:20250708T224742Z
UID:69808-1742302800-1742306400@scottsdaleinstitute.org
SUMMARY:WEBINAR | Forging an IT Sustainability Culture and Team
DESCRIPTION:Ann-Marie Yap\, Executive Director of Technology\, Stanford Medicine and Inna Dolottseva\, Certified Energy Manager\, Stanford Health Care. Most IT sustainability efforts start as well-mea [...]
URL:https://scottsdaleinstitute.org/event/webinar-forging-an-it-sustainability-culture-and-team/
END:VEVENT
BEGIN:VEVENT
DTSTART;TZID=America/Chicago:20250312T130000
DTEND;TZID=America/Chicago:20250312T140000
DTSTAMP:20260420T074225
CREATED:20250204T154431Z
LAST-MODIFIED:20250708T224406Z
UID:69794-1741784400-1741788000@scottsdaleinstitute.org
SUMMARY:WEBINAR | Bridge the AI Gap: Integrating Responsible Clinical Generative AI at the Point of Care
DESCRIPTION:Sheila A. Bond\, MD\, Director\, Clinical Content Strategy\, Clinical Effectiveness; and Manish Vazirani​\, Vice President\, */dxg CE Health Product Software Engineering\, Wolters Kluwer [...]
URL:https://scottsdaleinstitute.org/event/webinar-bridge-the-ai-gap-integrating-responsible-clinical-generative-ai-at-the-point-of-care/
END:VEVENT
BEGIN:VEVENT
DTSTART;TZID=America/Chicago:20250226T130000
DTEND;TZID=America/Chicago:20250226T140000
DTSTAMP:20260420T074225
CREATED:20250117T170849Z
LAST-MODIFIED:20260416T160130Z
UID:69577-1740574800-1740578400@scottsdaleinstitute.org
SUMMARY:WEBINAR | Adoption of Artificial Intelligence in Healthcare: A New Survey of Health System Priorities\, Successes\, and Challenges
DESCRIPTION:Eric Poon\, MD\, MPH\, AVP\, Chief Health Information Officer at Duke Health; and David Classen\, MD\, MS\, SI Board Member\, Professor of Medicine\, University of Utah Health\, CMIO\, Pas [...]
URL:https://scottsdaleinstitute.org/event/adoption-of-artificial-intelligence-in-healthcare-a-new-survey-of-health-system-priorities-successes-and-challenges/
END:VEVENT
BEGIN:VEVENT
DTSTART;TZID=America/Chicago:20250218T130000
DTEND;TZID=America/Chicago:20250218T140000
DTSTAMP:20260420T074225
CREATED:20250123T150551Z
LAST-MODIFIED:20250708T223036Z
UID:69634-1739883600-1739887200@scottsdaleinstitute.org
SUMMARY:WEBINAR | Responsible AI Governance in Oncology at Memorial Sloan Kettering Cancer Center
DESCRIPTION:Peter Stetson\, MD\, MA\, Chief Health Informatics Officer at MSK focuses on real-world governance of AI in oncology. He reports on their AI Governance Committee’s 1-year experience and  [...]
URL:https://scottsdaleinstitute.org/event/webinar-responsible-ai-governance-in-oncology/
END:VEVENT
BEGIN:VEVENT
DTSTART;TZID=America/Chicago:20250205T130000
DTEND;TZID=America/Chicago:20250205T140000
DTSTAMP:20260420T074225
CREATED:20250110T153846Z
LAST-MODIFIED:20250708T221405Z
UID:69443-1738760400-1738764000@scottsdaleinstitute.org
SUMMARY:WEBINAR | Innovating for Impact: Real-World Approaches to Advancing Health Using Data Science and AI
DESCRIPTION:Arash Naeim\, MD\, PhD\, Professor of Medicine in both the Division(s) of Hematology-Oncology & Geriatric Medicine\, David Geffen UCLA School of Medicine; & Greg Dorn\, Senior Vice Preside [...]
URL:https://scottsdaleinstitute.org/event/webinar-innovating-for-impact-real-world-approaches-to-advancing-health-using-data-science-and-ai/
END:VEVENT
BEGIN:VEVENT
DTSTART;TZID=America/Chicago:20250130T130000
DTEND;TZID=America/Chicago:20250130T140000
DTSTAMP:20260420T074225
CREATED:20241211T160537Z
LAST-MODIFIED:20250708T220201Z
UID:69243-1738242000-1738245600@scottsdaleinstitute.org
SUMMARY:WEBINAR | AI Policy Beat – Emerging Federal and State Policy Priorities
DESCRIPTION:Mark Sendak\, MD\, MPP\, Population Health & Data Science Lead\, Duke Institute for Health Innovation (DIHI) ; & Jared Augenstein\, Managing Director\, Manatt Health. The AI legal and regu [...]
URL:https://scottsdaleinstitute.org/event/webinar-ai-policy-beat-emerging-federal-and-state-policy-priorities/
END:VEVENT
BEGIN:VEVENT
DTSTART;TZID=America/Chicago:20250122T130000
DTEND;TZID=America/Chicago:20250122T140000
DTSTAMP:20260420T074225
CREATED:20241212T173507Z
LAST-MODIFIED:20250708T214351Z
UID:69262-1737550800-1737554400@scottsdaleinstitute.org
SUMMARY:WEBINAR | Navigating Obstacles and Driving ROI in Healthcare Data and Analytics
DESCRIPTION:Dave Ross\, Chief Technology Officer\, Health Catalyst. Organizations face many constraints—rigid\, legacy technologies\, labor-intensive data collection and aggregation\, immense financ [...]
URL:https://scottsdaleinstitute.org/event/webinar-navigating-obstacles-and-driving-roi-in-healthcare-data-and-analytics/
END:VEVENT
BEGIN:VEVENT
DTSTART;TZID=America/Chicago:20250109T130000
DTEND;TZID=America/Chicago:20250109T140000
DTSTAMP:20260420T074225
CREATED:20241211T193007Z
LAST-MODIFIED:20250708T210611Z
UID:69249-1736427600-1736431200@scottsdaleinstitute.org
SUMMARY:WEBINAR | Moving Health Forward: Lessons from a CDIO
DESCRIPTION:Jeﬀ Sturman\, Senior Vice President\, Chief Digital Oﬃcer\, Memorial Healthcare System/South Broward Hospital District; and John Kravitz\, Vice President\, Healthcare\, Workday. Provid [...]
URL:https://scottsdaleinstitute.org/event/webinar-moving-health-forward-lessons-from-a-cdio/
END:VEVENT
END:VCALENDAR