BEGIN:VCALENDAR
VERSION:2.0
PRODID:-//Scottsdale Institute - ECPv6.8.0//NONSGML v1.0//EN
CALSCALE:GREGORIAN
METHOD:PUBLISH
X-WR-CALNAME:Scottsdale Institute
X-ORIGINAL-URL:https://scottsdaleinstitute.org
X-WR-CALDESC:Events for Scottsdale Institute
REFRESH-INTERVAL;VALUE=DURATION:PT1H
X-Robots-Tag:noindex
X-PUBLISHED-TTL:PT1H
BEGIN:VTIMEZONE
TZID:America/Chicago
BEGIN:DAYLIGHT
TZOFFSETFROM:-0600
TZOFFSETTO:-0500
TZNAME:CDT
DTSTART:20240310T080000
END:DAYLIGHT
BEGIN:STANDARD
TZOFFSETFROM:-0500
TZOFFSETTO:-0600
TZNAME:CST
DTSTART:20241103T070000
END:STANDARD
END:VTIMEZONE
BEGIN:VEVENT
DTSTART;TZID=America/Chicago:20240718T150000
DTEND;TZID=America/Chicago:20240718T160000
DTSTAMP:20260421T040650
CREATED:20240521T180742Z
LAST-MODIFIED:20260415T202732Z
UID:66679-1721314800-1721318400@scottsdaleinstitute.org
SUMMARY:DIALOGUE | Analytics | "Analytics Strategy & Roadmap Exploration"
DESCRIPTION:Meghan Cole\, Vice President\, Analytics & Program Management and Paul Vitantonio\, MS\, Manager\, Information Technology\, Data Analytics\, Bronson Healthcare Group\n\nPresentation Slides [...]
URL:https://scottsdaleinstitute.org/event/dialogue-analytics-analytics-strategy-roadmap-exploration/
END:VEVENT
BEGIN:VEVENT
DTSTART;TZID=America/Chicago:20240718T120000
DTEND;TZID=America/Chicago:20240718T130000
DTSTAMP:20260421T040650
CREATED:20240703T031148Z
LAST-MODIFIED:20250402T195357Z
UID:67074-1721304000-1721307600@scottsdaleinstitute.org
SUMMARY:FIRESIDE CHAT / WEBINAR | Thoughtful\, Dramatic Change: Insights From High-Impact Health CIOs
DESCRIPTION:Craig Richardville\, Chief Digital and Information Officer\, Intermountain Health; and John Kravitz\, Head of Healthcare Industry GTM\, Workday.  Between evolving care delivery models\, e [...]
URL:https://scottsdaleinstitute.org/event/webinar-fireside-chat-thoughtful-dramatic-change-insights-from-high-impact-health-cios/
END:VEVENT
BEGIN:VEVENT
DTSTART;TZID=America/Chicago:20240710T130000
DTEND;TZID=America/Chicago:20240710T140000
DTSTAMP:20260421T040650
CREATED:20240610T143637Z
LAST-MODIFIED:20250319T192309Z
UID:66874-1720616400-1720620000@scottsdaleinstitute.org
SUMMARY:WEBINAR | Engaging Data and AI To Drive Results for Contact Center Operations
DESCRIPTION:Join a conversation with Jen Novitski\, MBA\, BSN\, RN\, SAVP\, Provider Market Strategy; and Keri McCrensky\, VP of Healthcare Digital Transformation\, EXL\, as they examine the state of  [...]
URL:https://scottsdaleinstitute.org/event/webinar-engaging-data-and-ai-to-drive-results-for-contact-center-operations/
END:VEVENT
BEGIN:VEVENT
DTSTART;TZID=America/Chicago:20240709T150000
DTEND;TZID=America/Chicago:20240709T160000
DTSTAMP:20260421T040650
CREATED:20240123T182538Z
LAST-MODIFIED:20260416T170050Z
UID:65157-1720537200-1720540800@scottsdaleinstitute.org
SUMMARY:DIALOGUE | CIO | "From a System Integrator Approach to a Value Delivery Mindset: How can Healthcare IT transform to deliver on the promise of digital in a way their customers value?"
DESCRIPTION:Benjamin Mansalis\, MD\, Chief Digital and Information Officer\, IU Health\n\n\n\nPresentation Slides\nDialogue Digest\nRecording Link (Passcode: Kd7eMY+8)
URL:https://scottsdaleinstitute.org/event/dialogue-cio-from-a-system-integrator-approach-to-a-value-delivery-mindset-how-can-healthcare-it-transform-to-deliver-on-the-promise-of-digital-in-a-way-their-customers-value/
END:VEVENT
BEGIN:VEVENT
DTSTART;TZID=America/Chicago:20240627T130000
DTEND;TZID=America/Chicago:20240627T140000
DTSTAMP:20260421T040650
CREATED:20240522T155914Z
LAST-MODIFIED:20250402T195357Z
UID:66725-1719493200-1719496800@scottsdaleinstitute.org
SUMMARY:WEBINAR | Highmark Responsible AI Framework
DESCRIPTION:Michael Barber\, Director\, Data Science R&D\, Highmark Health. This webinar discusses considerations for a data-centric approach to machine learning (ML) and artificial intelligence (AI)  [...]
URL:https://scottsdaleinstitute.org/event/webinar-highmark-responsible-ai-framework/
END:VEVENT
BEGIN:VEVENT
DTSTART;TZID=America/Chicago:20240625T130000
DTEND;TZID=America/Chicago:20240625T140000
DTSTAMP:20260421T040650
CREATED:20240520T145933Z
LAST-MODIFIED:20250319T191810Z
UID:66672-1719320400-1719324000@scottsdaleinstitute.org
SUMMARY:WEBINAR | Center for Automation Kickstart: Practical Lessons to Keep Up with the Automation Craze
DESCRIPTION:Meghan Cole\, Vice President\, Analytics & Program Management; Jody Roon\, Manager\, Information Technology; and Paul Vitantonio\, Manager\, Information Technology\, Bronson Healthcare Gro [...]
URL:https://scottsdaleinstitute.org/event/webinar-center-for-automation-kickstart-practical-lessons-to-keep-up-with-the-automation-craze/
END:VEVENT
BEGIN:VEVENT
DTSTART;VALUE=DATE:20240620
DTEND;VALUE=DATE:20240622
DTSTAMP:20260421T040650
CREATED:20240301T205031Z
LAST-MODIFIED:20251104T035805Z
UID:65685-1718841600-1719014399@scottsdaleinstitute.org
SUMMARY:SUMMIT | 2024 Clinical Informatics - Charting the Future: The Role of AI in the EHR and Clinician Well Being
DESCRIPTION:Charting the Future: The Role of AI in the EHR and Clinician Well Being\n\nJune 20-21\, 2024\nSI Clinical Informatics Summit\nHosted by Texas Health Resources and UT Southwestern Medical C [...]
URL:https://scottsdaleinstitute.org/event/summit-2024-clinical-informatics-charting-the-future-the-role-of-ai-in-the-ehr-and-clinician-well-being/
ATTACH;FMTTYPE=image/jpeg:https://scottsdaleinstitute.org/wp-content/uploads/2024/03/CI-Summit-Image.jpg
END:VEVENT
BEGIN:VEVENT
DTSTART;TZID=America/Chicago:20240618T130000
DTEND;TZID=America/Chicago:20240618T140000
DTSTAMP:20260421T040650
CREATED:20240520T145046Z
LAST-MODIFIED:20260323T170959Z
UID:66670-1718715600-1718719200@scottsdaleinstitute.org
SUMMARY:WEBINAR | Healthcare Reimagined: Generative AI and Epic
DESCRIPTION:Nick Marzotto\, Product Informaticist; and Sean McGunigal\, Director of Artificial Intelligence\, Epic. Explore the integration of Generative AI in healthcare settings. They delve into bot [...]
URL:https://scottsdaleinstitute.org/event/webinar-healthcare-reimagined-generative-ai-and-epic/
END:VEVENT
BEGIN:VEVENT
DTSTART;TZID=America/Chicago:20240613T130000
DTEND;TZID=America/Chicago:20240613T140000
DTSTAMP:20260421T040650
CREATED:20240424T181804Z
LAST-MODIFIED:20260323T171000Z
UID:66403-1718283600-1718287200@scottsdaleinstitute.org
SUMMARY:WEBINAR | “Why Don’t You Just Cut Off Your Family?”: An Educational Training Tool using Multimodal AI to Increase Cultural Competency in the Next Generation of Therapists
DESCRIPTION: \n \n \n \n \n \nJoin this award-winning PsykAI team from the University of Michigan\, Dushyanth Aluwihare\, UI/UX Designer\, MSc in Information Science; Meha Goyal\, Software Engin [...]
URL:https://scottsdaleinstitute.org/event/webinar-why-dont-you-just-cut-off-your-family-a-multimodel-ai-training-tool-to-increase-cultural-sensitivity-competency-in-the-next-generation-of-therapists/
END:VEVENT
BEGIN:VEVENT
DTSTART;TZID=America/Chicago:20240612T130000
DTEND;TZID=America/Chicago:20240612T140000
DTSTAMP:20260421T040650
CREATED:20240503T142941Z
LAST-MODIFIED:20260323T171000Z
UID:66536-1718197200-1718200800@scottsdaleinstitute.org
SUMMARY:SPECIAL WEBINAR | Repeat Keynotes from SI 2024 Annual Conference | Who is Controlling the Narrative? (aka “The Billionaires’ War Against Hospitals”) and Navigating Challenges & Shaping the Future of Not For Profit Health Systems: A Proactive Approach.
DESCRIPTION:Paul Lee\, Senior Partner & Founder\, Strategic Health Care describes an anti-hospital campaign being waged in the nation’s capital – and in 35 states as well.  Over the past 24 month [...]
URL:https://scottsdaleinstitute.org/event/webinar-special-webinar-repeat-keynotes-from-si-2024-annual-conference-who-is-controlling-the-narrative-aka-the-billionaires-war-against-hospitals-and-navigating-ch/
END:VEVENT
BEGIN:VEVENT
DTSTART;TZID=America/Chicago:20240611T130000
DTEND;TZID=America/Chicago:20240611T140000
DTSTAMP:20260421T040650
CREATED:20240415T155354Z
LAST-MODIFIED:20250402T195358Z
UID:66278-1718110800-1718114400@scottsdaleinstitute.org
SUMMARY:WEBINAR | Introducing Meaningful\, Patient-First Medication Guidance While Tackling Alert Overload
DESCRIPTION:David R. Linz\, MD\, FACP\, Internal Medicine\, Moorings Park. During its EHR system transition\, NCH collaborated with FDB to tailor medication alerts specifically to patient contexts. Th [...]
URL:https://scottsdaleinstitute.org/event/webinar-introducing-meaningful-patient-first-medication-guidance-while-tackling-alert-overload/
END:VEVENT
BEGIN:VEVENT
DTSTART;TZID=America/Chicago:20240606T130000
DTEND;TZID=America/Chicago:20240606T140000
DTSTAMP:20260421T040650
CREATED:20240503T141948Z
LAST-MODIFIED:20250402T195358Z
UID:66534-1717678800-1717682400@scottsdaleinstitute.org
SUMMARY:WEBINAR | Industry Guardrails to Ensure the Responsible Use of AI in Healthcare
DESCRIPTION:Eric D. Peterson\, MD\, MPH\, Vice Provost & Senior Associate Dean for Clinical Research\, Professor of Medicine\, University of Texas Southwestern Medical Center; and David Rhew\, MD\, Gl [...]
URL:https://scottsdaleinstitute.org/event/webinar-industry-guardrails-to-ensure-the-responsible-use-of-ai-in-healthcare/
END:VEVENT
BEGIN:VEVENT
DTSTART;TZID=America/Chicago:20240605T130000
DTEND;TZID=America/Chicago:20240605T140000
DTSTAMP:20260421T040650
CREATED:20240424T171346Z
LAST-MODIFIED:20260323T171001Z
UID:66387-1717592400-1717596000@scottsdaleinstitute.org
SUMMARY:WEBINAR | Social Capital as the Core of Healthcare Strategy with Dr. Tom Lee
DESCRIPTION:Join Press Ganey’s Chief Medical Officer\, Thomas Lee\, MD\, for an insightful exploration of social capital in healthcare\, an important competitive differentiator. In this session\, Dr [...]
URL:https://scottsdaleinstitute.org/event/webinar-social-capital-as-the-core-of-healthcare-strategy-with-dr-tom-lee/
END:VEVENT
BEGIN:VEVENT
DTSTART;TZID=America/Chicago:20240604T130000
DTEND;TZID=America/Chicago:20240604T140000
DTSTAMP:20260421T040650
CREATED:20240415T161106Z
LAST-MODIFIED:20260323T171001Z
UID:66284-1717506000-1717509600@scottsdaleinstitute.org
SUMMARY:WEBINAR | Fitting the Puzzle Pieces Together with Enterprise Imaging
DESCRIPTION:Jeff Jones\, Director\, Impact Advisors. In today’s medical imaging environment\, health provider organizations have disparate technologies\, processes\, and teams that are siloed who ar [...]
URL:https://scottsdaleinstitute.org/event/webinar-fitting-the-puzzle-pieces-together-with-enterprise-imaging/
END:VEVENT
BEGIN:VEVENT
DTSTART;TZID=America/Chicago:20240521T130000
DTEND;TZID=America/Chicago:20240521T140000
DTSTAMP:20260421T040650
CREATED:20240124T204103Z
LAST-MODIFIED:20250820T134214Z
UID:65195-1716296400-1716300000@scottsdaleinstitute.org
SUMMARY:WEBINAR | AI and Patient Safety: Opportunities and Challenges
DESCRIPTION:Subashnie Devkaran\, PhD\, FACHE\, Chair of Quality & Value\, Mayo Clinic; and Tejal Gandhi\, MD\, MPH\, CPPS\, Chief Safety & Transformation Officer\, Press Ganey\, assess the patient-saf [...]
URL:https://scottsdaleinstitute.org/event/webinar-ai-and-patient-safety-opportunities-and-challenges/
END:VEVENT
BEGIN:VEVENT
DTSTART;TZID=America/Chicago:20240516T130000
DTEND;TZID=America/Chicago:20240516T140000
DTSTAMP:20260421T040650
CREATED:20240328T145521Z
LAST-MODIFIED:20250402T195358Z
UID:66053-1715864400-1715868000@scottsdaleinstitute.org
SUMMARY:WEBINAR | Mile Bluff Medical Center\, The Innovation Advantage: Harnessing Transformative Power to Drive Technology Adoption
DESCRIPTION:Randall Brandt\, PA-C\, Physician Assistant\, Mile Bluff Medical Center. In today’s information-now culture\, we’ve grown accustomed to quickly finding answers and surfacing needed inf [...]
URL:https://scottsdaleinstitute.org/event/webinar-mile-bluff-medical-center-the-innovation-advantage-harnessing-transformative-power-to-drive-technology-adoption/
END:VEVENT
BEGIN:VEVENT
DTSTART;TZID=America/Chicago:20240515T130000
DTEND;TZID=America/Chicago:20240515T140000
DTSTAMP:20260421T040650
CREATED:20240415T150216Z
LAST-MODIFIED:20250402T195358Z
UID:66271-1715778000-1715781600@scottsdaleinstitute.org
SUMMARY:WEBINAR | Community Care Hubs: A Promising Model for Health and Social Care Coordination
DESCRIPTION:Maureen Pike\, MPH\, MBA\, RN\, Director of Social and Clinical Care Integration\, Community Health and Well-Being\, Trinity Health; and Marc Rosen\, MPH\, System Director\, Community Impa [...]
URL:https://scottsdaleinstitute.org/event/webinar-community-care-hubs-a-promising-model-for-health-and-social-care-coordination/
END:VEVENT
BEGIN:VEVENT
DTSTART;VALUE=DATE:20240509
DTEND;VALUE=DATE:20240511
DTSTAMP:20260421T040650
CREATED:20240314T210738Z
LAST-MODIFIED:20260416T161953Z
UID:65827-1715212800-1715385599@scottsdaleinstitute.org
SUMMARY:SUMMIT | 2024 CISO — Global Cyber Threats and Healthcare Sector Resilience Opportunities
DESCRIPTION:Global Cyber Threats and Healthcare Sector Resilience Opportunities\n\nMay 9-10\, 2024\nSI CISO Summit\nHosted by Baptist Health\nSponsored by Deloitte\n\n\n\nLeave Your Mark on Healthcare [...]
URL:https://scottsdaleinstitute.org/event/ciso-summit-2024-global-cyber-threats-and-healthcare-sector-resilience-opportunities/
ATTACH;FMTTYPE=image/jpeg:https://scottsdaleinstitute.org/wp-content/uploads/2024/03/CISO-Summit-2024.jpg
END:VEVENT
BEGIN:VEVENT
DTSTART;TZID=America/Chicago:20240507T150000
DTEND;TZID=America/Chicago:20240507T160000
DTSTAMP:20260421T040650
CREATED:20240208T174857Z
LAST-MODIFIED:20260415T205402Z
UID:65345-1715094000-1715097600@scottsdaleinstitute.org
SUMMARY:DIALOGUE | Digital\, Innovation\, Telehealth | "Beyond The Pilot - Scaling Ambient Documentation Solutions"
DESCRIPTION:Kali Arduini\, Director\, Innovation\, and Anu Melville\, Project Manager\, Innovation\, Northwestern Medicine\n\nPresentation Materials\nNorthwestern Medicine Nuance DAX ROI\nDialogue Dig [...]
URL:https://scottsdaleinstitute.org/event/dialogue-digital-innovation-telehealth-beyond-the-pilot-scaling-ambient-documentation-solutions/
END:VEVENT
BEGIN:VEVENT
DTSTART;TZID=America/Chicago:20240507T130000
DTEND;TZID=America/Chicago:20240507T140000
DTSTAMP:20260421T040650
CREATED:20240423T184642Z
LAST-MODIFIED:20260323T171002Z
UID:66349-1715086800-1715090400@scottsdaleinstitute.org
SUMMARY:FIRESIDE CHAT / WEBINAR | Intermountain Healthcare\, Hospital-at-Home: Evolution\, Results\, and The Influence of Policy on the Future
DESCRIPTION:Anna McMillan\, Home Service Director\, Castell Health; Nathan Starr\, Medical Director\, Home Services Castell Health/Intermountain Health; and Nick Bath\, Partner\, Manatt Health. Join u [...]
URL:https://scottsdaleinstitute.org/event/fireside-chat-webinar-intermountain-healthcare-hospital-at-home-evolution-results-and-the-influence-of-policy-on-the-future/
END:VEVENT
BEGIN:VEVENT
DTSTART;TZID=America/Chicago:20240501T150000
DTEND;TZID=America/Chicago:20240501T160000
DTSTAMP:20260421T040650
CREATED:20240208T180837Z
LAST-MODIFIED:20260416T170222Z
UID:65351-1714575600-1714579200@scottsdaleinstitute.org
SUMMARY:DIALOGUE | Clinical Informatics | "A Tribute to Daniel Kahneman: Behavioral Economics in Clinical Informatics"
DESCRIPTION:Romil Chadha\, MD\, MBA\, MPH\, SFHM\, FACP\, CMIO\, UK Healthcare\nAssociate Professor of Medicine\, University of Kentucky\, Division of Hospital Medicine\, Department of Internal Medici [...]
URL:https://scottsdaleinstitute.org/event/dialogue-clinical-informatics-a-tribute-to-daniel-kahneman-behavioral-economics-in-clinical-informatics/
END:VEVENT
BEGIN:VEVENT
DTSTART;TZID=America/Chicago:20240430T130000
DTEND;TZID=America/Chicago:20240430T140000
DTSTAMP:20260421T040650
CREATED:20240327T151249Z
LAST-MODIFIED:20251203T015511Z
UID:66019-1714482000-1714485600@scottsdaleinstitute.org
SUMMARY:FIRESIDE CHAT / WEBINAR  | Return on Innovation: Why Now is the Time to Be Bold
DESCRIPTION:Theresa Meadows\, RN\, MS\, CHCIO\, FHIMSS\, FACHE\, Senior Vice President & CIO\, Cook Children’s Health Care System; and John Kravitz\, Vice President\, Healthcare\, Workday. CIOs are  [...]
URL:https://scottsdaleinstitute.org/event/fireside-chat-webinar-return-on-innovation-why-now-is-the-time-to-be-bold/
END:VEVENT
BEGIN:VEVENT
DTSTART;TZID=America/Chicago:20240425T130000
DTEND;TZID=America/Chicago:20240425T140000
DTSTAMP:20260421T040650
CREATED:20240222T201232Z
LAST-MODIFIED:20250402T195358Z
UID:65526-1714050000-1714053600@scottsdaleinstitute.org
SUMMARY:WEBINAR | Call Centers Emerge as a Transformative Use Case to Realize Tangible AI Value in a Competitive Healthcare Market
DESCRIPTION:Anil Thyagarajan\, Vice President; and Bryan Arkwright\, Director\, Impact Advisors. Join Anil and Bryan as they discuss how a vision and path to vet\, implement\, and optimize call center [...]
URL:https://scottsdaleinstitute.org/event/call-centers-emerge-as-a-transformative-use-case-to-realize-tangible-ai-value-in-a-competitive-healthcare-market/
END:VEVENT
BEGIN:VEVENT
DTSTART;TZID=America/Chicago:20240424T130000
DTEND;TZID=America/Chicago:20240424T140000
DTSTAMP:20260421T040650
CREATED:20240305T154434Z
LAST-MODIFIED:20250402T195358Z
UID:65716-1713963600-1713967200@scottsdaleinstitute.org
SUMMARY:WEBINAR | Putting The ❤ Into Health Education: Addressing Rising Risk in Cardiovascular Care with An Empathic Enterprise Approach
DESCRIPTION:Evan Heigert\, Creative Director\, Patient Engagement; and Mitch Collier\, Technology Product Management Associate Director\, Wolters Kluwer. Cardiovascular disease (CVD) is the leading ca [...]
URL:https://scottsdaleinstitute.org/event/webinar-putting-the-%e2%9d%a4-into-health-education-addressing-rising-risk-in-cardiovascular-care-with-an-empathic-enterprise-approach/
END:VEVENT
BEGIN:VEVENT
DTSTART;TZID=America/Chicago:20240423T130000
DTEND;TZID=America/Chicago:20240423T140000
DTSTAMP:20260421T040650
CREATED:20240327T143610Z
LAST-MODIFIED:20260323T171003Z
UID:66014-1713877200-1713880800@scottsdaleinstitute.org
SUMMARY:WEBINAR | Making Home the Center of the Health System: Building and Optimizing a Hospital-at-Home Program
DESCRIPTION:Ann-Elizabeth Mohart\, MD\, Vice President of Care Transitions\, Mercy Health; and Ron Paulus\, MD\, President & CEO\, Maribel Health. Join us as Drs. Mohart and Paulus present the impact  [...]
URL:https://scottsdaleinstitute.org/event/webinar-making-home-the-center-of-the-health-system-building-and-optimizing-a-hospital-at-home-program/
END:VEVENT
BEGIN:VEVENT
DTSTART;VALUE=DATE:20240417
DTEND;VALUE=DATE:20240420
DTSTAMP:20260421T040650
CREATED:20240418T041107Z
LAST-MODIFIED:20251222T182911Z
UID:64339-1713312000-1713571199@scottsdaleinstitute.org
SUMMARY:SI 2024 Annual Conference: Co-Creating Change
DESCRIPTION:Co-Creating Change:\nEmpathy\, Relationship\, Intelligence\nPutting the pieces together by:\n\nNavigating complexity via new operating models\nMaking healthcare more affordable\, accessibl [...]
URL:https://scottsdaleinstitute.org/event/si-2024-annual-conference-co-creating-change/
ATTACH;FMTTYPE=image/jpeg:https://scottsdaleinstitute.org/wp-content/uploads/2024/04/Annual-Conference-Photo-crop.jpg
END:VEVENT
BEGIN:VEVENT
DTSTART;TZID=America/Chicago:20240411T110000
DTEND;TZID=America/Chicago:20240411T120000
DTSTAMP:20260421T040650
CREATED:20240130T162443Z
LAST-MODIFIED:20260323T171004Z
UID:65248-1712833200-1712836800@scottsdaleinstitute.org
SUMMARY:FIRESIDE CHAT / WEBINAR | Leadership Teams of the Future: Critical Convergence of Technology and Operations - Lessons Learned from Corewell Health
DESCRIPTION:Join us for a Fireside Chat with Tina Freese Decker\, MHA\, MSIE\, FACHE\, President & CEO\, Corewell Health & Jason Joseph\, MBA\, Chief Digital & Information Officer; and Moderator Chri [...]
URL:https://scottsdaleinstitute.org/event/webinar-leadership-teams-of-the-future-critical-convergence-of-technology-and-operations-lessons-learned-from-corewell-health/
END:VEVENT
BEGIN:VEVENT
DTSTART;TZID=America/Chicago:20240410T130000
DTEND;TZID=America/Chicago:20240410T140000
DTSTAMP:20260421T040650
CREATED:20240305T152308Z
LAST-MODIFIED:20260323T171004Z
UID:65707-1712754000-1712757600@scottsdaleinstitute.org
SUMMARY:FIRESIDE CHAT / WEBINAR | Augmented Ingenuity: AI for Patient Safety
DESCRIPTION: \n \n \n \n \n \n“Patient safety may offer us the most far-reaching opportunity to apply AI to clinical care\,” says David Classen\, MD\, MS\, Professor\, University of Utah. Ex [...]
URL:https://scottsdaleinstitute.org/event/fireside-chat-webinar-augmented-ingenuity-ai-for-patient-safety/
END:VEVENT
BEGIN:VEVENT
DTSTART;TZID=America/Chicago:20240402T130000
DTEND;TZID=America/Chicago:20240402T140000
DTSTAMP:20260421T040650
CREATED:20240308T193016Z
LAST-MODIFIED:20250402T195400Z
UID:65790-1712062800-1712066400@scottsdaleinstitute.org
SUMMARY:WEBINAR | The Evolution of EHRs and Ascension's Deployment of a Smart EHR UI
DESCRIPTION:John Glaser\, PhD\, Executive in Residence\, Harvard Medical School; and Mitesh Patel\, MD\, MBA\, Chief Clinical Transformation Officer\, National Vice President\, Ascension. This webinar [...]
URL:https://scottsdaleinstitute.org/event/webinar-the-evolution-of-ehrs-and-ascensions-deployment-of-a-smart-ehr-ui/
END:VEVENT
BEGIN:VEVENT
DTSTART;TZID=America/Chicago:20240321T130000
DTEND;TZID=America/Chicago:20240321T140000
DTSTAMP:20260421T040650
CREATED:20240222T194856Z
LAST-MODIFIED:20260323T171004Z
UID:65520-1711026000-1711029600@scottsdaleinstitute.org
SUMMARY:WEBINAR | Perspectives from a Changemaker
DESCRIPTION:Priscilla Frase\, MD\, CMIO; & EZ Niles\, Executive Director of IT\, Ozarks Healthcare. Recipient of the 2024 HIMSS Changemaker Senior Executive Award\, Dr. Frase highlights Ozarks Healthc [...]
URL:https://scottsdaleinstitute.org/event/webinar-perspectives-from-a-changemaker/
END:VEVENT
END:VCALENDAR