BEGIN:VCALENDAR
VERSION:2.0
PRODID:-//Scottsdale Institute - ECPv6.8.0//NONSGML v1.0//EN
CALSCALE:GREGORIAN
METHOD:PUBLISH
X-ORIGINAL-URL:https://scottsdaleinstitute.org
X-WR-CALDESC:Events for Scottsdale Institute
REFRESH-INTERVAL;VALUE=DURATION:PT1H
X-Robots-Tag:noindex
X-PUBLISHED-TTL:PT1H
BEGIN:VTIMEZONE
TZID:America/Chicago
BEGIN:DAYLIGHT
TZOFFSETFROM:-0600
TZOFFSETTO:-0500
TZNAME:CDT
DTSTART:20220313T080000
END:DAYLIGHT
BEGIN:STANDARD
TZOFFSETFROM:-0500
TZOFFSETTO:-0600
TZNAME:CST
DTSTART:20221106T070000
END:STANDARD
BEGIN:DAYLIGHT
TZOFFSETFROM:-0600
TZOFFSETTO:-0500
TZNAME:CDT
DTSTART:20230312T080000
END:DAYLIGHT
BEGIN:STANDARD
TZOFFSETFROM:-0500
TZOFFSETTO:-0600
TZNAME:CST
DTSTART:20231105T070000
END:STANDARD
END:VTIMEZONE
BEGIN:VEVENT
DTSTART;TZID=America/Chicago:20230405T130000
DTEND;TZID=America/Chicago:20230405T140000
DTSTAMP:20260423T214805
CREATED:20230317T131735Z
LAST-MODIFIED:20251029T154356Z
UID:60404-1680699600-1680703200@scottsdaleinstitute.org
SUMMARY:WEBINAR | Building a More Efficient Digital Transformation
DESCRIPTION:Michael Black\, Managing Director\, and Sahithi Bayana\, Senior Manager\, Deloitte. Healthcare organizations often cite IT spend as a barrier to embarking on a Cloud transformation journey [...]
URL:https://scottsdaleinstitute.org/event/webinar-building-a-more-efficient-digital-transformation/
END:VEVENT
BEGIN:VEVENT
DTSTART;TZID=America/Chicago:20230404T130000
DTEND;TZID=America/Chicago:20230404T140000
DTSTAMP:20260423T214805
CREATED:20230317T131459Z
LAST-MODIFIED:20250319T193520Z
UID:60400-1680613200-1680616800@scottsdaleinstitute.org
SUMMARY:FIRESIDE CHAT / WEBINAR | Leading with Care: How Effective CIOs Empower Teams and Accelerate Transformation
DESCRIPTION:Bobbie Byrne\, MD\, CIO\, Advocate Health; John Kravitz\, Head of Healthcare Industry GTM; and moderated by Indy Bains\, Vice President\, Industry and oCFO Solution Marketing\, Workday. He [...]
URL:https://scottsdaleinstitute.org/event/fireside-chat-webinar-leading-with-care-how-effective-cios-empower-teams-and-accelerate-transformation/
END:VEVENT
BEGIN:VEVENT
DTSTART;TZID=America/Chicago:20230330T150000
DTEND;TZID=America/Chicago:20230330T160000
DTSTAMP:20260423T214805
CREATED:20230103T150614Z
LAST-MODIFIED:20260415T195906Z
UID:58309-1680188400-1680192000@scottsdaleinstitute.org
SUMMARY:DIALOGUE | CIO + CISO - “FBI CISO Academy Program”
DESCRIPTION:Scott Dresen\, FACHE\, FHIMSS\, CISSP\, CISM\, SVP\, Information Security & CISO\, Corewell Health and Special Agent Mike Glennon\, Private Sector Coordinator (PSC)\, Detroit Field Office\ [...]
URL:https://scottsdaleinstitute.org/event/dialogue-cio-ciso-fbi-ciso-academy-program/
END:VEVENT
BEGIN:VEVENT
DTSTART;TZID=America/Chicago:20230330T130000
DTEND;TZID=America/Chicago:20230330T140000
DTSTAMP:20260423T214805
CREATED:20230301T002712Z
LAST-MODIFIED:20251203T015516Z
UID:59902-1680181200-1680184800@scottsdaleinstitute.org
SUMMARY:WEBINAR / FIRESIDE CHAT | Game Change – Fireside Chat on Inclusive Sponsorship as the Key to Advance Diversity in Healthcare Senior Leadership
DESCRIPTION:Chuck Appleby\, Editor in Chief\, Scottsdale Institute\, and Jhaymee Tynan\, FACHE\, Principal Healthcare Services\, Korn Ferry and Author of  Inclusive Sponsorship: A Bold Vision to Adv [...]
URL:https://scottsdaleinstitute.org/event/fireside-chat-webinar-game-change-fireside-chat-on-inclusive-sponsorship-as-the-key-to-advance-diversity-in-healthcare-senior-leadership/
END:VEVENT
BEGIN:VEVENT
DTSTART;TZID=America/Chicago:20230329T150000
DTEND;TZID=America/Chicago:20230329T160000
DTSTAMP:20260423T214805
CREATED:20230222T030908Z
LAST-MODIFIED:20260415T200121Z
UID:59703-1680102000-1680105600@scottsdaleinstitute.org
SUMMARY:SI POP-UP DIALOGUE | Analytics + CIO - “How Should We Evaluate LLMs (such as ChatGPT) in Healthcare”
DESCRIPTION:Nigam Shah\, MBBS\, PhD\, Professor of Medicine and Chief Data Scientist & Jason Fries\, PhD\, Research Scientist\, Stanford University.\n \n \n \nHere are some useful blog posts and qu [...]
URL:https://scottsdaleinstitute.org/event/si-pop-up-dialogue-analytics-cio-how-should-we-evaluate-llms-such-as-chatgpt-in-healthcare/
END:VEVENT
BEGIN:VEVENT
DTSTART;TZID=America/Chicago:20230329T130000
DTEND;TZID=America/Chicago:20230329T140000
DTSTAMP:20260423T214805
CREATED:20230308T152433Z
LAST-MODIFIED:20250319T193520Z
UID:60161-1680094800-1680098400@scottsdaleinstitute.org
SUMMARY:WEBINAR | Bridging The Gap: How Mercy Health Improved Access to Behavioral Health in Primary Care
DESCRIPTION:Patty Morrow\, MA\, LPC\, Vice President of Behavioral Health Services\, Mercy Health System\, and Virna Little\, PsyD\, LCSW-r\, SAP\, CCM\, Chief Clinical Officer\, Co-Founder\, Concer [...]
URL:https://scottsdaleinstitute.org/event/webinar-bridging-the-gap-how-mercy-health-improved-access-to-behavioral-health-in-primary-care/
END:VEVENT
BEGIN:VEVENT
DTSTART;TZID=America/Chicago:20230323T150000
DTEND;TZID=America/Chicago:20230323T160000
DTSTAMP:20260423T214805
CREATED:20230309T160120Z
LAST-MODIFIED:20260415T195648Z
UID:60186-1679583600-1679587200@scottsdaleinstitute.org
SUMMARY:DIALOGUE | IT Business Operations - “SI IT Benchmarking”
DESCRIPTION:John Hendricks\, VP\, Benchmarking and Research\, Scottsdale Institute – “SI IT Benchmarking”\n\n\n\nDialogue Digest\nLearn more about IT Benchmarking
URL:https://scottsdaleinstitute.org/event/dialogue-it-business-operations-mar-23-2023-si-it-benchmarking/
END:VEVENT
BEGIN:VEVENT
DTSTART;TZID=America/Chicago:20230322T130000
DTEND;TZID=America/Chicago:20230322T140000
DTSTAMP:20260423T214805
CREATED:20230301T002341Z
LAST-MODIFIED:20250319T193521Z
UID:59900-1679490000-1679493600@scottsdaleinstitute.org
SUMMARY:WEBINAR | From Desire to Deployment: Building a Precision Medicine Program
DESCRIPTION:Jackie Rice\, BSN\, RN\, Vice President for Information Technology and Chief Information Office\, Frederick Health. This webinar highlights how one mid-sized healthcare organization develo [...]
URL:https://scottsdaleinstitute.org/event/webinar-from-desire-to-deployment-building-a-precision-medicine-program/
END:VEVENT
BEGIN:VEVENT
DTSTART;TZID=America/Chicago:20230321T150000
DTEND;TZID=America/Chicago:20230321T160000
DTSTAMP:20260423T214805
CREATED:20230223T015129Z
LAST-MODIFIED:20230525T184116Z
UID:59780-1679410800-1679414400@scottsdaleinstitute.org
SUMMARY:DIALOGUE | CIO + Analytics + CTO/VP Apps - Mar 21\, 2023 "Improving Operations at Tampa General - What's Working"
DESCRIPTION:”Improving Operations at Tampa General – What’s Working” – Scott Arnold\, EVP & CIO\, Etter Hoang\, Sr. Director of Analytics\, Brian Hammond\, VP & CTO\, Tampa General\n\n\n\nSI [...]
URL:https://scottsdaleinstitute.org/event/dialogue-cio-mar-28-2023-improving-operations-at-tampa-general-whats-working/
END:VEVENT
BEGIN:VEVENT
DTSTART;TZID=America/Chicago:20230321T130000
DTEND;TZID=America/Chicago:20230321T140000
DTSTAMP:20260423T214805
CREATED:20230117T154945Z
LAST-MODIFIED:20260104T164503Z
UID:58843-1679403600-1679407200@scottsdaleinstitute.org
SUMMARY:WEBINAR | Leveraging Lifestyle Medicine to Achieve the Quintuple Aim
DESCRIPTION: \n\n\n\nLeanne Mauriello\, PhD\, Founder & CEO\, Evolve Health Advisors; Kristi Artz\, MD\, Medical Director\, Lifestyle Medicine\, Corewell Health; Padmaja Patel\, MD\, Medical Director [...]
URL:https://scottsdaleinstitute.org/event/webinar-leveraging-lifestyle-medicine-to-achieve-the-quintuple-aim/
END:VEVENT
BEGIN:VEVENT
DTSTART;TZID=America/Chicago:20230316T150000
DTEND;TZID=America/Chicago:20230316T160000
DTSTAMP:20260423T214805
CREATED:20230104T203637Z
LAST-MODIFIED:20260415T163953Z
UID:58378-1678978800-1678982400@scottsdaleinstitute.org
SUMMARY:DIALOGUE | Digital\, Innovation & Telehealth "IS Operating Model Redesign Roadmap"
DESCRIPTION:Stacy Rasmussen\, VP IS Business Relationship Management\, Planning and Growth\, UW Health and Sue Peterson\, IS BRM Director\, UW Health.\n\n\n\nSI Digital\, Innovation\, Telehealth Dialo [...]
URL:https://scottsdaleinstitute.org/event/dialogue-digital-innovation-telehealth-is-operating-model-redesign-roadmap/
END:VEVENT
BEGIN:VEVENT
DTSTART;TZID=America/Chicago:20230315T130000
DTEND;TZID=America/Chicago:20230315T140000
DTSTAMP:20260423T214805
CREATED:20230301T001148Z
LAST-MODIFIED:20251203T015517Z
UID:59896-1678885200-1678888800@scottsdaleinstitute.org
SUMMARY:WEBINAR / FIRESIDE CHAT | The Moxi Project at ChristianaCare: Robotic Assistant Frees Up Nurses’ Time
DESCRIPTION:Fireside Chat with Katherine A. Collard\, MS\, RN-BC\, NP\, Chief Nursing Information Officer\, IT\, and Jim McAdams\, MBA\, PMP\, Director of Digital Acceleration\, ChristianaCare\, moder [...]
URL:https://scottsdaleinstitute.org/event/webinar-the-moxi-project-at-christianacare-robotic-assistant-frees-up-nurses-time/
END:VEVENT
BEGIN:VEVENT
DTSTART;TZID=America/Chicago:20230307T150000
DTEND;TZID=America/Chicago:20230307T160000
DTSTAMP:20260423T214805
CREATED:20230104T202410Z
LAST-MODIFIED:20260415T164319Z
UID:58370-1678201200-1678204800@scottsdaleinstitute.org
SUMMARY:DIALOGUE | CTO + VP Apps "Digital Transformation Enablers"
DESCRIPTION:Jim Livingston\, MBA\, CTO\, University of Utah Health\nAs healthcare organizations embark on their digital health journeys\, there are core enablers that are needed to provide a strong fo [...]
URL:https://scottsdaleinstitute.org/event/dialogue-cto-vp-apps-digital-transformation-enablers/
END:VEVENT
BEGIN:VEVENT
DTSTART;TZID=America/Chicago:20230307T130000
DTEND;TZID=America/Chicago:20230307T140000
DTSTAMP:20260423T214805
CREATED:20230228T033810Z
LAST-MODIFIED:20250319T193521Z
UID:59871-1678194000-1678197600@scottsdaleinstitute.org
SUMMARY:WEBINAR | Level Up: Transforming and Personalizing the Patient Experience through AI at CommonSpirit
DESCRIPTION:Christine Brocato\, MBA\, System Vice President\, Strategic Innovation; Kathleen Rondeau\, MBA\, FACHE\, Chief Strategy Officer\, Southwest Division\, CommonSpirit Health; and Dan Lenihan\ [...]
URL:https://scottsdaleinstitute.org/event/webinar-level-up-transforming-and-personalizing-the-patient-experience-through-ai-at-commonspirit/
END:VEVENT
BEGIN:VEVENT
DTSTART;TZID=America/Chicago:20230302T103000
DTEND;TZID=America/Chicago:20230302T120000
DTSTAMP:20260423T214805
CREATED:20230213T215923Z
LAST-MODIFIED:20260416T172219Z
UID:59542-1677753000-1677758400@scottsdaleinstitute.org
SUMMARY:Pop-up Roundtable | CIO\, Clinical Informatics and CTO/VP Apps - March 2\, 2023 "Asynchronous Patient - Provider Messaging"
DESCRIPTION:Ed Sankary\, MD\, CHIO & Interim Chief Value Officer and CMO of RPN ACO; and Patrick Kaminski\, MBA\, VP & Chief Strategy Officer\, University of Texas System\n\n\n\nFinal Roundtable Repor [...]
URL:https://scottsdaleinstitute.org/event/roundtable-cio-clinical-informatics-and-cto-vp-apps-march-2-2023/
END:VEVENT
BEGIN:VEVENT
DTSTART;TZID=America/Chicago:20230221T130000
DTEND;TZID=America/Chicago:20230221T140000
DTSTAMP:20260423T214805
CREATED:20230201T170619Z
LAST-MODIFIED:20250319T193521Z
UID:59258-1676984400-1676988000@scottsdaleinstitute.org
SUMMARY:WEBINAR | Lessons Learned from an EHR Annual Report at BayCare
DESCRIPTION:Alan Weiss\, MD\, MBA\, FACP\, VP & CMIO\, BayCare Health System. Besides the clinical team\, the EHR is the most important clinical tool used by large health systems. While most of these  [...]
URL:https://scottsdaleinstitute.org/event/webinar-for-the-lessons-learned-from-an-ehr-annual-report-at-baycare/
END:VEVENT
BEGIN:VEVENT
DTSTART;TZID=America/Chicago:20230216T130000
DTEND;TZID=America/Chicago:20230216T140000
DTSTAMP:20260423T214805
CREATED:20230124T151036Z
LAST-MODIFIED:20250319T193521Z
UID:59040-1676552400-1676556000@scottsdaleinstitute.org
SUMMARY:WEBINAR | Technology Can’t Fix Problems by Itself: Why You Need an IT Assurance Program
DESCRIPTION:Marc Johnson\, CISO & Senior Advisor\, Impact Advisors. The nature of business leans toward trying to operationalize the swiftest\, most cost-effective solution to solve problems. Technolo [...]
URL:https://scottsdaleinstitute.org/event/webinar-technology-cant-fix-problems-by-itself-why-you-need-an-it-assurance-program/
END:VEVENT
BEGIN:VEVENT
DTSTART;TZID=America/Chicago:20230214T150000
DTEND;TZID=America/Chicago:20230214T160000
DTSTAMP:20260423T214805
CREATED:20230103T170929Z
LAST-MODIFIED:20260415T173400Z
UID:58334-1676386800-1676390400@scottsdaleinstitute.org
SUMMARY:DIALOGUE | Analytics "Analytics Operating Models"
DESCRIPTION:Yohan Vetteth\, MBA\, VP & Chief Analytics Officer\, Stanford Medicine\n\nDialogue Digest – Analytics Operating Models
URL:https://scottsdaleinstitute.org/event/dialogue-analytics-analytics-operating-models/
END:VEVENT
BEGIN:VEVENT
DTSTART;TZID=America/Chicago:20230207T150000
DTEND;TZID=America/Chicago:20230207T160000
DTSTAMP:20260423T214805
CREATED:20230103T235612Z
LAST-MODIFIED:20260415T195331Z
UID:58342-1675782000-1675785600@scottsdaleinstitute.org
SUMMARY:DIALOGUE | Clinical Informatics "Theft of Provider Identity—What are We Learning and What Can We Do?"
DESCRIPTION:Ling Chu\, MD\, Associate CMIO\, UT Southwestern Medical Center & David Wetherhold\, MD\, CMIO – Ambulatory Systems\, Scripps\n\nAttendees\nTheft of Provider Identity Presentation\nDialo [...]
URL:https://scottsdaleinstitute.org/event/dialogue-clinical-informatics-theft-of-provider-identity-what-are-we-learning-and-what-can-we-do/
END:VEVENT
BEGIN:VEVENT
DTSTART;TZID=America/Chicago:20230207T130000
DTEND;TZID=America/Chicago:20230207T140000
DTSTAMP:20260423T214805
CREATED:20230124T150010Z
LAST-MODIFIED:20250319T193521Z
UID:59037-1675774800-1675778400@scottsdaleinstitute.org
SUMMARY:WEBINAR | The Time is Now! Implementing Pharmacogenomics at Avera Health
DESCRIPTION:Susan Feilmeier\, PharmD\, Officer – IT Clinical Services; Krista Bohlen\, PharmD\, RPh\, Director of Personalized Pharmaceutical Medicine; Rachel Elsey\, PharmD\, BCP\, Cancer Genomics  [...]
URL:https://scottsdaleinstitute.org/event/webinar-the-time-is-now-implementing-pharmacogenomics-in-a-health-system/
END:VEVENT
BEGIN:VEVENT
DTSTART;TZID=America/Chicago:20230201T130000
DTEND;TZID=America/Chicago:20230201T140000
DTSTAMP:20260423T214805
CREATED:20230119T195536Z
LAST-MODIFIED:20251203T015517Z
UID:58990-1675256400-1675260000@scottsdaleinstitute.org
SUMMARY:WEBINAR / FIRESIDE CHAT | Addressing the Healthcare Talent Emergency
DESCRIPTION:Olesea Azevedo\, Chief People Officer\, AdventHealth; Ken Abrams\, MD\, MBA\, Chief Medical Officer & Managing Director; Eileen Radis\, MBA\, Principal; Natasha Elsner\, Research Manager\, [...]
URL:https://scottsdaleinstitute.org/event/webinar-addressing-the-healthcare-talent-emergency/
END:VEVENT
BEGIN:VEVENT
DTSTART;TZID=America/Chicago:20230124T130000
DTEND;TZID=America/Chicago:20230124T140000
DTSTAMP:20260423T214805
CREATED:20230110T160346Z
LAST-MODIFIED:20250319T193521Z
UID:58553-1674565200-1674568800@scottsdaleinstitute.org
SUMMARY:WEBINAR | Healthcare’s Labor Challenge – Why is it Happening and What Can You do About It?
DESCRIPTION:Dan Unger\, SVP & GM\, Health Catalyst – Financial Empowerment.  Soaring labor costs and workforce shortages are wreaking havoc on health system financials and impacting patient care. W [...]
URL:https://scottsdaleinstitute.org/event/webinar-healthcares-labor-challenge-why-is-it-happening-and-what-can-you-do-about-it/
END:VEVENT
BEGIN:VEVENT
DTSTART;TZID=America/Chicago:20230117T130000
DTEND;TZID=America/Chicago:20230117T140000
DTSTAMP:20260423T214805
CREATED:20221220T153145Z
LAST-MODIFIED:20250319T193521Z
UID:58194-1673960400-1673964000@scottsdaleinstitute.org
SUMMARY:WEBINAR | Update from the National Coordinator
DESCRIPTION:Micky Tripathi\, PhD\, MPP\, National Coordinator for Health Information Technology\, U.S. Department of Health and Human Services\, provides updates on the recent and current work to enab [...]
URL:https://scottsdaleinstitute.org/event/webinar-update-from-the-national-coordinator/
END:VEVENT
BEGIN:VEVENT
DTSTART;TZID=America/Chicago:20221215T150000
DTEND;TZID=America/Chicago:20221215T160000
DTSTAMP:20260423T214805
CREATED:20211015T204619Z
LAST-MODIFIED:20260415T022825Z
UID:48337-1671116400-1671120000@scottsdaleinstitute.org
SUMMARY:DIALOGUE | Digital\, Innovation + Telehealth “The Robot Will See You Now”
DESCRIPTION:Hiral Patel\, DC\, BSc\, Innovation Program Manager\, Strategy & Planning\, and Bonny Dieter\, MSN\, RN\, Clinical Informatics Nurse\, NorthShore Edward-Elmhurst Health\n\nSI Digital Innov [...]
URL:https://scottsdaleinstitute.org/event/si-digital-innovation-telehealth-dialogue-dec-15-2022/
END:VEVENT
BEGIN:VEVENT
DTSTART;TZID=America/Chicago:20221213T150000
DTEND;TZID=America/Chicago:20221213T160000
DTSTAMP:20260423T214805
CREATED:20221207T171916Z
LAST-MODIFIED:20230324T212730Z
UID:58040-1670943600-1670947200@scottsdaleinstitute.org
SUMMARY:DIALOGUE | Clinical Informatics "Improving Clinician Engagement and Wellbeing at Ascension"
DESCRIPTION:Baligh Yehia\, MD\, MPP\, FACP\, SVP\, Ascension & President\, Ascension Medical Group – “Improving Clinician Engagement and Wellbeing at Ascension”
URL:https://scottsdaleinstitute.org/event/dialogue-clinical-informatics-improving-clinician-engagement-and-wellbeing-at-ascension/
END:VEVENT
BEGIN:VEVENT
DTSTART;TZID=America/Chicago:20221207T150000
DTEND;TZID=America/Chicago:20221207T160000
DTSTAMP:20260423T214805
CREATED:20211015T201523Z
LAST-MODIFIED:20230404T000125Z
UID:48291-1670425200-1670428800@scottsdaleinstitute.org
SUMMARY:DIALOGUE | CIO + CISO "A Special Scottsdale Cyber Dialogue to set National Health Cyber Strategy"
DESCRIPTION:Erik Decker\, AVP & CISO\, Intermountain Healthcare. The HSCC Cyber Working Group and HHS is getting ready to update the Healthcare Industry Cybersecurity Report (HCIC) that was released i [...]
URL:https://scottsdaleinstitute.org/event/si-cio-ciso-dialogue-dec-7-2022/
END:VEVENT
BEGIN:VEVENT
DTSTART;TZID=America/Chicago:20221130T150000
DTEND;TZID=America/Chicago:20221130T160000
DTSTAMP:20260423T214805
CREATED:20211015T201320Z
LAST-MODIFIED:20260415T165507Z
UID:48287-1669820400-1669824000@scottsdaleinstitute.org
SUMMARY:DIALOGUE |  CIO + Digital\, Innovation and Telehealth "Remote Patient Monitoring: Prioritizing for Value”
DESCRIPTION:Lisa Dykstra\, SVP & CIO; Ravi Patel\, MD\, VP\, Digital; and Dana Schinasi\, MD\, Medical Director\, Digital Health\, Lurie Children’s\n\n\nPresentations\n\nPresentation\nWelcome slides [...]
URL:https://scottsdaleinstitute.org/event/dialogue-cio-digital-innovation-and-telehealth-remote-patient-monitoring-prioritizing-for-value/
END:VEVENT
BEGIN:VEVENT
DTSTART;TZID=America/Chicago:20221128T130000
DTEND;TZID=America/Chicago:20221128T140000
DTSTAMP:20260423T214805
CREATED:20221122T151545Z
LAST-MODIFIED:20250319T193521Z
UID:57829-1669640400-1669644000@scottsdaleinstitute.org
SUMMARY:WEBINAR | Digital Transformation Implementation: Agile Informatics?
DESCRIPTION:Pete Stetson\, MD\, MA\, CHIO\, Memorial Sloan Kettering Cancer Center.  Dr. Stetson shares a status update\, lessons learned\, and the vision for next steps on executing a digital transf [...]
URL:https://scottsdaleinstitute.org/event/webinar-digital-transformation-implementation-agile-informatics/
END:VEVENT
BEGIN:VEVENT
DTSTART;TZID=America/Chicago:20221122T130000
DTEND;TZID=America/Chicago:20221122T140000
DTSTAMP:20260423T214805
CREATED:20221103T190936Z
LAST-MODIFIED:20250319T193521Z
UID:57502-1669122000-1669125600@scottsdaleinstitute.org
SUMMARY:WEBINAR | State of the Healthcare Workforce: Top 5 Key Drivers of Retention
DESCRIPTION:Jessica Dudley\, MD\, Chief Clinical Officer\, Press Ganey. Top-tier healthcare organizations strive to continually improve their employees’ experience. But the global pandemic has left  [...]
URL:https://scottsdaleinstitute.org/event/webinar-state-of-the-healthcare-workforce-top-5-key-drivers-of-retention/
END:VEVENT
BEGIN:VEVENT
DTSTART;TZID=America/Chicago:20221117T160000
DTEND;TZID=America/Chicago:20221118T160000
DTSTAMP:20260423T214805
CREATED:20211215T175149Z
LAST-MODIFIED:20260415T204101Z
UID:49594-1668700800-1668787200@scottsdaleinstitute.org
SUMMARY:SUMMIT | 2022 Analytics + CIO: Real-World AI Transforming Healthcare Now
DESCRIPTION:Real-World AI Transforming Healthcare Now\nThere’s no doubt artificial intelligence (AI) is transforming healthcare—is your organization ready for the changes to come? Join a select gr [...]
URL:https://scottsdaleinstitute.org/event/si-2022-analytics-cio-cto-vp-apps-summit/
ATTACH;FMTTYPE=image/jpeg:https://scottsdaleinstitute.org/wp-content/uploads/2021/12/ai-summit-e1675211876207.jpg
END:VEVENT
END:VCALENDAR