BEGIN:VCALENDAR
VERSION:2.0
PRODID:-//Scottsdale Institute - ECPv6.8.0//NONSGML v1.0//EN
CALSCALE:GREGORIAN
METHOD:PUBLISH
X-ORIGINAL-URL:https://scottsdaleinstitute.org
X-WR-CALDESC:Events for Scottsdale Institute
REFRESH-INTERVAL;VALUE=DURATION:PT1H
X-Robots-Tag:noindex
X-PUBLISHED-TTL:PT1H
BEGIN:VTIMEZONE
TZID:America/Chicago
BEGIN:DAYLIGHT
TZOFFSETFROM:-0600
TZOFFSETTO:-0500
TZNAME:CDT
DTSTART:20210314T080000
END:DAYLIGHT
BEGIN:STANDARD
TZOFFSETFROM:-0500
TZOFFSETTO:-0600
TZNAME:CST
DTSTART:20211107T070000
END:STANDARD
BEGIN:DAYLIGHT
TZOFFSETFROM:-0600
TZOFFSETTO:-0500
TZNAME:CDT
DTSTART:20220313T080000
END:DAYLIGHT
BEGIN:STANDARD
TZOFFSETFROM:-0500
TZOFFSETTO:-0600
TZNAME:CST
DTSTART:20221106T070000
END:STANDARD
END:VTIMEZONE
BEGIN:VEVENT
DTSTART;TZID=America/Chicago:20220216T130000
DTEND;TZID=America/Chicago:20220216T140000
DTSTAMP:20260424T140415
CREATED:20220104T190019Z
LAST-MODIFIED:20250319T191843Z
UID:50165-1645016400-1645020000@scottsdaleinstitute.org
SUMMARY:WEBINAR | Leveraging the Semantic Web to Connect Research\, Education\, and Clinical Care
DESCRIPTION:Steve Ross\, MD\, Senior Director of Medical Informatics; Mevan Samarasinghe\, VP and Technical Fellow; and Maulik Kamdar\, PhD\, Senior Data Scientist\, Elsevier.  Clinical research con [...]
URL:https://scottsdaleinstitute.org/event/webinar-leveraging-the-semantic-web-to-connect-research-education-and-clinical-care/
END:VEVENT
BEGIN:VEVENT
DTSTART;TZID=America/Chicago:20220215T130000
DTEND;TZID=America/Chicago:20220215T140000
DTSTAMP:20260424T140415
CREATED:20220125T010747Z
LAST-MODIFIED:20260109T150944Z
UID:51934-1644930000-1644933600@scottsdaleinstitute.org
SUMMARY:WEBINAR | The Newly Finalized Common Agreement: Its Content\, and What it May Mean
DESCRIPTION:Dan Golder\, DDS\, MBA\, Principal\, and Larry Katzovitz\, Principal\, Impact Advisors\, provide a high-level overview of the various components of the recently finalized Version 1 of the  [...]
URL:https://scottsdaleinstitute.org/event/webinar-the-newly-finalized-common-agreement-its-content-and-what-it-may-mean/
END:VEVENT
BEGIN:VEVENT
DTSTART;TZID=America/Chicago:20220203T130000
DTEND;TZID=America/Chicago:20220203T140000
DTSTAMP:20260424T140415
CREATED:20211018T222930Z
LAST-MODIFIED:20260109T151906Z
UID:48408-1643893200-1643896800@scottsdaleinstitute.org
SUMMARY:WEBINAR | From Screening through Follow-up: Practical Applications of AI in Diagnostic Intelligence
DESCRIPTION:Peter Durlach\, EVP & Chief Strategy Officer; Sheela Agarwal\, MD\, CMIO\, Diagnostic Imaging\, Nuance Communications; and David Hannes\, CEO\, Imbio.  The application of advanced analyti [...]
URL:https://scottsdaleinstitute.org/event/webinar-practical-applications-of-ai-in-diagnostic-intelligence/
END:VEVENT
BEGIN:VEVENT
DTSTART;TZID=America/Chicago:20220202T130000
DTEND;TZID=America/Chicago:20220202T140000
DTSTAMP:20260424T140415
CREATED:20220118T184226Z
LAST-MODIFIED:20250319T191844Z
UID:51670-1643806800-1643810400@scottsdaleinstitute.org
SUMMARY:WEBINAR | Leveraging Public-Private Partnerships in a Pandemic: Building a more Resilient Society with the power of Real-World Data
DESCRIPTION:Brian Anderson\, MD\, MITRE. MITRE recently launched a new division in Clinical Insights which will focus on building coalitions from the public and private sector\, to develop the tools  [...]
URL:https://scottsdaleinstitute.org/event/webinar-leveraging-public-private-partnerships-in-a-pandemic-building-a-more-resilient-society-with-the-power-of-real-world-data/
END:VEVENT
BEGIN:VEVENT
DTSTART;TZID=America/Chicago:20220201T130000
DTEND;TZID=America/Chicago:20220201T140000
DTSTAMP:20260424T140415
CREATED:20220112T021206Z
LAST-MODIFIED:20251203T015521Z
UID:51398-1643720400-1643724000@scottsdaleinstitute.org
SUMMARY:WEBINAR | Winning the War for Talent in Healthcare
DESCRIPTION:John Mackey\, Client Partner\, and Flo Falayi\, PhD\, Client Partner\, Korn Ferry.  The ongoing and evolving presence of COVID has intensified the talent crisis in today’s healthcare w [...]
URL:https://scottsdaleinstitute.org/event/webinar-winning-the-war-for-talent-in-healthcare/
END:VEVENT
BEGIN:VEVENT
DTSTART;TZID=America/Chicago:20220127T120000
DTEND;TZID=America/Chicago:20220127T130000
DTSTAMP:20260424T140415
CREATED:20211217T230853Z
LAST-MODIFIED:20250319T192102Z
UID:49788-1643284800-1643288400@scottsdaleinstitute.org
SUMMARY:WEBINAR | Panel Discussion: Implementing a Modern Consumer Experience across the Enterprise
DESCRIPTION:Kristyn Greifer\, MD\, CMO\, Population Health\, BayCare Health System; Jeremy Rogers\, Executive Director\, Digital Marketing & Experience\, IU Health; and Jessica Oveys\, Director\, Prod [...]
URL:https://scottsdaleinstitute.org/event/webinar-panel-discussion-implementing-a-modern-consumer-experience-across-the-enterprise/
END:VEVENT
BEGIN:VEVENT
DTSTART;TZID=America/Chicago:20220126T113000
DTEND;TZID=America/Chicago:20220126T123000
DTSTAMP:20260424T140415
CREATED:20211210T184105Z
LAST-MODIFIED:20250319T191320Z
UID:49511-1643196600-1643200200@scottsdaleinstitute.org
SUMMARY:WEBINAR | Building a Culture of Evidence-Based Practice: Strategies to Reduce Silos
DESCRIPTION:Lya M. Cartwright-Stroupe DNP\, APRN\, CPNP\, NEA-BC\, NPD-BC\, Manager of Nursing Research and Professional Development at WVU-Medicine-West Virginia University Hospitals; and Vikram Savk [...]
URL:https://scottsdaleinstitute.org/event/webinar-building-a-culture-of-evidence-based-practice-strategies-to-reduce-silos/
END:VEVENT
BEGIN:VEVENT
DTSTART;TZID=America/Chicago:20220125T150000
DTEND;TZID=America/Chicago:20220125T160000
DTSTAMP:20260424T140415
CREATED:20211015T201542Z
LAST-MODIFIED:20230404T000154Z
UID:48292-1643122800-1643126400@scottsdaleinstitute.org
SUMMARY:DIALOGUE | Analytics + CIO "Migrating Analytics to the Cloud: Experience & Lessons Learned"
DESCRIPTION:Migrating Analytics to the Cloud: Experience & Lessons Learned\nModerator: University Hospitals’ Craig Schwabl\, MBA\, VP\, Digital Solutions & Enterprise Analytics; Jesse Preston\, MBA\ [...]
URL:https://scottsdaleinstitute.org/event/si-analytics-cio-dialogue-jan-25-2022/
END:VEVENT
BEGIN:VEVENT
DTSTART;TZID=America/Chicago:20220125T130000
DTEND;TZID=America/Chicago:20220125T140000
DTSTAMP:20260424T140415
CREATED:20211208T223029Z
LAST-MODIFIED:20250319T192103Z
UID:49434-1643115600-1643119200@scottsdaleinstitute.org
SUMMARY:WEBINAR | Community Health Improvement Efforts Addressing the Pandemic’s Impact among the Underserved Segments of the Community – Texas Health Resources’ Journey toward Health Equity
DESCRIPTION:Catherine Oliveros\, DrPH\, Vice-President\, Community Health Improvement\, and Rosemary Galdiano\, RN\, MPH\, Director Mobile Health\, Texas Health Resources. As the ED and ICU beds at Te [...]
URL:https://scottsdaleinstitute.org/event/webinar-community-health-improvement-efforts-addressing-the-pandemics-impact-among-the-underserved-segments-of-the-community-texas-health-resources-journey-toward-health/
END:VEVENT
BEGIN:VEVENT
DTSTART;TZID=America/Chicago:20220120T150000
DTEND;TZID=America/Chicago:20220120T160000
DTSTAMP:20260424T140415
CREATED:20221003T212547Z
LAST-MODIFIED:20230324T210526Z
UID:56776-1642690800-1642694400@scottsdaleinstitute.org
SUMMARY:DIALOGUE | SI Clinical Informatics "Creating the Best Place to Care Leads to Joy in Medicine"
DESCRIPTION:Scott Rissmiller\, MD\, EVP & Chief Physician Executive\, Atrium Health
URL:https://scottsdaleinstitute.org/event/dialogue-si-clinical-informatics-creating-the-best-place-to-care-leads-to-joy-in-medicine/
END:VEVENT
BEGIN:VEVENT
DTSTART;TZID=America/Chicago:20220120T150000
DTEND;TZID=America/Chicago:20220120T160000
DTSTAMP:20260424T140415
CREATED:20211015T201745Z
LAST-MODIFIED:20231106T220838Z
UID:48296-1642690800-1642694400@scottsdaleinstitute.org
SUMMARY:DIALOGUE | CMIO + CNIO – Atrium Joy in Med
DESCRIPTION:Dialogue Digest
URL:https://scottsdaleinstitute.org/event/si-cmio-cnio-dialogue-jan-20-2022/
END:VEVENT
BEGIN:VEVENT
DTSTART;TZID=America/Chicago:20220120T130000
DTEND;TZID=America/Chicago:20220120T140000
DTSTAMP:20260424T140415
CREATED:20211208T222706Z
LAST-MODIFIED:20250319T192103Z
UID:49433-1642683600-1642687200@scottsdaleinstitute.org
SUMMARY:WEBINAR | What is Consumerism\, and How Do We Position Ourselves for Success?
DESCRIPTION:Paul Crnkovich\, Managing Director\, and Dan Clarin\, Managing Director\, Kaufman Hall. In 2020\, health systems launched or dramatically accelerated digital health capabilities in respons [...]
URL:https://scottsdaleinstitute.org/event/webinar-what-is-consumerism-and-how-do-we-position-ourselves-for-success/
END:VEVENT
BEGIN:VEVENT
DTSTART;TZID=America/Chicago:20220112T130000
DTEND;TZID=America/Chicago:20220112T140000
DTSTAMP:20260424T140415
CREATED:20211208T222255Z
LAST-MODIFIED:20250319T191844Z
UID:49432-1641992400-1641996000@scottsdaleinstitute.org
SUMMARY:WEBINAR | Leveraging Digital Transformation for Provider Success
DESCRIPTION:Sapna Ravula\, MD\, MPH\, CMO\, EXL Health. Consumers expect customized health content that is personalized for their needs\, delivered at the right time and across the channels they prefe [...]
URL:https://scottsdaleinstitute.org/event/webinar-digital-transformation-for-success/
END:VEVENT
BEGIN:VEVENT
DTSTART;TZID=America/Chicago:20211216T130000
DTEND;TZID=America/Chicago:20211216T140000
DTSTAMP:20260424T140415
CREATED:20211111T164950Z
LAST-MODIFIED:20250319T192103Z
UID:48772-1639659600-1639663200@scottsdaleinstitute.org
SUMMARY:WEBINAR | Digital Therapeutics Framework and Strategy at Froedtert Health
DESCRIPTION:Mike Anderes\, PT\, MBA\, FACHE\, President\, Inception Health and Chief Digital Officer\, Froedtert Health; and Brad Crotty\, MD\, Chief Medical Officer\, Inception Health and Chief Digit [...]
URL:https://scottsdaleinstitute.org/event/webinar-digital-therapeutics-framework-and-strategy-at-froedtert-health/
END:VEVENT
BEGIN:VEVENT
DTSTART;TZID=America/Chicago:20211215T143000
DTEND;TZID=America/Chicago:20211215T153000
DTSTAMP:20260424T140415
CREATED:20210209T014249Z
LAST-MODIFIED:20230404T001600Z
UID:42439-1639578600-1639582200@scottsdaleinstitute.org
SUMMARY:SI Telehealth Dialogue - Dec 15 2021
DESCRIPTION:“Digital Health with Purpose: Improving Value”\nBrian D’Anza – Medical Director-Telehealth\, University Hospitals\n[ls_content_block id=”48695″]
URL:https://scottsdaleinstitute.org/event/si-telehealth-dialogue-dec-15-2021/
END:VEVENT
BEGIN:VEVENT
DTSTART;TZID=America/Chicago:20211214T143000
DTEND;TZID=America/Chicago:20211214T153000
DTSTAMP:20260424T140415
CREATED:20210209T011949Z
LAST-MODIFIED:20230404T001453Z
UID:42404-1639492200-1639495800@scottsdaleinstitute.org
SUMMARY:SI Innovation Dialogue - Dec 14 2021
DESCRIPTION:“BayCare – Innovating Patient & Clinical Communications with Alexa and iPhones”\nCraig Anderson\, Director of Innovation\, BayCare\n[ls_content_block id=”48695″]
URL:https://scottsdaleinstitute.org/event/si-innovation-dialogue-dec-14-2021/
END:VEVENT
BEGIN:VEVENT
DTSTART;TZID=America/Chicago:20211214T130000
DTEND;TZID=America/Chicago:20211214T140000
DTSTAMP:20260424T140415
CREATED:20210216T190519Z
LAST-MODIFIED:20251203T015522Z
UID:42781-1639486800-1639490400@scottsdaleinstitute.org
SUMMARY:WEBINAR | Inclusion: Making it Real - Get it to Stick
DESCRIPTION:Audra Bohannon\, Senior Client Partner and Flo Falayi\, PhD\, Associate Client Partner\, KornFerry.  This session focuses on accountability and sustainability. How do you hold the individ [...]
URL:https://scottsdaleinstitute.org/event/webinar-inclusion-making-it-real-get-it-to-stick/
END:VEVENT
BEGIN:VEVENT
DTSTART;TZID=America/Chicago:20211209T130000
DTEND;TZID=America/Chicago:20211209T140000
DTSTAMP:20260424T140415
CREATED:20211105T222030Z
LAST-MODIFIED:20250319T192103Z
UID:48704-1639054800-1639058400@scottsdaleinstitute.org
SUMMARY:WEBINAR | COVID-19: An Update on Epidemiology\, Treatments\, and Vaccines
DESCRIPTION:John McConnell\, Editor-In-Chief\, Lancet Infectious Diseases.  Since the spring of 2021\, the COVID-19 pandemic has entered a new phase with widespread roll-out of vaccines—at least in [...]
URL:https://scottsdaleinstitute.org/event/webinar-covid-19-an-update-on-epidemiology-treatments-and-vaccines/
END:VEVENT
BEGIN:VEVENT
DTSTART;TZID=America/Chicago:20211209T110000
DTEND;TZID=America/Chicago:20211209T120000
DTSTAMP:20260424T140415
CREATED:20210312T222713Z
LAST-MODIFIED:20230403T235911Z
UID:43193-1639047600-1639051200@scottsdaleinstitute.org
SUMMARY:SI CTO/VP Apps + Analytics Pop-Up Dialogue - Dec 9 2021
DESCRIPTION:“The Next Generation EDW”\nLynnette Clinton & Randy McGlothin\, BayCare\n[ls_content_block id=”48695″]
URL:https://scottsdaleinstitute.org/event/si-vp-apps-analytics-pop-up-dialogue-dec-9-2021/
END:VEVENT
BEGIN:VEVENT
DTSTART;TZID=America/Chicago:20211208T130000
DTEND;TZID=America/Chicago:20211208T140000
DTSTAMP:20260424T140415
CREATED:20211105T221552Z
LAST-MODIFIED:20251029T153307Z
UID:48705-1638968400-1638972000@scottsdaleinstitute.org
SUMMARY:WEBINAR | How are Platform-Enabled Ecosystems Transforming the Industry toward the Future of Health?
DESCRIPTION:Simon Gisby\, Principal; Peter Micca\, Partner; Boris Kheyn-Kheyfets\, Healthcare Provider Strategy and Operations; and Christine Chang\, MPH\, Research Manager\, Deloitte.  Digital trans [...]
URL:https://scottsdaleinstitute.org/event/webinar-how-are-platform-enabled-ecosystems-transforming-the-industry-toward-the-future-of-health/
END:VEVENT
BEGIN:VEVENT
DTSTART;TZID=America/Chicago:20211207T140000
DTEND;TZID=America/Chicago:20211207T150000
DTSTAMP:20260424T140415
CREATED:20211105T220618Z
LAST-MODIFIED:20250319T192103Z
UID:48703-1638885600-1638889200@scottsdaleinstitute.org
SUMMARY:WEBINAR | Taking a Service Line Approach to Integrating Hospital and Ambulatory Workflows
DESCRIPTION:Staci Rogers\, MD\, Clinical Transformation Officer\, CoxHealth.  When seeking to put the patient’s care and experience first\, having a connected hospital and ambulatory experience is  [...]
URL:https://scottsdaleinstitute.org/event/webinar-taking-a-service-line-approach-to-integrating-hospital-and-ambulatory-workflows/
END:VEVENT
BEGIN:VEVENT
DTSTART;TZID=America/Chicago:20211207T100000
DTEND;TZID=America/Chicago:20211207T133000
DTSTAMP:20260424T140415
CREATED:20210527T211539Z
LAST-MODIFIED:20250707T224048Z
UID:45239-1638871200-1638883800@scottsdaleinstitute.org
SUMMARY:SI 2021 CISO Virtual Summit - Strategic Security: Facing Off Against Threats
DESCRIPTION:At its recent CISO Virtual Summit\, sponsored by Deloitte on December 7\, 2021\, the Scottsdale Institute\nconvened 18 Members from 18 organizations to discuss strategy options in environm [...]
URL:https://scottsdaleinstitute.org/event/si-2021-ciso-summit-nbh862/
ATTACH;FMTTYPE=image/jpeg:https://scottsdaleinstitute.org/wp-content/uploads/2021/05/2021-CISO-Summit-panoramic-e1675210610262.jpg
END:VEVENT
BEGIN:VEVENT
DTSTART;TZID=America/Chicago:20211202T130000
DTEND;TZID=America/Chicago:20211202T140000
DTSTAMP:20260424T140415
CREATED:20211111T164533Z
LAST-MODIFIED:20250319T191844Z
UID:48770-1638450000-1638453600@scottsdaleinstitute.org
SUMMARY:WEBINAR | Accelerating Adoption of Leading Clinical Practice Through Research Data
DESCRIPTION:Danessa Sandmann\, MPH\, Implementation Executive and Managing Editor/Director\, and Jackie Gerhart\, MD\, Physician\, Clinical Informatics\, Epic.  New medical discoveries can take more  [...]
URL:https://scottsdaleinstitute.org/event/webinar-accelerating-adoption-of-leading-clinical-practice-through-research-data/
END:VEVENT
BEGIN:VEVENT
DTSTART;TZID=America/Chicago:20211201T143000
DTEND;TZID=America/Chicago:20211201T153000
DTSTAMP:20260424T140415
CREATED:20210209T011501Z
LAST-MODIFIED:20220214T224513Z
UID:42397-1638369000-1638372600@scottsdaleinstitute.org
SUMMARY:SI CNIO Dialogue - Dec 1 2021
DESCRIPTION:“Implementation to Optimization: What’s your Org Design?”\nNancy Yates MS RN\, RN-BC\, CNIO\, Centura\n[ls_content_block id=”48695″]
URL:https://scottsdaleinstitute.org/event/si-cnio-dialogue-dec-1-2021/
END:VEVENT
BEGIN:VEVENT
DTSTART;TZID=America/Chicago:20211201T130000
DTEND;TZID=America/Chicago:20211201T140000
DTSTAMP:20260424T140415
CREATED:20211111T163945Z
LAST-MODIFIED:20250319T192103Z
UID:48768-1638363600-1638367200@scottsdaleinstitute.org
SUMMARY:WEBINAR | Creating Value through an Omni Channel Personalization at Texas Health Resources
DESCRIPTION:Michael Parris\, MBA\, VP\, Data & Analytics\, and Natalie Dion\, Senior Director Data Operations\, Texas Health Resources. Texas Health Resources is using consumer personalization coordin [...]
URL:https://scottsdaleinstitute.org/event/webinar-creating-value-through-an-omni-channel-personalization-at-texas-health-resources/
END:VEVENT
BEGIN:VEVENT
DTSTART;TZID=America/Chicago:20211130T143000
DTEND;TZID=America/Chicago:20211130T153000
DTSTAMP:20260424T140415
CREATED:20210209T013422Z
LAST-MODIFIED:20211202T210845Z
UID:42429-1638282600-1638286200@scottsdaleinstitute.org
SUMMARY:SI CTO/VP Apps Dialogue - Nov 30 2021
DESCRIPTION:“Defining and Communicating the Value of IT to the Health System”\nEmily Borlas\, AVP – IT Applications\, HonorHealth\n[ls_content_block id=”48695″]
URL:https://scottsdaleinstitute.org/event/si-cto-vp-apps-dialogue-nov-30-2021/
END:VEVENT
BEGIN:VEVENT
DTSTART;TZID=America/Chicago:20211130T130000
DTEND;TZID=America/Chicago:20211130T140000
DTSTAMP:20260424T140415
CREATED:20211028T182929Z
LAST-MODIFIED:20250319T191619Z
UID:48592-1638277200-1638280800@scottsdaleinstitute.org
SUMMARY:WEBINAR | Environmental Sustainability at Carilion Clinic
DESCRIPTION:Sara Wohlford\, MPH\, RN\, Efficiency & Sustainability Manager\, Carilion Clinic.  Healthcare organizations are realizing the many benefits that come from sustainability programs: efficie [...]
URL:https://scottsdaleinstitute.org/event/webinar-environmental-sustainability-at-carilion-clinic/
END:VEVENT
BEGIN:VEVENT
DTSTART;TZID=America/Chicago:20211123T110000
DTEND;TZID=America/Chicago:20211123T120000
DTSTAMP:20260424T140415
CREATED:20211018T223333Z
LAST-MODIFIED:20250319T192103Z
UID:48409-1637665200-1637668800@scottsdaleinstitute.org
SUMMARY:WEBINAR | Medicare Beneficiaries in Underserved Areas and Pharmacist Provider Status
DESCRIPTION:Scott Knoer\, MS\, PharmD\, FASHP\, Executive Vice President and Chief Executive Officer\, American Pharmacists Association; Snehal Doshi\, PharmD\, MBA\, Senior Vice President\, Ancillary [...]
URL:https://scottsdaleinstitute.org/event/webinar-medicare-beneficiaries-in-underserved-areas-and-pharmacist-provider-status/
END:VEVENT
BEGIN:VEVENT
DTSTART;VALUE=DATE:20211119
DTEND;VALUE=DATE:20211120
DTSTAMP:20260424T140415
CREATED:20211215T225056Z
LAST-MODIFIED:20230404T000154Z
UID:49695-1637280000-1637366399@scottsdaleinstitute.org
SUMMARY:SI 2021 CIO Roundtable - Envisioning Every Angle: CIOs as Both Strategists and Operators
DESCRIPTION:At its recent CIO Roundtable\, sponsored by Impact Advisors on November 19\, 2021\, the Scottsdale Institute convened 18 Members and Guests\, representing 16 organizations\, to discuss top [...]
URL:https://scottsdaleinstitute.org/event/si-2021-cio-roundtable-envisioning-every-angle-cios-as-both-strategists-and-operators/
ATTACH;FMTTYPE=image/jpeg:https://scottsdaleinstitute.org/wp-content/uploads/2021/12/2021-cio-roundtable-panoramic-1.jpg
END:VEVENT
BEGIN:VEVENT
DTSTART;VALUE=DATE:20211117
DTEND;VALUE=DATE:20211118
DTSTAMP:20260424T140415
CREATED:20211215T220428Z
LAST-MODIFIED:20230404T001454Z
UID:49683-1637107200-1637193599@scottsdaleinstitute.org
SUMMARY:SI 2021 Digital Innovation Roundtable - Touchpoints: Keeping Innovation Culture Going
DESCRIPTION:At its recent Digital Innovation Roundtable\, sponsored by Deloitte on November 17\, 2021\, the Scottsdale Institute convened 22 Members and Guests\, representing 17 organizations\, to tal [...]
URL:https://scottsdaleinstitute.org/event/si-2021-digital-innovation-roundtable-touchpoints-keeping-innovation-culture-going/
ATTACH;FMTTYPE=image/jpeg:https://scottsdaleinstitute.org/wp-content/uploads/2021/12/2021-digital-innovation-summit-panoramic.jpg
END:VEVENT
END:VCALENDAR