BEGIN:VCALENDAR
VERSION:2.0
PRODID:-//Scottsdale Institute - ECPv6.8.0//NONSGML v1.0//EN
CALSCALE:GREGORIAN
METHOD:PUBLISH
X-ORIGINAL-URL:https://scottsdaleinstitute.org
X-WR-CALDESC:Events for Scottsdale Institute
REFRESH-INTERVAL;VALUE=DURATION:PT1H
X-Robots-Tag:noindex
X-PUBLISHED-TTL:PT1H
BEGIN:VTIMEZONE
TZID:America/Chicago
BEGIN:DAYLIGHT
TZOFFSETFROM:-0600
TZOFFSETTO:-0500
TZNAME:CDT
DTSTART:20200308T080000
END:DAYLIGHT
BEGIN:STANDARD
TZOFFSETFROM:-0500
TZOFFSETTO:-0600
TZNAME:CST
DTSTART:20201101T070000
END:STANDARD
BEGIN:DAYLIGHT
TZOFFSETFROM:-0600
TZOFFSETTO:-0500
TZNAME:CDT
DTSTART:20210314T080000
END:DAYLIGHT
BEGIN:STANDARD
TZOFFSETFROM:-0500
TZOFFSETTO:-0600
TZNAME:CST
DTSTART:20211107T070000
END:STANDARD
END:VTIMEZONE
BEGIN:VEVENT
DTSTART;TZID=America/Chicago:20210324T110000
DTEND;TZID=America/Chicago:20210324T120000
DTSTAMP:20260425T081038
CREATED:20210209T014048Z
LAST-MODIFIED:20230404T001605Z
UID:42436-1616583600-1616587200@scottsdaleinstitute.org
SUMMARY:SI Telehealth Dialogue - Mar 24 2021
DESCRIPTION:Brian Wayling\, IHC\nThis is an invitation-only event.  For more information\, fill out the form\, below.\n\n \n\n\n\n\n Name (required)\n \n\nEmail (required):\n \n\nTitle (required):\n  [...]
URL:https://scottsdaleinstitute.org/event/telehealth-dialogue-call/
END:VEVENT
BEGIN:VEVENT
DTSTART;TZID=America/Chicago:20210322T130000
DTEND;TZID=America/Chicago:20210322T140000
DTSTAMP:20260425T081038
CREATED:20210128T175136Z
LAST-MODIFIED:20251203T015526Z
UID:42126-1616418000-1616421600@scottsdaleinstitute.org
SUMMARY:WEBINAR | Digital Transformation: Lessons Learned from FinTech
DESCRIPTION:For over five years\, the financial services industry has been engaged in digital transformation; physical banks and paper systems are being replaced by networked digital ecosystems during [...]
URL:https://scottsdaleinstitute.org/event/digital-transformation-lessons-learned-from-fintech/
END:VEVENT
BEGIN:VEVENT
DTSTART;TZID=America/Chicago:20210318T110000
DTEND;TZID=America/Chicago:20210318T120000
DTSTAMP:20260425T081038
CREATED:20210224T213835Z
LAST-MODIFIED:20210907T213308Z
UID:42862-1616065200-1616068800@scottsdaleinstitute.org
SUMMARY:SI CMIO Dialogue - Mar 18 2021
DESCRIPTION:“21st Century Cures Act\, part II”\nBonny Chen\, AMITA\nThis is an invitation-only event.  For more information\, fill out the form\, below.\n\n \n\n\n\n\n Name (required)\n \n\nEmail [...]
URL:https://scottsdaleinstitute.org/event/cmio-dialogue-call-5/
END:VEVENT
BEGIN:VEVENT
DTSTART;TZID=America/Chicago:20210316T143000
DTEND;TZID=America/Chicago:20210316T153000
DTSTAMP:20260425T081038
CREATED:20210209T011840Z
LAST-MODIFIED:20230404T001605Z
UID:42405-1615905000-1615908600@scottsdaleinstitute.org
SUMMARY:SI Innovation Dialogue - Mar 16 2021
DESCRIPTION:Todd Dunn\, Atrium\nThis is an invitation-only event.  For more information\, fill out the form\, below.\n\n \n\n\n\n\n Name (required)\n \n\nEmail (required):\n \n\nTitle (required):\n \ [...]
URL:https://scottsdaleinstitute.org/event/innovation-dialogue-call/
END:VEVENT
BEGIN:VEVENT
DTSTART;TZID=America/Chicago:20210311T143000
DTEND;TZID=America/Chicago:20210311T153000
DTSTAMP:20260425T081038
CREATED:20210209T010324Z
LAST-MODIFIED:20230404T000201Z
UID:42374-1615473000-1615476600@scottsdaleinstitute.org
SUMMARY:SI CIO Dialogue - Mar 11 2021
DESCRIPTION:Chero Goswami\, UW\nThis is an invitation-only event.  For more information\, fill out the form\, below.\n\n \n\n\n\n\n Name (required)\n \n\nEmail (required):\n \n\nTitle (required):\n \ [...]
URL:https://scottsdaleinstitute.org/event/cio-dialogue-call-2/
END:VEVENT
BEGIN:VEVENT
DTSTART;TZID=America/Chicago:20210311T130000
DTEND;TZID=America/Chicago:20210311T140000
DTSTAMP:20260425T081038
CREATED:20210204T181812Z
LAST-MODIFIED:20251203T015526Z
UID:42281-1615467600-1615471200@scottsdaleinstitute.org
SUMMARY:WEBINAR | Inclusion: Making it Real - Why is it Vital?  The Immediacy of Now
DESCRIPTION:Audra Bohannon\, Senior Client Partner and Norm Miles\, Senior Principal at Korn Ferry.  Given the challenges in healthcare\, change is paramount.  We live in a complex and diverse world [...]
URL:https://scottsdaleinstitute.org/event/webinar-inclusion-making-it-real-why-is-it-vital-the-immediacy-of-now/
END:VEVENT
BEGIN:VEVENT
DTSTART;TZID=America/Chicago:20210310T130000
DTEND;TZID=America/Chicago:20210310T140000
DTSTAMP:20260425T081038
CREATED:20210114T224129Z
LAST-MODIFIED:20251203T015527Z
UID:41887-1615381200-1615384800@scottsdaleinstitute.org
SUMMARY:WEBINAR | Bellwether Market Phoenix: Working Smarter - Redefining Payment Platforms & Partnerships
DESCRIPTION:Paige Rothermel\n\nDoug Watson\n\nPaul Briggs\n\n\n\nConsolidating the Phoenix healthcare market has engendered creative solutions around simplified patient payment options and price trans [...]
URL:https://scottsdaleinstitute.org/event/webinar-bellwether-market-phoenix-working-smarter-redefining-payment-platforms-partnerships/
END:VEVENT
BEGIN:VEVENT
DTSTART;TZID=America/Chicago:20210304T130000
DTEND;TZID=America/Chicago:20210304T140000
DTSTAMP:20260425T081038
CREATED:20210204T175041Z
LAST-MODIFIED:20250319T191620Z
UID:42279-1614862800-1614866400@scottsdaleinstitute.org
SUMMARY:Less Classroom “Training\,” More Learning at Froedtert
DESCRIPTION:Stephanie Lenzner\, VP\, Chief Data and Analytics Officer\, Froedtert & The Medical College of Wisconsin; Tom Burton\, Co-Founder; Jill Terry\, Chief Learning Officer; and Eric Denna\, SVP [...]
URL:https://scottsdaleinstitute.org/event/less-classroom-training-more-learning-at-froedtert/
END:VEVENT
BEGIN:VEVENT
DTSTART;TZID=America/Chicago:20210225T130000
DTEND;TZID=America/Chicago:20210225T140000
DTSTAMP:20260425T081038
CREATED:20210113T002049Z
LAST-MODIFIED:20250319T191620Z
UID:41839-1614258000-1614261600@scottsdaleinstitute.org
SUMMARY:A Self-Assessment Tool for Achieving the Autonomous Pharmacy at Baptist Health
DESCRIPTION:Nilesh Desai\, MBA\, BS\, RPh\, CPPS\, Chief Pharmacy Officer\, Baptist Health\, and Ken Perez\, VP\, Healthcare Policy and Government Affairs\, Omnicell. Overreliance on manual processes  [...]
URL:https://scottsdaleinstitute.org/event/a-self-assessment-tool-for-achieving-the-autonomous-pharmacy-at-baptist-health/
END:VEVENT
BEGIN:VEVENT
DTSTART;TZID=America/Chicago:20210224T130000
DTEND;TZID=America/Chicago:20210224T140000
DTSTAMP:20260425T081038
CREATED:20210113T002043Z
LAST-MODIFIED:20250319T191915Z
UID:41838-1614171600-1614175200@scottsdaleinstitute.org
SUMMARY:Healthcare AI/ML Confidential Computing Platform
DESCRIPTION:Mary Beth Chalk\, Business Development\, Center for Digital Health Innovation\, UCSF Innovation Ventures. Cyberattacks on healthcare data are a clear and present danger resulting in constr [...]
URL:https://scottsdaleinstitute.org/event/healthcare-ai-ml-confidential-computing-platform/
END:VEVENT
BEGIN:VEVENT
DTSTART;TZID=America/Chicago:20210223T143000
DTEND;TZID=America/Chicago:20210223T153000
DTSTAMP:20260425T081038
CREATED:20210209T013312Z
LAST-MODIFIED:20231107T193206Z
UID:42426-1614090600-1614094200@scottsdaleinstitute.org
SUMMARY:SI CTO/VP Apps Dialogue - Feb 23 2021
DESCRIPTION:“Optimizing Virtual Tools Post-Covid”\nJohn Hendricks\, SI\, former HFHS\n\n\n\n\nDialogue Digest
URL:https://scottsdaleinstitute.org/event/cto-vp-apps-dialogue-call/
END:VEVENT
BEGIN:VEVENT
DTSTART;TZID=America/Chicago:20210218T110000
DTEND;TZID=America/Chicago:20210218T120000
DTSTAMP:20260425T081038
CREATED:20210209T010844Z
LAST-MODIFIED:20260415T194853Z
UID:42386-1613646000-1613649600@scottsdaleinstitute.org
SUMMARY:SI CMIO Dialogue - Feb 18 2021
DESCRIPTION:“Cures Act”\nBonny Chen\, AMITA\n\n\n\n\nDialogue Digest
URL:https://scottsdaleinstitute.org/event/cmio-dialogue-call/
END:VEVENT
BEGIN:VEVENT
DTSTART;TZID=America/Chicago:20210212T143000
DTEND;TZID=America/Chicago:20210212T153000
DTSTAMP:20260425T081038
CREATED:20210209T010258Z
LAST-MODIFIED:20231107T191955Z
UID:42373-1613140200-1613143800@scottsdaleinstitute.org
SUMMARY:Dialogue | CIO - Feb 12 2021
DESCRIPTION:“Diversity and Professional Development of IT Staff”\nEric Yablonka\, Stanford\n\n\nDialogue Digest
URL:https://scottsdaleinstitute.org/event/cio-dialogue-call/
END:VEVENT
BEGIN:VEVENT
DTSTART;TZID=America/Chicago:20210211T143000
DTEND;TZID=America/Chicago:20210211T153000
DTSTAMP:20260425T081038
CREATED:20210205T211419Z
LAST-MODIFIED:20231107T191745Z
UID:42313-1613053800-1613057400@scottsdaleinstitute.org
SUMMARY:Dialogue | CIO-CISO - Feb 11 2021
DESCRIPTION:“Building an Effective Enterprise Risk Management Program and Lessons Learned”\nBryan McDowell & Daniel Bucci\, UH\n\n\n\n\nDialogue Digest
URL:https://scottsdaleinstitute.org/event/cio-ciso-dialogue-call/
END:VEVENT
BEGIN:VEVENT
DTSTART;TZID=America/Chicago:20210211T130000
DTEND;TZID=America/Chicago:20210211T140000
DTSTAMP:20260425T081038
CREATED:20210113T002037Z
LAST-MODIFIED:20250319T184643Z
UID:41836-1613048400-1613052000@scottsdaleinstitute.org
SUMMARY:Data-Driven Analytics Transformation at Edward-Elmhurst Health
DESCRIPTION:Raj Iyer\, MBA\, Chief Data & Analytics Officer\, Edward-Elmhurst Health\, and Ben Wolfe\, PMP\, Principal\, Impact Advisors. Raj and Ben share the vision\, roadmap\, recent results\, and  [...]
URL:https://scottsdaleinstitute.org/event/data-driven-analytics-transformation-at-edward-elmhurst-health/
END:VEVENT
BEGIN:VEVENT
DTSTART;TZID=America/Chicago:20210210T130000
DTEND;TZID=America/Chicago:20210210T140000
DTSTAMP:20260425T081038
CREATED:20210202T175123Z
LAST-MODIFIED:20250319T192105Z
UID:42215-1612962000-1612965600@scottsdaleinstitute.org
SUMMARY:COVID-19 Community Immunity for All Initiative at Atrium Health
DESCRIPTION:Scott Rissmiller\, MD\, EVP & Chief Physician Executive\, and Kinneil Coltman\, DHA\, SVP\, Chief Community & Social Impact Officer\, Atrium Health. Atrium Health’s “Community Immunity [...]
URL:https://scottsdaleinstitute.org/event/covid-19-community-immunity-for-all-initiative-at-atrium-health/
END:VEVENT
BEGIN:VEVENT
DTSTART;TZID=America/Chicago:20210203T130000
DTEND;TZID=America/Chicago:20210203T140000
DTSTAMP:20260425T081038
CREATED:20210113T002028Z
LAST-MODIFIED:20230404T001623Z
UID:41844-1612357200-1612360800@scottsdaleinstitute.org
SUMMARY:Telehealth Data Model at Intermountain
DESCRIPTION:Brian Wayling\, MBA\, Executive Director Development & Technology\, Intermountain Healthcare Telehealth Services. Intermountain has always been a leader in using data to develop healthcare [...]
URL:https://scottsdaleinstitute.org/event/telehealth-data-model-at-intermountain/
END:VEVENT
BEGIN:VEVENT
DTSTART;TZID=America/Chicago:20210127T130000
DTEND;TZID=America/Chicago:20210127T140000
DTSTAMP:20260425T081038
CREATED:20201211T223511Z
LAST-MODIFIED:20250319T191915Z
UID:41586-1611752400-1611756000@scottsdaleinstitute.org
SUMMARY:Streamlining Operations with AI at Tampa General Hospital
DESCRIPTION:Scott Arnold\nPeter Chang\, MD\nScott Arnold\, EVP & CIO\, and Peter Chang\, MD\, VP Care Transitions and CMIO\, Tampa General Hospital. Join Scott and Dr. Chang for Tampa General Hospita [...]
URL:https://scottsdaleinstitute.org/event/streamlining-operations-with-ai-at-tampa-general-hospital/
END:VEVENT
BEGIN:VEVENT
DTSTART;TZID=America/Chicago:20210126T130000
DTEND;TZID=America/Chicago:20210126T140000
DTSTAMP:20260425T081038
CREATED:20201211T223508Z
LAST-MODIFIED:20250319T191323Z
UID:41585-1611666000-1611669600@scottsdaleinstitute.org
SUMMARY:UH4YOU: Building Resilience During COVID-19 and Beyond at University Hospitals
DESCRIPTION:Francoise Adan\, MD\, ABIHM\, Director of Connor Integrative Health Network\, University Hospitals. Burnout and compassion fatigue are serious concerns for caregivers across the healthcare [...]
URL:https://scottsdaleinstitute.org/event/uh4you-building-resilience-during-covid-19-and-beyond-at-university-hospitals/
END:VEVENT
BEGIN:VEVENT
DTSTART;TZID=America/Chicago:20210120T130000
DTEND;TZID=America/Chicago:20210120T140000
DTSTAMP:20260425T081038
CREATED:20201211T223503Z
LAST-MODIFIED:20240507T210646Z
UID:41583-1611147600-1611151200@scottsdaleinstitute.org
SUMMARY:Leveraging the Power of Crowds: How Brigham and Women’s Innovation Hub is taking Aim at Everyday Problems
DESCRIPTION:Santosh Mohan\, MMCi\, CPHIMS\, FHIMSS\nCaroline Coy\, MPH\nCallie Patel\, MBA\nSantosh Mohan\, MMCi\, CPHIMS\, FHIMSS\, Managing Director\, Digital Health Innovation; Caroline Coy\, MPH\, [...]
URL:https://scottsdaleinstitute.org/event/leveraging-the-power-of-crowds-how-brigham-and-womens-innovation-hub-is-taking-aim-at-everyday-problems/
END:VEVENT
BEGIN:VEVENT
DTSTART;TZID=America/Chicago:20210119T143000
DTEND;TZID=America/Chicago:20210119T153000
DTSTAMP:20260425T081038
CREATED:20210209T012337Z
LAST-MODIFIED:20260415T195031Z
UID:42410-1611066600-1611070200@scottsdaleinstitute.org
SUMMARY:SI Analytics Dialogue - "Data Driven Digital Transformation"
DESCRIPTION:“Data Driven Digital Transformation”\nOmer Awan\, Chief Data and Digital Officer\, Atrium\n\n\n\n\n\nDialogue Digest
URL:https://scottsdaleinstitute.org/event/si-analytics-dialogue-data-driven-digital-transformation/
END:VEVENT
BEGIN:VEVENT
DTSTART;TZID=America/Chicago:20210119T130000
DTEND;TZID=America/Chicago:20210119T140000
DTSTAMP:20260425T081038
CREATED:20201211T223501Z
LAST-MODIFIED:20250319T191323Z
UID:41582-1611061200-1611064800@scottsdaleinstitute.org
SUMMARY:Predictive Models\, Bias\, Health Equity\, and COVID-19
DESCRIPTION:Michael Pencina\, PhD\, Vice Dean for Data Science and IT & Professor of Biostatistics and Bioinformatics\, Duke University School of Medicine. Modern health systems stand to derive substa [...]
URL:https://scottsdaleinstitute.org/event/predictive-models-bias-health-equity-and-covid-19/
END:VEVENT
BEGIN:VEVENT
DTSTART;TZID=America/Chicago:20210114T130000
DTEND;TZID=America/Chicago:20210114T140000
DTSTAMP:20260425T081038
CREATED:20201211T223455Z
LAST-MODIFIED:20250319T191323Z
UID:41581-1610629200-1610632800@scottsdaleinstitute.org
SUMMARY:COVID-19 Immunity Research at Mass General Brigham
DESCRIPTION:Duane Wesemann\, MD\, PhD\, Associate Professor of Medicine\, Harvard Medical School\, Associate Physician\, Brigham and Women’s Hospital. It is relatively well-known that the immune sys [...]
URL:https://scottsdaleinstitute.org/event/covid-19-immunity-research-at-mass-general-brigham/
END:VEVENT
BEGIN:VEVENT
DTSTART;TZID=America/Chicago:20210106T130000
DTEND;TZID=America/Chicago:20210106T140000
DTSTAMP:20260425T081038
CREATED:20201216T021652Z
LAST-MODIFIED:20250402T195401Z
UID:41689-1609938000-1609941600@scottsdaleinstitute.org
SUMMARY:The Commons Project’s CommonPass
DESCRIPTION:JP Pollak\, PhD\, Chief Product Officer\, The Commons Project.  Major airlines will soon roll out apps to check the COVID-19 test and vaccination status of passengers\, likely followed by [...]
URL:https://scottsdaleinstitute.org/event/the-commons-projects-commonpass/
END:VEVENT
BEGIN:VEVENT
DTSTART;TZID=America/Chicago:20201217T143000
DTEND;TZID=America/Chicago:20201217T153000
DTSTAMP:20260425T081038
CREATED:20210908T163659Z
LAST-MODIFIED:20220214T224825Z
UID:47381-1608215400-1608219000@scottsdaleinstitute.org
SUMMARY:SI CNIO Dialogue - Dec 17 2020
DESCRIPTION:This is an invitation-only event.  For more information\, fill out the form\, below.\n\n \n\n\n\n\n Name (required)\n \n\nEmail (required):\n \n\nTitle (required):\n \n\n>> Please indicat [...]
URL:https://scottsdaleinstitute.org/event/si-cnio-dialogue-dec-17-2020/
END:VEVENT
BEGIN:VEVENT
DTSTART;TZID=America/Chicago:20201210T143000
DTEND;TZID=America/Chicago:20201210T153000
DTSTAMP:20260425T081038
CREATED:20210915T171851Z
LAST-MODIFIED:20230404T001624Z
UID:47620-1607610600-1607614200@scottsdaleinstitute.org
SUMMARY:SI Innovation Dialogue - Dec 10 2020
DESCRIPTION:This is an invitation-only event.  For more information\, fill out the form\, below.\n\n\n \n\n\n\n\n Name (required)\n \n\nEmail (required):\n \n\nTitle (required):\n \n\n>> Please indic [...]
URL:https://scottsdaleinstitute.org/event/si-innovation-dialogue-dec-10-2020/
END:VEVENT
BEGIN:VEVENT
DTSTART;TZID=America/Chicago:20201210T130000
DTEND;TZID=America/Chicago:20201210T140000
DTSTAMP:20260425T081038
CREATED:20201110T174317Z
LAST-MODIFIED:20250319T193734Z
UID:40981-1607605200-1607608800@scottsdaleinstitute.org
SUMMARY:Leverage a Digital Practice to Advance Consumer Engagement amid COVID-19 and Beyond 
DESCRIPTION:Tom Pacek\, CIO\, Inspira Health\, and David Harse\, VP and GM\, Consumer Engagement\, Cerner.  As the healthcare industry undergoes a shift in consumer behavior patterns\, providers are  [...]
URL:https://scottsdaleinstitute.org/event/leverage-a-digital-practice-to-advance-consumer-engagement-amid-covid-19-and-beyond/
END:VEVENT
BEGIN:VEVENT
DTSTART;TZID=America/Chicago:20201208T100000
DTEND;TZID=America/Chicago:20201208T140000
DTSTAMP:20260425T081038
CREATED:20200930T172032Z
LAST-MODIFIED:20230404T000201Z
UID:40483-1607421600-1607436000@scottsdaleinstitute.org
SUMMARY:SI 2020 CIO Virtual Summit: New Alignment for IT in an Era of Rapid Change
DESCRIPTION:The Scottsdale Institute convened 25 chief information officers for a CIO Virtual Summit on December 8\, 2020\, to discuss how a new social pact between health systems and the public is em [...]
URL:https://scottsdaleinstitute.org/event/si-2020-cio-virtual-summit-reg-395npk/
ATTACH;FMTTYPE=image/jpeg:https://scottsdaleinstitute.org/wp-content/uploads/2020/09/sdoh2020.jpg
END:VEVENT
BEGIN:VEVENT
DTSTART;TZID=America/Chicago:20201202T130000
DTEND;TZID=America/Chicago:20201202T140000
DTSTAMP:20260425T081038
CREATED:20201110T174542Z
LAST-MODIFIED:20250319T193734Z
UID:40980-1606914000-1606917600@scottsdaleinstitute.org
SUMMARY:Top 10 Factors to Consider when Developing Your Growth Strategy: The role IT can play in 2021
DESCRIPTION:Leslie Schatz\, Director of Client Services; Danny Fell\, Director of Client Services; Nick Fromell\, Subject Matter Expert\, Optum; and Carol Chouinard\, Vice President\, Optum Advisory S [...]
URL:https://scottsdaleinstitute.org/event/top-10-factors-to-consider-when-developing-your-growth-strategy-the-role-it-can-play-in-2021/
END:VEVENT
BEGIN:VEVENT
DTSTART;TZID=America/Chicago:20201119T143000
DTEND;TZID=America/Chicago:20201119T153000
DTSTAMP:20260425T081038
CREATED:20210915T171859Z
LAST-MODIFIED:20210915T172014Z
UID:47621-1605796200-1605799800@scottsdaleinstitute.org
SUMMARY:SI CMIO Dialogue - Nov 19 2020
DESCRIPTION:This is an invitation-only event.  For more information\, fill out the form\, below.\n\n\n \n\n\n\n\n Name (required)\n \n\nEmail (required):\n \n\nTitle (required):\n \n\n>> Please indic [...]
URL:https://scottsdaleinstitute.org/event/si-cmio-dialogue-nov-19-2020/
END:VEVENT
END:VCALENDAR