BEGIN:VCALENDAR
VERSION:2.0
PRODID:-//Scottsdale Institute - ECPv6.8.0//NONSGML v1.0//EN
CALSCALE:GREGORIAN
METHOD:PUBLISH
X-WR-CALNAME:Scottsdale Institute
X-ORIGINAL-URL:https://scottsdaleinstitute.org
X-WR-CALDESC:Events for Scottsdale Institute
REFRESH-INTERVAL;VALUE=DURATION:PT1H
X-Robots-Tag:noindex
X-PUBLISHED-TTL:PT1H
BEGIN:VTIMEZONE
TZID:America/Chicago
BEGIN:DAYLIGHT
TZOFFSETFROM:-0600
TZOFFSETTO:-0500
TZNAME:CDT
DTSTART:20200308T080000
END:DAYLIGHT
BEGIN:STANDARD
TZOFFSETFROM:-0500
TZOFFSETTO:-0600
TZNAME:CST
DTSTART:20201101T070000
END:STANDARD
END:VTIMEZONE
BEGIN:VEVENT
DTSTART;TZID=America/Chicago:20201118T100000
DTEND;TZID=America/Chicago:20201118T140000
DTSTAMP:20260425T113354
CREATED:20200914T202805Z
LAST-MODIFIED:20230404T001624Z
UID:40030-1605693600-1605708000@scottsdaleinstitute.org
SUMMARY:SI 2020 Innovation Virtual Summit - Transforming the Way We Work:  How Innovation Becomes the Next Normal
DESCRIPTION:The Scottsdale Institute convened 46 health-system innovation leaders for a virtual summit moderated by Deloitte on November 18\, 2020\, to discuss how innovation is transforming the way h [...]
URL:https://scottsdaleinstitute.org/event/si-2020-innovation-virtual-summit-reg-page-vkhj4p98q/
ATTACH;FMTTYPE=image/jpeg:https://scottsdaleinstitute.org/wp-content/uploads/2020/09/2020-innovation-summit-webpage.jpg
END:VEVENT
BEGIN:VEVENT
DTSTART;TZID=America/Chicago:20201112T143000
DTEND;TZID=America/Chicago:20201112T153000
DTSTAMP:20260425T113354
CREATED:20210908T163714Z
LAST-MODIFIED:20230404T000202Z
UID:47382-1605191400-1605195000@scottsdaleinstitute.org
SUMMARY:SI CIO-CISO Dialogue - Nov 12 2020
DESCRIPTION:Topic TBD\nThis is an invitation-only event.  For more information\, fill out the form\, below.\n\n \n\n\n\n\n Name (required)\n \n\nEmail (required):\n \n\nTitle (required):\n \n\n>> Ple [...]
URL:https://scottsdaleinstitute.org/event/si-cio-ciso-dialogue-nov-12-2020/
END:VEVENT
BEGIN:VEVENT
DTSTART;TZID=America/Chicago:20201111T130000
DTEND;TZID=America/Chicago:20201111T140000
DTSTAMP:20260425T113354
CREATED:20201005T172609Z
LAST-MODIFIED:20250319T193734Z
UID:40529-1605099600-1605103200@scottsdaleinstitute.org
SUMMARY:Using Self-Insured Data as a Foundation for Value-based Payment Strategy at Adventist Health
DESCRIPTION:John Beaman\nAllen Miller\nJohn Beaman\, Chief Business Officer\, Adventist Health\, and Allen Miller\, Principal\, COPE Health Solutions.  As CMS and employers continue to push for more  [...]
URL:https://scottsdaleinstitute.org/event/using-self-insured-data-as-a-foundation-for-value-based-payment-strategy-at-adventist-health-2/
END:VEVENT
BEGIN:VEVENT
DTSTART;TZID=America/Chicago:20201110T130000
DTEND;TZID=America/Chicago:20201110T140000
DTSTAMP:20260425T113354
CREATED:20201005T172606Z
LAST-MODIFIED:20250319T193734Z
UID:40528-1605013200-1605016800@scottsdaleinstitute.org
SUMMARY:Integrating Patient-Reported Outcomes into Clinical Workflow
DESCRIPTION:Ida Sim\, MD\, PhD\, Professor of Medicine\, UCSF.  Recording patient reported outcomes (PROs) in real time between visits\, versus by patient recall during visits\, allows patients to mo [...]
URL:https://scottsdaleinstitute.org/event/integrating-patient-reported-outcomes-into-clinical-workflow/
END:VEVENT
BEGIN:VEVENT
DTSTART;TZID=America/Chicago:20201104T100000
DTEND;TZID=America/Chicago:20201104T110000
DTSTAMP:20260425T113354
CREATED:20201005T172558Z
LAST-MODIFIED:20250402T195401Z
UID:40526-1604484000-1604487600@scottsdaleinstitute.org
SUMMARY:Study: Robust T-Cell Immunity Found in Those with Asymptomatic\, Mild COVID-19
DESCRIPTION:Marcus Buggert\, PhD\, Assistant Professor\, Department of Medicine Huddinge\, Karolinska Institute\, Sweden.  Dr. Buggert is a viral immunologist that has focused his career on T cells i [...]
URL:https://scottsdaleinstitute.org/event/study-robust-t-cell-immunity-found-in-those-with-asymptomatic-mild-covid-19/
END:VEVENT
BEGIN:VEVENT
DTSTART;TZID=America/Chicago:20201103T130000
DTEND;TZID=America/Chicago:20201103T140000
DTSTAMP:20260425T113354
CREATED:20201005T172557Z
LAST-MODIFIED:20250319T193734Z
UID:40525-1604408400-1604412000@scottsdaleinstitute.org
SUMMARY:IT/Marketing Partnership for Digital Customer Engagement at HonorHealth
DESCRIPTION:Emily Borlas\, MBA\, AVP\, IT Applications\, and Craig Kartchner\, MBA\, AVP\, Marketing and Customer Experience\, HonorHealth.  Creating the best experience for healthcare customers is l [...]
URL:https://scottsdaleinstitute.org/event/it-marketing-partnership-for-digital-customer-engagement-at-honorhealth/
END:VEVENT
BEGIN:VEVENT
DTSTART;TZID=America/Chicago:20201029T130000
DTEND;TZID=America/Chicago:20201029T140000
DTSTAMP:20260425T113354
CREATED:20201007T205856Z
LAST-MODIFIED:20250319T193734Z
UID:40599-1603976400-1603980000@scottsdaleinstitute.org
SUMMARY:WEBINAR | UChicago Medicine's COVID Innovation Challenge 2020
DESCRIPTION:Sharon Markman\, MHA\nCraig Umscheid\, MD\, MS\nSharon Markman\, MHA\, Administrative Director\, Center for Healthcare Delivery Science and Innovation and Craig Umscheid\, MD\, MS\, Chief  [...]
URL:https://scottsdaleinstitute.org/event/webinar-uchicago-medicines-covid-innovation-challenge-2020/
END:VEVENT
BEGIN:VEVENT
DTSTART;TZID=America/Chicago:20201021T130000
DTEND;TZID=America/Chicago:20201021T140000
DTSTAMP:20260425T113354
CREATED:20200902T232659Z
LAST-MODIFIED:20250402T195401Z
UID:39559-1603285200-1603288800@scottsdaleinstitute.org
SUMMARY:Cedars-Sinai Uses Machine Learning to Continuously Forecast Demand\, Supply\, and Outcomes
DESCRIPTION:Michael Thompson\, MS\, Executive Director of Enterprise Data Intelligence\, Cedars-Sinai. Over the past three years\, Cedars-Sinai has merged together its analytics capabilities across fi [...]
URL:https://scottsdaleinstitute.org/event/cedars-sinai-uses-machine-learning-to-continuously-forecast-demand-supply-and-outcomes/
END:VEVENT
BEGIN:VEVENT
DTSTART;TZID=America/Chicago:20201020T143000
DTEND;TZID=America/Chicago:20201020T153000
DTSTAMP:20260425T113354
CREATED:20210908T170118Z
LAST-MODIFIED:20230404T000017Z
UID:47392-1603204200-1603207800@scottsdaleinstitute.org
SUMMARY:SI Analytics Dialogue - Oct 20 2020
DESCRIPTION:“OSF Pandemic Impact Model – Lessons Learned”\nChris Franciskovich\, Director\, Advanced Analytics & Kimberly Blakey\, Director\, Clinical Business Operations\, OSF HealthCare\nThis  [...]
URL:https://scottsdaleinstitute.org/event/si-analytics-dialogue-oct-20-2020/
END:VEVENT
BEGIN:VEVENT
DTSTART;TZID=America/Chicago:20201020T130000
DTEND;TZID=America/Chicago:20201020T140000
DTSTAMP:20260425T113354
CREATED:20200917T205821Z
LAST-MODIFIED:20250319T193734Z
UID:40186-1603198800-1603202400@scottsdaleinstitute.org
SUMMARY:Meeting Patients Where They Are With Voice Technology
DESCRIPTION:Jason Burum\nFreddie Feldman\nJason Burum\, VP\, Patient Engagement\, Clinical Effectiveness; and Freddie Feldman\, Voice Design Director\, Clinical Effectiveness\, Wolters Kluwer.  Nearl [...]
URL:https://scottsdaleinstitute.org/event/meeting-patients-where-they-are-with-voice-technology/
END:VEVENT
BEGIN:VEVENT
DTSTART;TZID=America/Chicago:20201015T130000
DTEND;TZID=America/Chicago:20201015T140000
DTSTAMP:20260425T113354
CREATED:20200902T232730Z
LAST-MODIFIED:20250319T193735Z
UID:39558-1602766800-1602770400@scottsdaleinstitute.org
SUMMARY:Delivering Better Outcomes by Insourcing Complex Processes in Pharmacy Operations
DESCRIPTION:Dennis Killian\, PharmD\, PhD\, VP Clinical Operations\, Tidal Health\, and Dennis Wright\, Senior Director\, Omnicell. The healthcare industry often turns to software as a service (SaaS)  [...]
URL:https://scottsdaleinstitute.org/event/delivering-better-outcomes-by-insourcing-complex-processes-in-pharmacy-operations/
END:VEVENT
BEGIN:VEVENT
DTSTART;TZID=America/Chicago:20201013T130000
DTEND;TZID=America/Chicago:20201013T140000
DTSTAMP:20260425T113354
CREATED:20200902T232754Z
LAST-MODIFIED:20250319T192131Z
UID:39557-1602594000-1602597600@scottsdaleinstitute.org
SUMMARY:Operationalizing Telehealth Across Sites of Care at AMITA
DESCRIPTION:Laura Messineo\, RN\, MHA\, VP TeleHealth\, AMITA Health. Telehealth has seen exponential growth across the country and many health systems have implemented interim solutions to meet the d [...]
URL:https://scottsdaleinstitute.org/event/operationalizing-telehealth-across-sites-of-care-at-amita/
END:VEVENT
BEGIN:VEVENT
DTSTART;TZID=America/Chicago:20201008T143000
DTEND;TZID=America/Chicago:20201008T153000
DTSTAMP:20260425T113354
CREATED:20210908T170102Z
LAST-MODIFIED:20230404T000203Z
UID:47391-1602167400-1602171000@scottsdaleinstitute.org
SUMMARY:SI CIO Dialogue - Oct 8 2020
DESCRIPTION:“RPA Governance”\nHeather Nelson\, SVP & CIO\, UChicago Medicine\nThis is an invitation-only event.  For more information\, fill out the form\, below.\n\n \n\n\n\n\n Name (required)\n [...]
URL:https://scottsdaleinstitute.org/event/si-cio-dialogue-oct-8-2020/
END:VEVENT
BEGIN:VEVENT
DTSTART;TZID=America/Chicago:20201008T130000
DTEND;TZID=America/Chicago:20201008T140000
DTSTAMP:20260425T113354
CREATED:20200902T232822Z
LAST-MODIFIED:20260109T151108Z
UID:39556-1602162000-1602165600@scottsdaleinstitute.org
SUMMARY:2021 Quality Payment Program Proposed Rule Overview
DESCRIPTION:Dan Golder\, DDS\, MBA\, Principal and Larry Katzovitz\, Senior Advisor\, Impact Advisors. This session examines the recent “2021 Quality Payment Program Proposed Rule\,” released on A [...]
URL:https://scottsdaleinstitute.org/event/2021-quality-payment-program-proposed-rule-overview/
END:VEVENT
BEGIN:VEVENT
DTSTART;TZID=America/Chicago:20201007T130000
DTEND;TZID=America/Chicago:20201007T140000
DTSTAMP:20260425T113354
CREATED:20200902T232908Z
LAST-MODIFIED:20250319T193735Z
UID:39555-1602075600-1602079200@scottsdaleinstitute.org
SUMMARY:Addressing Patient Hospital Concerns Post-COVID with Precision Marketing at AdventHealth
DESCRIPTION:Anthony Cadieux\, Executive Director\, Strategy and Digital Marketing\, AdventHealth; Jason Brown\, CEO\, BPD Advertising; and Tyler Ford\, Director\, Optum. Many health systems around the [...]
URL:https://scottsdaleinstitute.org/event/addressing-patient-hospital-concerns-post-covid-with-precision-marketing-at-adventhealth/
END:VEVENT
BEGIN:VEVENT
DTSTART;TZID=America/Chicago:20201006T130000
DTEND;TZID=America/Chicago:20201006T140000
DTSTAMP:20260425T113354
CREATED:20200902T232933Z
LAST-MODIFIED:20251120T173130Z
UID:39554-1601989200-1601992800@scottsdaleinstitute.org
SUMMARY:Using Artificial Intelligence to Identify COVID-19 Patients at High Risk of Clinical Deterioration
DESCRIPTION:Peter Winkelstein\, MD\, MS\, MBA\, FAAP\, Professor of Clinical Pediatrics\, VP and CMIO\, Kaleida Health\, Executive Director\, University at Buffalo Institute for Healthcare Informatics [...]
URL:https://scottsdaleinstitute.org/event/using-artificial-intelligence-to-identify-covid-19-patients-at-high-risk-of-clinical-deterioration/
END:VEVENT
BEGIN:VEVENT
DTSTART;TZID=America/Chicago:20201001T100000
DTEND;TZID=America/Chicago:20201001T140000
DTSTAMP:20260425T113354
CREATED:20200817T153917Z
LAST-MODIFIED:20240626T180744Z
UID:39145-1601546400-1601560800@scottsdaleinstitute.org
SUMMARY:SI 2020 CMIO Virtual Summit: The Enabling Infrastructure for Effective COVID-19 Crisis Response
DESCRIPTION:The Scottsdale Institute 2020 CMIO Virtual Summit sponsored by Hearst Health convened 28 chief medical informatics officers from prominent healthcare systems across the country on October  [...]
URL:https://scottsdaleinstitute.org/event/si-2020-cmio-virtual-summit/
ATTACH;FMTTYPE=image/jpeg:https://scottsdaleinstitute.org/wp-content/uploads/2020/08/2020CMIOsummit2.jpg
END:VEVENT
BEGIN:VEVENT
DTSTART;TZID=America/Chicago:20200930T100000
DTEND;TZID=America/Chicago:20200930T140000
DTSTAMP:20260425T113354
CREATED:20200806T205337Z
LAST-MODIFIED:20221117T202158Z
UID:38988-1601460000-1601474400@scottsdaleinstitute.org
SUMMARY:SI 2020 CNIO Virtual Summit: Stories of How Nurse Innovations and Leadership Shine During a Pandemic
DESCRIPTION:The Scottsdale Institute 2020 CNIO Virtual Summit sponsored by Nuance convened 27 health-system Chief Nursing Information Officers and other nursing leaders from 20 prominent healthcare sy [...]
URL:https://scottsdaleinstitute.org/event/si-2020-cnio-virtual-summit-registration-page/
ATTACH;FMTTYPE=image/jpeg:https://scottsdaleinstitute.org/wp-content/uploads/2020/08/CNIO-2020-Summit.jpg
END:VEVENT
BEGIN:VEVENT
DTSTART;TZID=America/Chicago:20200924T143000
DTEND;TZID=America/Chicago:20200924T153000
DTSTAMP:20260425T113354
CREATED:20210915T171907Z
LAST-MODIFIED:20210915T172106Z
UID:47622-1600957800-1600961400@scottsdaleinstitute.org
SUMMARY:SI CISO Dialogue - Sep 24 2020
DESCRIPTION:This is an invitation-only event.  For more information\, fill out the form\, below.\n\n\n \n\n\n\n\n Name (required)\n \n\nEmail (required):\n \n\nTitle (required):\n \n\n>> Please indic [...]
URL:https://scottsdaleinstitute.org/event/si-ciso-dialogue-sep-24-2020/
END:VEVENT
BEGIN:VEVENT
DTSTART;TZID=America/Chicago:20200924T143000
DTEND;TZID=America/Chicago:20200924T153000
DTSTAMP:20260425T113354
CREATED:20210908T170044Z
LAST-MODIFIED:20220214T224901Z
UID:47390-1600957800-1600961400@scottsdaleinstitute.org
SUMMARY:SI CNIO Dialogue - Sep 24 2020
DESCRIPTION:“Just Launched and Expanding – Unique Approach to Virtual Nursing in ICUs”\nAnn Shepard\, MSN\, RN-BC\, CNIO & VP Clinical Informatics\, CommonSpirit Health\nThis is an invitation-on [...]
URL:https://scottsdaleinstitute.org/event/si-cnio-dialogue-sep-24-2020/
END:VEVENT
BEGIN:VEVENT
DTSTART;TZID=America/Chicago:20200923T143000
DTEND;TZID=America/Chicago:20200923T153000
DTSTAMP:20260425T113354
CREATED:20210908T170030Z
LAST-MODIFIED:20210908T170030Z
UID:47389-1600871400-1600875000@scottsdaleinstitute.org
SUMMARY:SI CIO/CISO Dialogue - Sep 23 2020
DESCRIPTION:“Data Loss Prevention in a Perimeter-less Future”\nChris Convey\, Sharp HealthCare\nThis is an invitation-only event.  For more information\, fill out the form\, below.\n\n \n\n\n\n\n [...]
URL:https://scottsdaleinstitute.org/event/si-cio-ciso-dialogue-sep-23-2020/
END:VEVENT
BEGIN:VEVENT
DTSTART;TZID=America/Chicago:20200923T130000
DTEND;TZID=America/Chicago:20200923T140000
DTSTAMP:20260425T113354
CREATED:20200805T230342Z
LAST-MODIFIED:20250319T193735Z
UID:38905-1600866000-1600869600@scottsdaleinstitute.org
SUMMARY:Expert Insights into National COVID-19 Vaccine Development
DESCRIPTION:Peter J. Hotez\, MD\, PhD\, Dean\, School of Tropical Medicine\, Baylor College of Medicine; Professor of Pediatrics and Molecular Virology & Microbiology\, Baylor College of Medicine; Adj [...]
URL:https://scottsdaleinstitute.org/event/expert-insights-into-national-covid-19-vaccine-development/
END:VEVENT
BEGIN:VEVENT
DTSTART;TZID=America/Chicago:20200922T130000
DTEND;TZID=America/Chicago:20200922T140000
DTSTAMP:20260425T113354
CREATED:20200805T230332Z
LAST-MODIFIED:20260101T212324Z
UID:38904-1600779600-1600783200@scottsdaleinstitute.org
SUMMARY:Acute Care Transformation at Cedars Sinai
DESCRIPTION:Rupal Badani\, MD\, Medical Director\, Cedars-Sinai Medical Network. COVID-19 has transformed the way we live and work\, and that has certainly been true in how patients receive healthcare [...]
URL:https://scottsdaleinstitute.org/event/acute-care-transformation-at-cedars-sinai/
END:VEVENT
BEGIN:VEVENT
DTSTART;TZID=America/Chicago:20200917T143000
DTEND;TZID=America/Chicago:20200917T153000
DTSTAMP:20260425T113354
CREATED:20210908T170013Z
LAST-MODIFIED:20230404T001520Z
UID:47388-1600353000-1600356600@scottsdaleinstitute.org
SUMMARY:SI Innovation Dialogue - Sep 17 2020
DESCRIPTION:“Adventures in Salesforce: Operationalizing and Maximizing your Investment in Salesforce to Enhance Consumer and Patient Engagement”\nMona Baset\, VP\, Digital Services\, SCL Health\nT [...]
URL:https://scottsdaleinstitute.org/event/si-innovation-dialogue-sep-17-2020/
END:VEVENT
BEGIN:VEVENT
DTSTART;TZID=America/Chicago:20200917T130000
DTEND;TZID=America/Chicago:20200917T140000
DTSTAMP:20260425T113354
CREATED:20200805T230305Z
LAST-MODIFIED:20250319T191916Z
UID:38903-1600347600-1600351200@scottsdaleinstitute.org
SUMMARY:5 Forces for the Future: Reimagining Healthcare
DESCRIPTION:Jean-Claude Saghbini\nJean-Claude Saghbini\, Chief Technology Officer\, Wolters Kluwer Health.  COVID-19 has exposed cracks in healthcare delivery systems worldwide.  In doing so\, it  [...]
URL:https://scottsdaleinstitute.org/event/5-forces-for-the-future-reimagining-healthcare/
END:VEVENT
BEGIN:VEVENT
DTSTART;TZID=America/Chicago:20200915T130000
DTEND;TZID=America/Chicago:20200915T140000
DTSTAMP:20260425T113354
CREATED:20200805T230238Z
LAST-MODIFIED:20250319T193735Z
UID:38902-1600174800-1600178400@scottsdaleinstitute.org
SUMMARY:Data Intelligence and the Framework to Build the Autonomous Pharmacy of the Future
DESCRIPTION:Allen Flynn\, PhD\, PharmD\nJames Stevenson\, PharmD\, FASHP\, FFIP\nAllen Flynn\, PhD\, PharmD\, Assistant Professor\, Department of Learning Health Science\, University of Michigan Medic [...]
URL:https://scottsdaleinstitute.org/event/data-intelligence-and-the-framework-to-build-the-autonomous-pharmacy-of-the-future/
END:VEVENT
BEGIN:VEVENT
DTSTART;TZID=America/Chicago:20200909T100000
DTEND;TZID=America/Chicago:20200909T140000
DTSTAMP:20260425T113354
CREATED:20200730T161433Z
LAST-MODIFIED:20230404T000018Z
UID:38729-1599645600-1599660000@scottsdaleinstitute.org
SUMMARY:SI 2020 Analytics Virtual Summit - The New Standard for Analytics Value
DESCRIPTION:The Scottsdale Institute 2020 Analytics Virtual Summit sponsored by Optum convened 31 health-system analytics executives from prominent healthcare systems across the country on September 9 [...]
URL:https://scottsdaleinstitute.org/event/si-2020-analytics-virtual-summit-the-new-standard-for-analytics-value-registration-page/
ATTACH;FMTTYPE=image/jpeg:https://scottsdaleinstitute.org/wp-content/uploads/2020/07/2020-analytics-summit-invitation.jpg
END:VEVENT
BEGIN:VEVENT
DTSTART;TZID=America/Chicago:20200902T130000
DTEND;TZID=America/Chicago:20200902T140000
DTSTAMP:20260425T113354
CREATED:20200805T230206Z
LAST-MODIFIED:20250402T195401Z
UID:38900-1599051600-1599055200@scottsdaleinstitute.org
SUMMARY:Enterprise Management of Drug Inventory\, Drug Shortages\, and Drug Diversion at SCL Health
DESCRIPTION:Jennifer Davis\, PharmD\, MBA\, MISM\, BCPS\, FASHP\nJennifer Davis\, PharmD\, MBA\, MISM\, BCPS\, FASHP\, System Director of Pharmacy & Technology Initiatives\, SCL Health.  Managing med [...]
URL:https://scottsdaleinstitute.org/event/enterprise-management-of-drug-inventory-drug-shortages-and-drug-diversion-at-scl-health/
END:VEVENT
BEGIN:VEVENT
DTSTART;TZID=America/Chicago:20200901T130000
DTEND;TZID=America/Chicago:20200901T140000
DTSTAMP:20260425T113354
CREATED:20200801T143815Z
LAST-MODIFIED:20250402T195401Z
UID:35009-1598965200-1598968800@scottsdaleinstitute.org
SUMMARY:Predictive Analytics at UW Health
DESCRIPTION:Brian Patterson\, MD\, MPH\nFrank Liao\, PhD\nSabrina Adelaine\nBrian Patterson\, MD\, MPH\, Physician Informatics Director for Predictive Analytics; Frank Liao\, PhD\, Director of Data Sc [...]
URL:https://scottsdaleinstitute.org/event/predictive-analytics-at-uw-health/
END:VEVENT
BEGIN:VEVENT
DTSTART;TZID=America/Chicago:20200827T130000
DTEND;TZID=America/Chicago:20200827T140000
DTSTAMP:20260425T113354
CREATED:20200706T234258Z
LAST-MODIFIED:20250319T193735Z
UID:37915-1598533200-1598536800@scottsdaleinstitute.org
SUMMARY:Mercy Virtual and COVID-19: Healthcare Redefined
DESCRIPTION:Keith M. Starke\, MD\, FACP\, SVP & CQO; Joseph Kelly\, EVP Office of Transformation; Gavin Helton\, MD\, SVP Population Health; and Ashok Palagiri\, MD\, Physician Lead for Virtual Hospit [...]
URL:https://scottsdaleinstitute.org/event/mercy-virtual-and-covid-19-healthcare-redefined/
END:VEVENT
END:VCALENDAR