BEGIN:VCALENDAR
VERSION:2.0
PRODID:-//Scottsdale Institute - ECPv6.8.0//NONSGML v1.0//EN
CALSCALE:GREGORIAN
METHOD:PUBLISH
X-WR-CALNAME:Scottsdale Institute
X-ORIGINAL-URL:https://scottsdaleinstitute.org
X-WR-CALDESC:Events for Scottsdale Institute
REFRESH-INTERVAL;VALUE=DURATION:PT1H
X-Robots-Tag:noindex
X-PUBLISHED-TTL:PT1H
BEGIN:VTIMEZONE
TZID:America/Chicago
BEGIN:DAYLIGHT
TZOFFSETFROM:-0600
TZOFFSETTO:-0500
TZNAME:CDT
DTSTART:20250309T080000
END:DAYLIGHT
BEGIN:STANDARD
TZOFFSETFROM:-0500
TZOFFSETTO:-0600
TZNAME:CST
DTSTART:20251102T070000
END:STANDARD
END:VTIMEZONE
BEGIN:VEVENT
DTSTART;TZID=America/Chicago:20251113T130000
DTEND;TZID=America/Chicago:20251113T140000
DTSTAMP:20260420T110446
CREATED:20251008T151951Z
LAST-MODIFIED:20251113T205517Z
UID:72593-1763038800-1763042400@scottsdaleinstitute.org
SUMMARY:WEBINAR | Patient Experience at Ochsner Health System: Cross Collaboration to Reduce Unnecessary ED Utilization
DESCRIPTION:Noah Pores\, MD\, Medical Director\, Virtual ED; and Ryan Pattison\, AVP Product Development\, Ochsner Health System. Learn how Ochsner shifted the ownership of tech strategy from a siloe [...]
URL:https://scottsdaleinstitute.org/event/webinar-patient-experience-cross-collaboration-to-reduce-unnecessary-ed-utilization/
END:VEVENT
BEGIN:VEVENT
DTSTART;TZID=America/Chicago:20251112T130000
DTEND;TZID=America/Chicago:20251112T140000
DTSTAMP:20260420T110446
CREATED:20250903T153154Z
LAST-MODIFIED:20260323T170941Z
UID:72024-1762952400-1762956000@scottsdaleinstitute.org
SUMMARY:WEBINAR | The Missing Link: Empowering Healthcare’s Middle Leaders
DESCRIPTION:Cathi Rittelmann\, Senior Client Partner\, Korn Ferry. Healthcare organizations are facing unprecedented pressures—from workforce shortages and rising patient expectations to rapid techn [...]
URL:https://scottsdaleinstitute.org/event/webinar-the-missing-link-empowering-healthcares-middle-leaders/
END:VEVENT
BEGIN:VEVENT
DTSTART;TZID=America/Chicago:20251111T130000
DTEND;TZID=America/Chicago:20251111T140000
DTSTAMP:20260420T110446
CREATED:20251015T184635Z
LAST-MODIFIED:20260323T170942Z
UID:72693-1762866000-1762869600@scottsdaleinstitute.org
SUMMARY:WEBINAR | A Year in Review - Supercharging Providers at University of Iowa Health Care with AI-Based Clinical Data Intelligence
DESCRIPTION:Join James Blum\, MD\, FCCM\, CDH-E\, Chief Health Information Officer (CHIO) at University of Iowa Health Care and Kalie Dove-Maguire\, MD\, President and Chief Product Officer at Evident [...]
URL:https://scottsdaleinstitute.org/event/webinar-a-year-in-review-supercharging-providers-at-university-of-iowa-health-care-with-ai-based-clinical-data-intelligence/
END:VEVENT
BEGIN:VEVENT
DTSTART;TZID=America/Chicago:20251106T130000
DTEND;TZID=America/Chicago:20251106T140000
DTSTAMP:20260420T110446
CREATED:20250915T135746Z
LAST-MODIFIED:20251106T204034Z
UID:72254-1762434000-1762437600@scottsdaleinstitute.org
SUMMARY:WEBINAR | From Imaging to Enterprise Platform Value: Redefining Health System ROI with Deep Clinical AI
DESCRIPTION:Deepak Nair\, MD\, Vice President\, Neuroscience Service Line\, OSF HealthCare; and Samir Kumar\, MD\, MBA\, CPE\, FACHE\, Chief Medical Officer\, Ascension Alexian Brothers. This webinar  [...]
URL:https://scottsdaleinstitute.org/event/webinar-from-imaging-to-enterprise-platform-value-redefining-health-system-roi-with-deep-clinical-ai/
END:VEVENT
BEGIN:VEVENT
DTSTART;TZID=America/Chicago:20251104T130000
DTEND;TZID=America/Chicago:20251104T140000
DTSTAMP:20260420T110446
CREATED:20251008T143908Z
LAST-MODIFIED:20251104T205347Z
UID:72589-1762261200-1762264800@scottsdaleinstitute.org
SUMMARY:WEBINAR | Amplifying the Clinician Voice: Practical Approaches for Impactful Transformation
DESCRIPTION:Sylvain Trepanier\, DNP\, Chief Nurse Executive\, Providence; and Victor Herrera\, MD\, Chief Clinical Officer & SVP\, AdventHealth. Clinicians are key catalysts in health care transformat [...]
URL:https://scottsdaleinstitute.org/event/webinar-amplifying-the-clinician-voice-practical-approaches-for-impactful-transformation/
END:VEVENT
BEGIN:VEVENT
DTSTART;TZID=America/Chicago:20251030T130000
DTEND;TZID=America/Chicago:20251030T140000
DTSTAMP:20260420T110446
CREATED:20250917T153947Z
LAST-MODIFIED:20251030T194005Z
UID:72289-1761829200-1761832800@scottsdaleinstitute.org
SUMMARY:WEBINAR | Using Agentic AI to Transform the Patient Payment Experience
DESCRIPTION:Join Keri McCrensky\, VP of Healthcare Digital Transformation at EXL\, and Michael Walsh\, VP of AI Solutions at EXL\, as they explore how Agentic AI is revolutionizing healthcare operatio [...]
URL:https://scottsdaleinstitute.org/event/webinar-using-agentic-ai-to-transform-the-patient-payment-experience/
END:VEVENT
BEGIN:VEVENT
DTSTART;TZID=America/Chicago:20251030T103000
DTEND;TZID=America/Chicago:20251030T120000
DTSTAMP:20260420T110446
CREATED:20250918T155617Z
LAST-MODIFIED:20251120T181846Z
UID:72300-1761820200-1761825600@scottsdaleinstitute.org
SUMMARY:ROUNDTABLE | "From Crisis to Confidence: A Leadership Blueprint for Enterprise Resiliency"
DESCRIPTION:Join top healthcare executives for a high-impact session on building enterprise-wide resiliency programs that ensure the delivery of safe patient care and availability of information asset [...]
URL:https://scottsdaleinstitute.org/event/roundtable-from-crisis-to-confidence-a-leadership-blueprint-for-enterprise-resiliency/
END:VEVENT
BEGIN:VEVENT
DTSTART;TZID=America/Chicago:20251029T130000
DTEND;TZID=America/Chicago:20251029T140000
DTSTAMP:20260420T110446
CREATED:20250828T001257Z
LAST-MODIFIED:20251203T015504Z
UID:71951-1761742800-1761746400@scottsdaleinstitute.org
SUMMARY:FIRESIDE CHAT | Revenue in the Crosshairs: Adapting to Active CMS & Reimbursement Shifts
DESCRIPTION:Julie Brown-Georgi\, MS\, CAHIMS\, Founder and CEO\, Digital Health Policy Strategies. By late October\, CMS and related regulatory changes for 2025 will no longer be theoretical\, they’ [...]
URL:https://scottsdaleinstitute.org/event/webinar-policy-hits-the-bottom-line-surviving-the-first-wave-of-2025-payment-changes/
END:VEVENT
BEGIN:VEVENT
DTSTART;TZID=America/Chicago:20251028T130000
DTEND;TZID=America/Chicago:20251028T140000
DTSTAMP:20260420T110446
CREATED:20250909T184231Z
LAST-MODIFIED:20260323T170942Z
UID:72072-1761656400-1761660000@scottsdaleinstitute.org
SUMMARY:FIRESIDE CHAT | Erik Wexler\, President & CEO of Providence: Leading Through Health Care’s Polycrisis
DESCRIPTION:Healthcare in the U.S. is not just in crisis—it’s in a polycrisis\, with multiple forces converging at once. Without bold\, collective action\, communities across the country risk losi [...]
URL:https://scottsdaleinstitute.org/event/fireside-chat-erik-wexler-president-ceo-of-providence-leading-through-health-cares-polycrisis/
END:VEVENT
BEGIN:VEVENT
DTSTART;TZID=America/Chicago:20251023T130000
DTEND;TZID=America/Chicago:20251023T140000
DTSTAMP:20260420T110446
CREATED:20250925T134841Z
LAST-MODIFIED:20251023T204924Z
UID:72402-1761224400-1761228000@scottsdaleinstitute.org
SUMMARY:WEBINAR | Navigating the Perfect Storm: Strategic Preparedness for Behavioral Health's Unprecedented Crisis
DESCRIPTION:Dawn Zieger\, MPH\, Vice President of Psychiatry and Behavioral Health\, Geisinger; Tom Milam\, MD\, MDiv\, Chief Medical Officer; and Andy Flanagan\, CEO\, Iris Telehealth. Healthcare lea [...]
URL:https://scottsdaleinstitute.org/event/webinar-navigating-the-perfect-storm-strategic-preparedness-for-behavioral-healths-unprecedented-crisis/
END:VEVENT
BEGIN:VEVENT
DTSTART;TZID=America/Chicago:20251022T130000
DTEND;TZID=America/Chicago:20251022T140000
DTSTAMP:20260420T110446
CREATED:20250923T153730Z
LAST-MODIFIED:20251022T194244Z
UID:72353-1761138000-1761141600@scottsdaleinstitute.org
SUMMARY:WEBINAR | Using Evidence-Based Practice and Performance Improvement Science to Improve Clinical Outcomes
DESCRIPTION:Tracey Davidson\, DNP\, RN\, CPHQ\, LSSBB\, Performance Improvement Specialist; and David Stepansky\, MD\, Clinical Solutions Strategist\, Zynx Health. Healthcare organizations continue to [...]
URL:https://scottsdaleinstitute.org/event/webinar-using-evidence-based-practice-and-performance-improvement-science-to-improve-clinical-outcomes/
END:VEVENT
BEGIN:VEVENT
DTSTART;VALUE=DATE:20251021
DTEND;VALUE=DATE:20251023
DTSTAMP:20260420T110446
CREATED:20250616T205645Z
LAST-MODIFIED:20260414T232654Z
UID:71258-1761004800-1761177599@scottsdaleinstitute.org
SUMMARY:SUMMIT | 2025 Population Health\, Access and Primary Care Innovation
DESCRIPTION:Enabling Access and Improved Outcomes: The Primary Care Gateway\n\nOctober 21-22\, 2025\nSI Population Health\, Access and Primary Care Innovation Summit and Site Visit\nHosted by OneHealt [...]
URL:https://scottsdaleinstitute.org/event/summit-2025-population-health-access-and-primary-care-innovation/
ATTACH;FMTTYPE=image/jpeg:https://scottsdaleinstitute.org/wp-content/uploads/2025/06/he.jpg
END:VEVENT
BEGIN:VEVENT
DTSTART;TZID=America/Chicago:20251016T150000
DTEND;TZID=America/Chicago:20251016T160000
DTSTAMP:20260420T110446
CREATED:20250113T203450Z
LAST-MODIFIED:20260416T163427Z
UID:69517-1760626800-1760630400@scottsdaleinstitute.org
SUMMARY:POP-UP DIALOGUE | CISO | "Health Industry Cybersecurity Sector Mapping and Risk Toolkit (SMART)"
DESCRIPTION:Samantha Jacques\, PhD\, FACHE\, AAMIF\, Vice Chair of the Health Sector Coordinating Council Cybersecurity Working Group and Co-Lead of the SMART Task Group & VP\, McLaren Clinical Engine [...]
URL:https://scottsdaleinstitute.org/event/dialogue-ciso-health-industry-cybersecurity-sector-mapping-and-risk-toolkit-smart/
END:VEVENT
BEGIN:VEVENT
DTSTART;TZID=America/Chicago:20251016T130000
DTEND;TZID=America/Chicago:20251016T140000
DTSTAMP:20260420T110446
CREATED:20250915T163504Z
LAST-MODIFIED:20251016T193920Z
UID:72264-1760619600-1760623200@scottsdaleinstitute.org
SUMMARY:WEBINAR | Scaling Ambient AI Across the Enterprise at Wellstar Health
DESCRIPTION:Georgia Forrest\, MD\, MBA\, CPE\, Associate CMIO; and Brooke Pellegrino\, PhD\, MBA\, CMPE\, Director of Operations\, Wellstar Health present how they scaled DAX Copilot from a 31-clinica [...]
URL:https://scottsdaleinstitute.org/event/webinar-scaling-ambient-ai-across-the-enterprise-at-wellstar-health/
END:VEVENT
BEGIN:VEVENT
DTSTART;TZID=America/Chicago:20251015T130000
DTEND;TZID=America/Chicago:20251015T140000
DTSTAMP:20260420T110446
CREATED:20250828T000125Z
LAST-MODIFIED:20251015T192305Z
UID:71946-1760533200-1760536800@scottsdaleinstitute.org
SUMMARY:WEBINAR | AI as an Enterprise Capability Rather Than a Passing Trend
DESCRIPTION:Liam Bouchier\, Managing Director\, Data & AI; and Andrew Jung\, Director\, Impact Advisors. AI fatigue is mounting and talk of an AI bubble is growing—but disciplined programs are still [...]
URL:https://scottsdaleinstitute.org/event/webinar-ai-as-an-enterprise-capability-rather-than-a-passing-trend/
END:VEVENT
BEGIN:VEVENT
DTSTART;TZID=America/Chicago:20251014T130000
DTEND;TZID=America/Chicago:20251014T140000
DTSTAMP:20260420T110446
CREATED:20250903T160943Z
LAST-MODIFIED:20260323T170942Z
UID:72029-1760446800-1760450400@scottsdaleinstitute.org
SUMMARY:WEBINAR | Designing an AI-ready Health System: Platforms\, People\, and Processes
DESCRIPTION:Josh Glandorf\, CIO\, UC San Diego Health; Karandeep Singh\, MD\, MMSc\, Associate Professor of Medicine in Biomedical Informatics\, Chief Health AI Officer and Associate CMIO for Inpatien [...]
URL:https://scottsdaleinstitute.org/event/webinar-designing-an-ai-ready-health-system-platforms-people-and-processes/
END:VEVENT
BEGIN:VEVENT
DTSTART;TZID=America/Chicago:20251009T080000
DTEND;TZID=America/Chicago:20251010T150000
DTSTAMP:20260420T110446
CREATED:20250715T152608Z
LAST-MODIFIED:20260414T213425Z
UID:71456-1759996800-1760108400@scottsdaleinstitute.org
SUMMARY:SUMMIT |  2025 Innovation - Think Big\, Start Small\, Move Fast
DESCRIPTION:Think Big\, Start Small\, Move Fast\n\nOctober 9 – 10\, 2025\nSI Innovation Summit and Site Visit\nHosted by Houston Methodist\, Houston\, TX \nCo-Sponsored by Deloitte and Ambience \n [...]
URL:https://scottsdaleinstitute.org/event/summit-2025-innovation-think-big-start-small-move-fast/
ATTACH;FMTTYPE=image/jpeg:https://scottsdaleinstitute.org/wp-content/uploads/2025/07/innovation.jpg
END:VEVENT
BEGIN:VEVENT
DTSTART;TZID=America/Chicago:20251008T130000
DTEND;TZID=America/Chicago:20251008T140000
DTSTAMP:20260420T110446
CREATED:20250915T173011Z
LAST-MODIFIED:20260323T170943Z
UID:72270-1759928400-1759932000@scottsdaleinstitute.org
SUMMARY:WEBINAR | Innovative Technology is Transforming Musculoskeletal Care and Team Member Wellness at Northwell Health
DESCRIPTION:Join us as Northwell Health shares how they are redefining musculoskeletal health in the workforce through an innovative digital platform.\nThis strategic conversation will feature Gregg N [...]
URL:https://scottsdaleinstitute.org/event/webinar-innovative-technology-is-transforming-musculoskeletal-care-and-team-member-wellness-at-northwell-health/
END:VEVENT
BEGIN:VEVENT
DTSTART;TZID=America/Chicago:20251007T130000
DTEND;TZID=America/Chicago:20251007T140000
DTSTAMP:20260420T110446
CREATED:20250815T173053Z
LAST-MODIFIED:20260323T170943Z
UID:71871-1759842000-1759845600@scottsdaleinstitute.org
SUMMARY:FIRESIDE CHAT | Generations in Practice: Generative AI to Accelerate Clinical Decision-Making
DESCRIPTION:Jennifer Goldman\, DO\, MBA\, FAAFP\, VP\, Chief Medical Information Officer\, and Chief of Primary Care\, Memorial Healthcare System; Charles Frazier\, MD\, FAAFP\, Senior Vice President  [...]
URL:https://scottsdaleinstitute.org/event/fireside-chat-generations-in-practice-generative-ai-to-accelerate-clinical-decision-making/
END:VEVENT
BEGIN:VEVENT
DTSTART;TZID=America/Chicago:20250930T130000
DTEND;TZID=America/Chicago:20250930T140000
DTSTAMP:20260420T110446
CREATED:20250722T135822Z
LAST-MODIFIED:20260323T170944Z
UID:71540-1759237200-1759240800@scottsdaleinstitute.org
SUMMARY:WEBINAR | Reclaiming Nurses’ Time: A Blueprint for Nurse EHR Optimization
DESCRIPTION:Wooster Community Hospital (WCH)\, an independent\, non-profit health system in Ohio\, transformed their recent KLAS Arch Collaborative survey results into a significant growth opportunity [...]
URL:https://scottsdaleinstitute.org/event/webinar-reclaiming-nurses-time-a-blueprint-for-nurse-ehr-optimization/
END:VEVENT
BEGIN:VEVENT
DTSTART;TZID=America/Chicago:20250925T130000
DTEND;TZID=America/Chicago:20250925T140000
DTSTAMP:20260420T110446
CREATED:20250909T151943Z
LAST-MODIFIED:20250925T194412Z
UID:72061-1758805200-1758808800@scottsdaleinstitute.org
SUMMARY:WEBINAR | Adoption\, Scale\, and Impact of AI: Insights from Leading Academic Medical Centers
DESCRIPTION:Heather O’Donnell\, MD\, ACMIO\, Boston Children’s Hospital\, Chris Harper\, SVP and CIO and Sr Associate Vice Chancellor AI\, The University of Kansas Health System and University of  [...]
URL:https://scottsdaleinstitute.org/event/webinar-adoption-scale-and-impact-of-ai-insights-from-leading-academic-medical-centers/
END:VEVENT
BEGIN:VEVENT
DTSTART;TZID=America/Chicago:20250917T130000
DTEND;TZID=America/Chicago:20250917T140000
DTSTAMP:20260420T110446
CREATED:20250902T183645Z
LAST-MODIFIED:20250922T163736Z
UID:71985-1758114000-1758117600@scottsdaleinstitute.org
SUMMARY:WEBINAR | Beyond the Digital Front Door How MUSC Transformed Patient Acquisition Through Bold Design and Risk-Taking
DESCRIPTION:Matt Blosl\, Chief Executive Officer\, DexCare Health. Health systems often talk about their “digital front door\,” but too often\, the experience patients find there is confusing\, tr [...]
URL:https://scottsdaleinstitute.org/event/webinar-beyond-the-digital-front-door-how-musc-transformed-patient-acquisition-through-bold-design-and-risk-taking/
END:VEVENT
BEGIN:VEVENT
DTSTART;TZID=America/Chicago:20250916T130000
DTEND;TZID=America/Chicago:20250916T140000
DTSTAMP:20260420T110446
CREATED:20250820T145102Z
LAST-MODIFIED:20251203T015505Z
UID:71883-1758027600-1758031200@scottsdaleinstitute.org
SUMMARY:FIRESIDE CHAT | The AI Decision-Makers: Assembling the Right Stakeholders to Drive Clinical AI Transformation
DESCRIPTION:Neal Patel\, MD\, CIO\, Vanderbilt University Medical Center; Barry Stein\, MD\, MBA\, FSIR\, FACR\, RPVI\, Chief Clinical Innovation Officer and Chief Medical Informatics Officer\, Hartfo [...]
URL:https://scottsdaleinstitute.org/event/71883/
END:VEVENT
BEGIN:VEVENT
DTSTART;TZID=America/Chicago:20250904T130000
DTEND;TZID=America/Chicago:20250904T140000
DTSTAMP:20260420T110446
CREATED:20250725T145216Z
LAST-MODIFIED:20260323T170944Z
UID:71579-1756990800-1756994400@scottsdaleinstitute.org
SUMMARY:WEBINAR | Navigating Federal Policy Uncertainty: Tech-Enabled Strategies for Health-System Resilience & Growth
DESCRIPTION:Dan Czech\, Vice President of Insights; and Emily Paxman\, SVP & Managing Director\, Consulting\, KLAS Research. Federal policy turbulence—from reimbursement shifts and tariff pressures  [...]
URL:https://scottsdaleinstitute.org/event/webinar-navigating-federal-policy-uncertainty-tech-enabled-strategies-for-health-system-resilience-growth/
END:VEVENT
BEGIN:VEVENT
DTSTART;TZID=America/Chicago:20250828T150000
DTEND;TZID=America/Chicago:20250828T160000
DTSTAMP:20260420T110446
CREATED:20250113T202204Z
LAST-MODIFIED:20260416T163510Z
UID:69505-1756393200-1756396800@scottsdaleinstitute.org
SUMMARY:Pop-Up DIALOGUE | Population Health\, Care\, and Access | "Navigating the Future Through the Power of Partnerships"
DESCRIPTION:Sherry Norquist\, MSN-RN\, Executive Director\, Community Engagement & Impact\, Sentara Health\nSurviving the Big Beautiful Bill Is Possible\, But It Won’t be Easy\nRecent events have ca [...]
URL:https://scottsdaleinstitute.org/event/dialogue-navigating-the-future-through-the-power-of-partnerships/
END:VEVENT
BEGIN:VEVENT
DTSTART;TZID=America/Chicago:20250828T130000
DTEND;TZID=America/Chicago:20250828T140000
DTSTAMP:20260420T110446
CREATED:20250725T142509Z
LAST-MODIFIED:20250828T202345Z
UID:71569-1756386000-1756389600@scottsdaleinstitute.org
SUMMARY:WEBINAR | The Future Landscape of Healthcare Human Resources
DESCRIPTION:Join Korn Ferry Senior Client Partners\, Andrew Giger\, and Anne Callen\, along with Associate Principal\, Marisa Licari as they present this timely update on critical HR issues facing h [...]
URL:https://scottsdaleinstitute.org/event/webinar-the-future-landscape-of-healthcare-human-resources/
END:VEVENT
BEGIN:VEVENT
DTSTART;TZID=America/Chicago:20250827T130000
DTEND;TZID=America/Chicago:20250827T140000
DTSTAMP:20260420T110446
CREATED:20250708T165350Z
LAST-MODIFIED:20250827T204641Z
UID:71381-1756299600-1756303200@scottsdaleinstitute.org
SUMMARY:WEBINAR | Preserving Critical Functions and Services Amid Disruptions: How to Set up a Business Continuity Management Program
DESCRIPTION:Hospitals are becoming increasingly complex and dependent on technology\, while the threat landscape – cyberattacks\, natural disasters\, and IT outages – expands.  Experiencing disru [...]
URL:https://scottsdaleinstitute.org/event/webinar-preserving-critical-functions-and-services-amid-disruptions-how-to-set-up-a-business-continuity-management-program/
END:VEVENT
BEGIN:VEVENT
DTSTART;TZID=America/Chicago:20250826T130000
DTEND;TZID=America/Chicago:20250826T140000
DTSTAMP:20260420T110446
CREATED:20250804T173855Z
LAST-MODIFIED:20250826T201953Z
UID:71771-1756213200-1756216800@scottsdaleinstitute.org
SUMMARY:WEBINAR | Unburdening Nurses at Baptist Health South Florida: AI Fall Risk Automation
DESCRIPTION:Jean Putnam DNP\, MS\, RN\, CPHQ\, NEA-BC\, System Chief Nurse Executive; Eileen Pedraza\, Lead Technology and Digital Applied ML Engineer; Jeremiah Kayiza\, Manager Technology and Digital [...]
URL:https://scottsdaleinstitute.org/event/webinar-unburdening-nurses-at-baptist-health-south-florida-ai-fall-risk-automation/
END:VEVENT
BEGIN:VEVENT
DTSTART;TZID=America/Chicago:20250821T130000
DTEND;TZID=America/Chicago:20250821T140000
DTSTAMP:20260420T110446
CREATED:20250602T140841Z
LAST-MODIFIED:20260323T170944Z
UID:71166-1755781200-1755784800@scottsdaleinstitute.org
SUMMARY:WEBINAR | Lead the Evolution of Pharmacy: Building a Critical Pillar in Modern Healthcare Systems
DESCRIPTION:Jordan Dow\, PharmD\, MS\, FASHP\, FACHE\, Vice President & Chief Pharmacy Officer\, Froedtert & Medical College of Wisconsin; and Staci A. Hermann\, PharmD\, MS\, FASHP\, FACHE\, Vice Pre [...]
URL:https://scottsdaleinstitute.org/event/webinar-lead-the-evolution-of-pharmacy-building-a-critical-pillar-in-modern-healthcare-systems/
END:VEVENT
BEGIN:VEVENT
DTSTART;TZID=America/Chicago:20250805T130000
DTEND;TZID=America/Chicago:20250805T140000
DTSTAMP:20260420T110446
CREATED:20250711T135701Z
LAST-MODIFIED:20260323T170945Z
UID:71397-1754398800-1754402400@scottsdaleinstitute.org
SUMMARY:WEBINAR | Care Seeking\, CAHPS Readiness and Community Trust and Engagement
DESCRIPTION:Join this webinar for a look at recent patient experience trends identified through data from 10.5M patient encounters\, summarized in Press Ganey’s Patient Experience in 2025 report. Th [...]
URL:https://scottsdaleinstitute.org/event/webinar-state-of-patient-experience-2025-cahps-readiness-starts-here/
END:VEVENT
END:VCALENDAR