BEGIN:VCALENDAR
VERSION:2.0
PRODID:-//Scottsdale Institute - ECPv6.8.0//NONSGML v1.0//EN
CALSCALE:GREGORIAN
METHOD:PUBLISH
X-WR-CALNAME:Scottsdale Institute
X-ORIGINAL-URL:https://scottsdaleinstitute.org
X-WR-CALDESC:Events for Scottsdale Institute
REFRESH-INTERVAL;VALUE=DURATION:PT1H
X-Robots-Tag:noindex
X-PUBLISHED-TTL:PT1H
BEGIN:VTIMEZONE
TZID:America/Chicago
BEGIN:DAYLIGHT
TZOFFSETFROM:-0600
TZOFFSETTO:-0500
TZNAME:CDT
DTSTART:20190310T080000
END:DAYLIGHT
BEGIN:STANDARD
TZOFFSETFROM:-0500
TZOFFSETTO:-0600
TZNAME:CST
DTSTART:20191103T070000
END:STANDARD
BEGIN:DAYLIGHT
TZOFFSETFROM:-0600
TZOFFSETTO:-0500
TZNAME:CDT
DTSTART:20200308T080000
END:DAYLIGHT
BEGIN:STANDARD
TZOFFSETFROM:-0500
TZOFFSETTO:-0600
TZNAME:CST
DTSTART:20201101T070000
END:STANDARD
END:VTIMEZONE
BEGIN:VEVENT
DTSTART;TZID=America/Chicago:20200407T100000
DTEND;TZID=America/Chicago:20200407T110000
DTSTAMP:20260425T194042
CREATED:20200331T153441Z
LAST-MODIFIED:20220104T225727Z
UID:35335-1586253600-1586257200@scottsdaleinstitute.org
SUMMARY:Immediate Guidance for Care Teams in Documenting and Coding COVID-19
DESCRIPTION:Robin Friday RN\, MHA\, CCS\, CCDS\, CDIP\, AHIMA-Approved CDI Trainer\nReid Conant MD\, FACEP\nJared Pelo MD\, FACEP\nReid Conant\, MD\, FACEP\, CMIO\, Jared Pelo\, MD\, FACEP\, CMIO\, an [...]
URL:https://scottsdaleinstitute.org/event/immediate-guidance-for-care-teams-in-documenting-and-coding-covid-19/
END:VEVENT
BEGIN:VEVENT
DTSTART;TZID=America/Chicago:20200401T150000
DTEND;TZID=America/Chicago:20200401T160000
DTSTAMP:20260425T194042
CREATED:20200326T212958Z
LAST-MODIFIED:20230404T000021Z
UID:35255-1585753200-1585756800@scottsdaleinstitute.org
SUMMARY:Intermountain Leveraging Analytics to Inform Capacity Management During COVID-19 Outbreak
DESCRIPTION:Albert Marinez\, Chief Analytics Officer\, Amy Christensen\, MSN\, RN\, NE-BC\, FACHE\, VP & CNO Specialty Based Care\, Seraphine Kapsandoy\, PhD\, RN\, Chief Clinical Information Officer\ [...]
URL:https://scottsdaleinstitute.org/event/intermountain-informatics-and-capacity-management-for-covid-19/
END:VEVENT
BEGIN:VEVENT
DTSTART;TZID=America/Chicago:20200331T130000
DTEND;TZID=America/Chicago:20200331T140000
DTSTAMP:20260425T194042
CREATED:20200326T213000Z
LAST-MODIFIED:20260104T165509Z
UID:35253-1585659600-1585663200@scottsdaleinstitute.org
SUMMARY:Mobilizing Workstreams from Surge Capacity to Supply Chains in Response to COVID-19
DESCRIPTION:Cheryl Hertel\, MBA\, RN-BC\, FACHE\, CHCIO\, VP & CIO\, CoxHealth\, John W. McLendon\, CPHIMS\, MBA\, VP & CIO\, Circle Health\, and Dick Flanigan\, MBA\, FACHE\, SVP Cerner. Cheryl\, Jo [...]
URL:https://scottsdaleinstitute.org/event/mobilizing-workstreams-from-surge-capacity-to-supply-chains-in-response-to-covid-19/
END:VEVENT
BEGIN:VEVENT
DTSTART;TZID=America/Chicago:20200319T143000
DTEND;TZID=America/Chicago:20200319T153000
DTSTAMP:20260425T194042
CREATED:20210915T174059Z
LAST-MODIFIED:20220214T224951Z
UID:47647-1584628200-1584631800@scottsdaleinstitute.org
SUMMARY:SI CNIO Dialogue - Mar 19 2020
DESCRIPTION:This is an invitation-only event.  For more information\, fill out the form\, below.\n\n\n \n\n\n\n\n Name (required)\n \n\nEmail (required):\n \n\nTitle (required):\n \n\n>> Please indic [...]
URL:https://scottsdaleinstitute.org/event/si-cnio-dialogue-mar-19-2020/
END:VEVENT
BEGIN:VEVENT
DTSTART;TZID=America/Chicago:20200312T143000
DTEND;TZID=America/Chicago:20200312T153000
DTSTAMP:20260425T194042
CREATED:20210915T174151Z
LAST-MODIFIED:20210915T174151Z
UID:47648-1584023400-1584027000@scottsdaleinstitute.org
SUMMARY:SI CISO Dialogue - Mar 12 2020
DESCRIPTION:This is an invitation-only event.  For more information\, fill out the form\, below.\n\n\n \n\n\n\n\n Name (required)\n \n\nEmail (required):\n \n\nTitle (required):\n \n\n>> Please indic [...]
URL:https://scottsdaleinstitute.org/event/si-ciso-dialogue-mar-12-2020/
END:VEVENT
BEGIN:VEVENT
DTSTART;TZID=America/Chicago:20200227T143000
DTEND;TZID=America/Chicago:20200227T153000
DTSTAMP:20260425T194042
CREATED:20210915T174229Z
LAST-MODIFIED:20230404T000203Z
UID:47649-1582813800-1582817400@scottsdaleinstitute.org
SUMMARY:SI CIO Dialogue - Feb 27 2020
DESCRIPTION:This is an invitation-only event.  For more information\, fill out the form\, below.\n\n\n \n\n\n\n\n Name (required)\n \n\nEmail (required):\n \n\nTitle (required):\n \n\n>> Please indic [...]
URL:https://scottsdaleinstitute.org/event/si-cio-dialogue-feb-27-2020/
END:VEVENT
BEGIN:VEVENT
DTSTART;TZID=America/Chicago:20200213T130000
DTEND;TZID=America/Chicago:20200213T140000
DTSTAMP:20260425T194042
CREATED:20191230T182350Z
LAST-MODIFIED:20250319T193736Z
UID:34120-1581598800-1581602400@scottsdaleinstitute.org
SUMMARY:Utilizing SaaS ERPs at Advocate Aurora
DESCRIPTION:Amy Olson\nLydon Neumann\nAmy Olson\, VP for ERP & Corporate Applications\, Health Informatics and Technology\, Advocate Aurora Health System\, and Lydon Neumann\, VP\, Impact Advisors.   [...]
URL:https://scottsdaleinstitute.org/event/utilizing-saas-erps-at-advocate-aurora/
END:VEVENT
BEGIN:VEVENT
DTSTART;TZID=America/Chicago:20200130T143000
DTEND;TZID=America/Chicago:20200130T153000
DTSTAMP:20260425T194042
CREATED:20210915T175140Z
LAST-MODIFIED:20210915T175140Z
UID:47670-1580394600-1580398200@scottsdaleinstitute.org
SUMMARY:SI CISO Dialogue - Jan 30 2020
DESCRIPTION:This is an invitation-only event.  For more information\, fill out the form\, below.\n\n\n \n\n\n\n\n Name (required)\n \n\nEmail (required):\n \n\nTitle (required):\n \n\n>> Please indic [...]
URL:https://scottsdaleinstitute.org/event/si-ciso-dialogue-jan-30-2020/
END:VEVENT
BEGIN:VEVENT
DTSTART;TZID=America/Chicago:20200130T130000
DTEND;TZID=America/Chicago:20200130T140000
DTSTAMP:20260425T194042
CREATED:20191202T193338Z
LAST-MODIFIED:20250319T193736Z
UID:33614-1580389200-1580392800@scottsdaleinstitute.org
SUMMARY:Intermountain at Home and Virtual Care
DESCRIPTION:Joel Macey\, Executive Director Intermountain Homecare\, and Nick Bassett\, VP Population Health Services\, Intermountain Healthcare.  As more health systems transition to value-based car [...]
URL:https://scottsdaleinstitute.org/event/intermountain-at-home-and-virtual-care/
END:VEVENT
BEGIN:VEVENT
DTSTART;TZID=America/Chicago:20200121T143000
DTEND;TZID=America/Chicago:20200121T153000
DTSTAMP:20260425T194042
CREATED:20210915T175232Z
LAST-MODIFIED:20230404T000021Z
UID:47664-1579617000-1579620600@scottsdaleinstitute.org
SUMMARY:SI Analytics Dialogue - Jan 21 2020
DESCRIPTION:This is an invitation-only event.  For more information\, fill out the form\, below.\n\n\n \n\n\n\n\n Name (required)\n \n\nEmail (required):\n \n\nTitle (required):\n \n\n>> Please indic [...]
URL:https://scottsdaleinstitute.org/event/si-analytics-dialogue-jan-21-2020/
END:VEVENT
BEGIN:VEVENT
DTSTART;TZID=America/Chicago:20200115T130000
DTEND;TZID=America/Chicago:20200115T140000
DTSTAMP:20260425T194042
CREATED:20191202T193352Z
LAST-MODIFIED:20251120T173232Z
UID:33611-1579093200-1579096800@scottsdaleinstitute.org
SUMMARY:Cyber Student Staffing Boosts Productivity at Sentara\, Part II
DESCRIPTION:Daniel Bowden\, VP & CISO\, Sentara Healthcare.  Dan discusses some of the very positive impact that the student staffing program has had. Sentara’s cybersecurity program has made major [...]
URL:https://scottsdaleinstitute.org/event/cyber-student-staffing-boosts-productivity-at-sentara-part-ii/
END:VEVENT
BEGIN:VEVENT
DTSTART;TZID=America/Chicago:20191212T143000
DTEND;TZID=America/Chicago:20191212T153000
DTSTAMP:20260425T194042
CREATED:20210915T175340Z
LAST-MODIFIED:20230404T001626Z
UID:47665-1576161000-1576164600@scottsdaleinstitute.org
SUMMARY:SI Innovation Dialogue - Dec 12 2019
DESCRIPTION:This is an invitation-only event.  For more information\, fill out the form\, below.\n\n\n \n\n\n\n\n Name (required)\n \n\nEmail (required):\n \n\nTitle (required):\n \n\n>> Please indic [...]
URL:https://scottsdaleinstitute.org/event/si-innovation-dialogue-dec-12-2019/
END:VEVENT
BEGIN:VEVENT
DTSTART;TZID=America/Chicago:20191212T130000
DTEND;TZID=America/Chicago:20191212T140000
DTSTAMP:20260425T194042
CREATED:20191101T181912Z
LAST-MODIFIED:20250319T193736Z
UID:32919-1576155600-1576159200@scottsdaleinstitute.org
SUMMARY:IV Automation + Cloud Technology = Increased Patient Safety
DESCRIPTION:Jeff Brittain PharmD\, BCPS\nMark Neuenschwander\nJeff Brittain\, PharmD\, BCPS\, Director Pharmacy Support Services\, MUSC Health\, and Mark Neuenschwander\, Founding Director\, THRIV.   [...]
URL:https://scottsdaleinstitute.org/event/iv-automation-cloud-technology-increased-patient-safety/
END:VEVENT
BEGIN:VEVENT
DTSTART;TZID=America/Chicago:20191211T143000
DTEND;TZID=America/Chicago:20191211T153000
DTSTAMP:20260425T194042
CREATED:20210915T175443Z
LAST-MODIFIED:20220214T225005Z
UID:47666-1576074600-1576078200@scottsdaleinstitute.org
SUMMARY:SI CNIO Dialogue - Dec 11 2019
DESCRIPTION:This is an invitation-only event.  For more information\, fill out the form\, below.\n\n\n \n\n\n\n\n Name (required)\n \n\nEmail (required):\n \n\nTitle (required):\n \n\n>> Please indic [...]
URL:https://scottsdaleinstitute.org/event/si-cnio-dialogue-dec-11-2019/
END:VEVENT
BEGIN:VEVENT
DTSTART;TZID=America/Chicago:20191211T130000
DTEND;TZID=America/Chicago:20191211T140000
DTSTAMP:20260425T194042
CREATED:20191101T150753Z
LAST-MODIFIED:20250319T193736Z
UID:32901-1576069200-1576072800@scottsdaleinstitute.org
SUMMARY:Behavioral Components of Shared Decision Making at Sentara
DESCRIPTION:Jordan Asher MD\nJordan Asher\, MD\, MS\, SVP and Chief Physician Executive\, Sentara Healthcare. Patient engagement through shared decision-making between providers and consumers of healt [...]
URL:https://scottsdaleinstitute.org/event/behavioral-components-of-shared-decision-making-at-sentara/
END:VEVENT
BEGIN:VEVENT
DTSTART;TZID=America/Chicago:20191205T143000
DTEND;TZID=America/Chicago:20191205T153000
DTSTAMP:20260425T194042
CREATED:20210915T175526Z
LAST-MODIFIED:20210915T175526Z
UID:47667-1575556200-1575559800@scottsdaleinstitute.org
SUMMARY:SI CISO Dialogue - Dec 5 2019
DESCRIPTION:This is an invitation-only event.  For more information\, fill out the form\, below.\n\n\n \n\n\n\n\n Name (required)\n \n\nEmail (required):\n \n\nTitle (required):\n \n\n>> Please indic [...]
URL:https://scottsdaleinstitute.org/event/si-ciso-dialogue-dec-5-2019/
END:VEVENT
BEGIN:VEVENT
DTSTART;TZID=America/Chicago:20191205T130000
DTEND;TZID=America/Chicago:20191205T140000
DTSTAMP:20260425T194042
CREATED:20191101T150741Z
LAST-MODIFIED:20250402T195402Z
UID:32900-1575550800-1575554400@scottsdaleinstitute.org
SUMMARY:Artificial Intelligence in Obstetrics: New Models to Prevent Poor Outcomes
DESCRIPTION:Matthew Hoffman\, MD\, Marie E. Pinizotto Endowed Chair in Obstetrics & Gynecology\, Christiana Care Health System\, and Andrew Roberts\, PhD\, Data Scientist\, Cerner. Drs. Hoffman and Ro [...]
URL:https://scottsdaleinstitute.org/event/artificial-intelligence-in-obstetrics-new-models-to-prevent-poor-outcomes/
END:VEVENT
BEGIN:VEVENT
DTSTART;TZID=America/Chicago:20191114T130000
DTEND;TZID=America/Chicago:20191114T140000
DTSTAMP:20260425T194042
CREATED:20190930T215850Z
LAST-MODIFIED:20220104T231705Z
UID:32475-1573736400-1573740000@scottsdaleinstitute.org
SUMMARY:DevSecOps at Spectrum
DESCRIPTION:Sean Henkel\nSean Henkel\, Director IS\, and Barry D. Nowak\, Senior Domain Architect\, Spectrum Health.  In this discussion Barry and Sean share Spectrum Health’s 4-year DevSecOps jour [...]
URL:https://scottsdaleinstitute.org/event/devsecops-at-spectrum/
END:VEVENT
BEGIN:VEVENT
DTSTART;TZID=America/Chicago:20191107T143000
DTEND;TZID=America/Chicago:20191107T153000
DTSTAMP:20260425T194042
CREATED:20210915T175608Z
LAST-MODIFIED:20230404T000204Z
UID:47668-1573137000-1573140600@scottsdaleinstitute.org
SUMMARY:SI CIO Dialogue - Nov 7 2019
DESCRIPTION:This is an invitation-only event.  For more information\, fill out the form\, below.\n\n\n \n\n\n\n\n Name (required)\n \n\nEmail (required):\n \n\nTitle (required):\n \n\n>> Please indic [...]
URL:https://scottsdaleinstitute.org/event/si-cio-dialogue-nov-7-2019/
END:VEVENT
BEGIN:VEVENT
DTSTART;TZID=America/Chicago:20190606T130000
DTEND;TZID=America/Chicago:20190606T140000
DTSTAMP:20260425T194042
CREATED:20190429T222628Z
LAST-MODIFIED:20260104T165627Z
UID:30573-1559826000-1559829600@scottsdaleinstitute.org
SUMMARY:GDPR: So You Think it Doesn’t Apply?
DESCRIPTION:Scott Dresen\, FACHE\, FHIMSS\, CISSP\, CISM\, Senior VP & CTO/CISO\, Leah Voigt\, JD\, MPH\, Chief Privacy & Research Integrity Officer\, Spectrum Health System\, Christy Wheaton\, Chief  [...]
URL:https://scottsdaleinstitute.org/event/gdpr-so-you-think-it-doesnt-apply/
END:VEVENT
END:VCALENDAR