BEGIN:VCALENDAR
VERSION:2.0
PRODID:-//Scottsdale Institute - ECPv6.8.0//NONSGML v1.0//EN
CALSCALE:GREGORIAN
METHOD:PUBLISH
X-ORIGINAL-URL:https://scottsdaleinstitute.org
X-WR-CALDESC:Events for Scottsdale Institute
REFRESH-INTERVAL;VALUE=DURATION:PT1H
X-Robots-Tag:noindex
X-PUBLISHED-TTL:PT1H
BEGIN:VTIMEZONE
TZID:America/Chicago
BEGIN:DAYLIGHT
TZOFFSETFROM:-0600
TZOFFSETTO:-0500
TZNAME:CDT
DTSTART:20240310T080000
END:DAYLIGHT
BEGIN:STANDARD
TZOFFSETFROM:-0500
TZOFFSETTO:-0600
TZNAME:CST
DTSTART:20241103T070000
END:STANDARD
END:VTIMEZONE
BEGIN:VEVENT
DTSTART;TZID=America/Chicago:20241016T130000
DTEND;TZID=America/Chicago:20241016T140000
DTSTAMP:20260421T055007
CREATED:20240925T142911Z
LAST-MODIFIED:20250402T195356Z
UID:68405-1729083600-1729087200@scottsdaleinstitute.org
SUMMARY:WEBINAR | The DiMe Seal: A Symbol of Quality and Trust for Health Systems to Evaluate Digital Health Software Products
DESCRIPTION:In a rapidly evolving digital health landscape\, identifying high-quality\, trustworthy software products to support your patients\, your own operations\, and advance your digital strategi [...]
URL:https://scottsdaleinstitute.org/event/webinar-the-dime-seal-a-symbol-of-quality-and-trust-for-health-systems-to-evaluate-digital-health-software-products/
END:VEVENT
END:VCALENDAR