BEGIN:VCALENDAR
VERSION:2.0
PRODID:-//Scottsdale Institute - ECPv6.8.0//NONSGML v1.0//EN
CALSCALE:GREGORIAN
METHOD:PUBLISH
X-WR-CALNAME:Scottsdale Institute
X-ORIGINAL-URL:https://scottsdaleinstitute.org
X-WR-CALDESC:Events for Scottsdale Institute
REFRESH-INTERVAL;VALUE=DURATION:PT1H
X-Robots-Tag:noindex
X-PUBLISHED-TTL:PT1H
BEGIN:VTIMEZONE
TZID:America/Chicago
BEGIN:DAYLIGHT
TZOFFSETFROM:-0600
TZOFFSETTO:-0500
TZNAME:CDT
DTSTART:20230312T080000
END:DAYLIGHT
BEGIN:STANDARD
TZOFFSETFROM:-0500
TZOFFSETTO:-0600
TZNAME:CST
DTSTART:20231105T070000
END:STANDARD
END:VTIMEZONE
BEGIN:VEVENT
DTSTART;TZID=America/Chicago:20230627T130000
DTEND;TZID=America/Chicago:20230627T140000
DTSTAMP:20260425T211129
CREATED:20230531T184503Z
LAST-MODIFIED:20250319T193733Z
UID:61912-1687870800-1687874400@scottsdaleinstitute.org
SUMMARY:WEBINAR | Suicide Safer Care: An Organizational Approach
DESCRIPTION:Virna Little\, PsyD\, LCSW-r\, SAP\, CCM\, Co-Founder\, Chief Clinical Officer\, Concert Health. This webinar focuses on a complete organizational approach to suicide safer care; a compreh [...]
URL:https://scottsdaleinstitute.org/event/webinar-suicide-safer-care-an-organizational-approach/
END:VEVENT
END:VCALENDAR