BEGIN:VCALENDAR
VERSION:2.0
PRODID:-//Scottsdale Institute - ECPv6.8.0//NONSGML v1.0//EN
CALSCALE:GREGORIAN
METHOD:PUBLISH
X-ORIGINAL-URL:https://scottsdaleinstitute.org
X-WR-CALDESC:Events for Scottsdale Institute
REFRESH-INTERVAL;VALUE=DURATION:PT1H
X-Robots-Tag:noindex
X-PUBLISHED-TTL:PT1H
BEGIN:VTIMEZONE
TZID:America/Chicago
BEGIN:DAYLIGHT
TZOFFSETFROM:-0600
TZOFFSETTO:-0500
TZNAME:CDT
DTSTART:20230312T080000
END:DAYLIGHT
BEGIN:STANDARD
TZOFFSETFROM:-0500
TZOFFSETTO:-0600
TZNAME:CST
DTSTART:20231105T070000
END:STANDARD
END:VTIMEZONE
BEGIN:VEVENT
DTSTART;TZID=America/Chicago:20230719T100000
DTEND;TZID=America/Chicago:20230720T160000
DTSTAMP:20260425T211207
CREATED:20230516T201639Z
LAST-MODIFIED:20260415T203759Z
UID:61506-1689760800-1689868800@scottsdaleinstitute.org
SUMMARY:SUMMIT AND SITE VISIT | 2023 Analytics & Clinical Informatics—Empowering Clinical Operations with AI\, Data & Informatics in the Modern Digital Age
DESCRIPTION:Moving Forward in This Brave New (Digital) World\n\nJuLY 19-20\, 2023\nSharp Prebys Innovation & Education Center\n 8695 Spectrum Center Blvd\, San Diego\, CA 92123\n\n\n\n\nFrom data ma [...]
URL:https://scottsdaleinstitute.org/event/summit-and-site-visit-2023-analytics-clinical-informatics-empowering-clinical-operations-with-ai-data-informatics-in-the-modern-digital-age/
ATTACH;FMTTYPE=image/jpeg:https://scottsdaleinstitute.org/wp-content/uploads/2023/05/digital.jpg
END:VEVENT
END:VCALENDAR