BEGIN:VCALENDAR
VERSION:2.0
PRODID:-//Scottsdale Institute - ECPv6.8.0//NONSGML v1.0//EN
CALSCALE:GREGORIAN
METHOD:PUBLISH
X-ORIGINAL-URL:https://scottsdaleinstitute.org
X-WR-CALDESC:Events for Scottsdale Institute
REFRESH-INTERVAL;VALUE=DURATION:PT1H
X-Robots-Tag:noindex
X-PUBLISHED-TTL:PT1H
BEGIN:VTIMEZONE
TZID:America/Chicago
BEGIN:DAYLIGHT
TZOFFSETFROM:-0600
TZOFFSETTO:-0500
TZNAME:CDT
DTSTART:20230312T080000
END:DAYLIGHT
BEGIN:STANDARD
TZOFFSETFROM:-0500
TZOFFSETTO:-0600
TZNAME:CST
DTSTART:20231105T070000
END:STANDARD
BEGIN:DAYLIGHT
TZOFFSETFROM:-0600
TZOFFSETTO:-0500
TZNAME:CDT
DTSTART:20240310T080000
END:DAYLIGHT
BEGIN:STANDARD
TZOFFSETFROM:-0500
TZOFFSETTO:-0600
TZNAME:CST
DTSTART:20241103T070000
END:STANDARD
END:VTIMEZONE
BEGIN:VEVENT
DTSTART;TZID=America/Chicago:20240425T130000
DTEND;TZID=America/Chicago:20240425T140000
DTSTAMP:20260423T223608
CREATED:20240222T201232Z
LAST-MODIFIED:20250402T195358Z
UID:65526-1714050000-1714053600@scottsdaleinstitute.org
SUMMARY:WEBINAR | Call Centers Emerge as a Transformative Use Case to Realize Tangible AI Value in a Competitive Healthcare Market
DESCRIPTION:Anil Thyagarajan\, Vice President; and Bryan Arkwright\, Director\, Impact Advisors. Join Anil and Bryan as they discuss how a vision and path to vet\, implement\, and optimize call center [...]
URL:https://scottsdaleinstitute.org/event/call-centers-emerge-as-a-transformative-use-case-to-realize-tangible-ai-value-in-a-competitive-healthcare-market/
END:VEVENT
BEGIN:VEVENT
DTSTART;TZID=America/Chicago:20240424T130000
DTEND;TZID=America/Chicago:20240424T140000
DTSTAMP:20260423T223608
CREATED:20240305T154434Z
LAST-MODIFIED:20250402T195358Z
UID:65716-1713963600-1713967200@scottsdaleinstitute.org
SUMMARY:WEBINAR | Putting The ❤ Into Health Education: Addressing Rising Risk in Cardiovascular Care with An Empathic Enterprise Approach
DESCRIPTION:Evan Heigert\, Creative Director\, Patient Engagement; and Mitch Collier\, Technology Product Management Associate Director\, Wolters Kluwer. Cardiovascular disease (CVD) is the leading ca [...]
URL:https://scottsdaleinstitute.org/event/webinar-putting-the-%e2%9d%a4-into-health-education-addressing-rising-risk-in-cardiovascular-care-with-an-empathic-enterprise-approach/
END:VEVENT
BEGIN:VEVENT
DTSTART;TZID=America/Chicago:20240423T130000
DTEND;TZID=America/Chicago:20240423T140000
DTSTAMP:20260423T223608
CREATED:20240327T143610Z
LAST-MODIFIED:20260323T171003Z
UID:66014-1713877200-1713880800@scottsdaleinstitute.org
SUMMARY:WEBINAR | Making Home the Center of the Health System: Building and Optimizing a Hospital-at-Home Program
DESCRIPTION:Ann-Elizabeth Mohart\, MD\, Vice President of Care Transitions\, Mercy Health; and Ron Paulus\, MD\, President & CEO\, Maribel Health. Join us as Drs. Mohart and Paulus present the impact  [...]
URL:https://scottsdaleinstitute.org/event/webinar-making-home-the-center-of-the-health-system-building-and-optimizing-a-hospital-at-home-program/
END:VEVENT
BEGIN:VEVENT
DTSTART;VALUE=DATE:20240417
DTEND;VALUE=DATE:20240420
DTSTAMP:20260423T223608
CREATED:20240418T041107Z
LAST-MODIFIED:20251222T182911Z
UID:64339-1713312000-1713571199@scottsdaleinstitute.org
SUMMARY:SI 2024 Annual Conference: Co-Creating Change
DESCRIPTION:Co-Creating Change:\nEmpathy\, Relationship\, Intelligence\nPutting the pieces together by:\n\nNavigating complexity via new operating models\nMaking healthcare more affordable\, accessibl [...]
URL:https://scottsdaleinstitute.org/event/si-2024-annual-conference-co-creating-change/
ATTACH;FMTTYPE=image/jpeg:https://scottsdaleinstitute.org/wp-content/uploads/2024/04/Annual-Conference-Photo-crop.jpg
END:VEVENT
BEGIN:VEVENT
DTSTART;TZID=America/Chicago:20240410T130000
DTEND;TZID=America/Chicago:20240410T140000
DTSTAMP:20260423T223608
CREATED:20240305T152308Z
LAST-MODIFIED:20260323T171004Z
UID:65707-1712754000-1712757600@scottsdaleinstitute.org
SUMMARY:FIRESIDE CHAT / WEBINAR | Augmented Ingenuity: AI for Patient Safety
DESCRIPTION: \n \n \n \n \n \n“Patient safety may offer us the most far-reaching opportunity to apply AI to clinical care\,” says David Classen\, MD\, MS\, Professor\, University of Utah. Ex [...]
URL:https://scottsdaleinstitute.org/event/fireside-chat-webinar-augmented-ingenuity-ai-for-patient-safety/
END:VEVENT
BEGIN:VEVENT
DTSTART;TZID=America/Chicago:20240402T130000
DTEND;TZID=America/Chicago:20240402T140000
DTSTAMP:20260423T223608
CREATED:20240308T193016Z
LAST-MODIFIED:20250402T195400Z
UID:65790-1712062800-1712066400@scottsdaleinstitute.org
SUMMARY:WEBINAR | The Evolution of EHRs and Ascension's Deployment of a Smart EHR UI
DESCRIPTION:John Glaser\, PhD\, Executive in Residence\, Harvard Medical School; and Mitesh Patel\, MD\, MBA\, Chief Clinical Transformation Officer\, National Vice President\, Ascension. This webinar [...]
URL:https://scottsdaleinstitute.org/event/webinar-the-evolution-of-ehrs-and-ascensions-deployment-of-a-smart-ehr-ui/
END:VEVENT
BEGIN:VEVENT
DTSTART;TZID=America/Chicago:20240328T150000
DTEND;TZID=America/Chicago:20240328T160000
DTSTAMP:20260423T223608
CREATED:20240208T174555Z
LAST-MODIFIED:20260416T170242Z
UID:65343-1711638000-1711641600@scottsdaleinstitute.org
SUMMARY:DIALOGUE | IT Business Operations | “IT Operating Model Change: Initial Insights”
DESCRIPTION:Bob Gleason\, Director IS Management Office\, Northwestern Medicine\n\nPresentation Slides\nDialogue Digest
URL:https://scottsdaleinstitute.org/event/dialogue-it-business-operations-it-operating-model-change-initial-insights/
END:VEVENT
BEGIN:VEVENT
DTSTART;TZID=America/Chicago:20240321T130000
DTEND;TZID=America/Chicago:20240321T140000
DTSTAMP:20260423T223608
CREATED:20240222T194856Z
LAST-MODIFIED:20260323T171004Z
UID:65520-1711026000-1711029600@scottsdaleinstitute.org
SUMMARY:WEBINAR | Perspectives from a Changemaker
DESCRIPTION:Priscilla Frase\, MD\, CMIO; & EZ Niles\, Executive Director of IT\, Ozarks Healthcare. Recipient of the 2024 HIMSS Changemaker Senior Executive Award\, Dr. Frase highlights Ozarks Healthc [...]
URL:https://scottsdaleinstitute.org/event/webinar-perspectives-from-a-changemaker/
END:VEVENT
BEGIN:VEVENT
DTSTART;TZID=America/Chicago:20240320T130000
DTEND;TZID=America/Chicago:20240320T140000
DTSTAMP:20260423T223608
CREATED:20240124T173431Z
LAST-MODIFIED:20260323T171005Z
UID:65177-1710939600-1710943200@scottsdaleinstitute.org
SUMMARY:WEBINAR | Expanding Access with an Epic-Based Virtual Care Partner
DESCRIPTION:Jeffrey Sturman\, Senior Vice President and Chief Information Officer\, Memorial Healthcare System; and Lyle Berkowitz\, MD\, FACP\, FHIMSS\, Founder and CEO\, KeyCare; Associate Professor [...]
URL:https://scottsdaleinstitute.org/event/webinar-expanding-access-with-an-epic-based-virtual-care-partner/
END:VEVENT
BEGIN:VEVENT
DTSTART;TZID=America/Chicago:20240319T130000
DTEND;TZID=America/Chicago:20240319T140000
DTSTAMP:20260423T223608
CREATED:20240131T204553Z
LAST-MODIFIED:20260323T171005Z
UID:65270-1710853200-1710856800@scottsdaleinstitute.org
SUMMARY:FIRESIDE CHAT / WEBINAR | Homelessness and Healthcare: Models for Collaboration
DESCRIPTION:Ken Perez\, MBA\, Healthcare Marketing\, Strategy and Policy Consultant\, and former Vice President of Healthcare Policy & Government Affairs\, Omnicell; Andi Broffman\, Project Advisor; M [...]
URL:https://scottsdaleinstitute.org/event/webinar-homelessness-and-healthcare-models-for-collaboration/
END:VEVENT
BEGIN:VEVENT
DTSTART;TZID=America/Chicago:20240306T130000
DTEND;TZID=America/Chicago:20240306T140000
DTSTAMP:20260423T223608
CREATED:20240206T154130Z
LAST-MODIFIED:20250402T195400Z
UID:65319-1709730000-1709733600@scottsdaleinstitute.org
SUMMARY:WEBINAR | Accelerating AI For Maximum Impact on Patient Care
DESCRIPTION:Brett Oliver\, MD\, CMIO\, Baptist Health; and Matt Lungren\, MD\, MPH\, Chief Data Science Officer\, Microsoft. While AI adoption in healthcare is on the rise\, many organizations are hav [...]
URL:https://scottsdaleinstitute.org/event/webinar-accelerating-ai-for-maximum-impact-on-patient-care/
END:VEVENT
BEGIN:VEVENT
DTSTART;TZID=America/Chicago:20240305T130000
DTEND;TZID=America/Chicago:20240305T140000
DTSTAMP:20260423T223608
CREATED:20240124T170753Z
LAST-MODIFIED:20260323T171006Z
UID:65175-1709643600-1709647200@scottsdaleinstitute.org
SUMMARY:WEBINAR | Bridging the Gap: Innovative Solutions for Health Equity and Access in Rural America
DESCRIPTION:Victoria Hines\, Chief Operating Officer\, University of Rochester Medical Faculty Group; Vice President\, University of Rochester Medical Center; and Assistant Professor\, University of R [...]
URL:https://scottsdaleinstitute.org/event/webinar-bridging-the-gap-innovative-solutions-for-health-equity-and-access-in-rural-america/
END:VEVENT
BEGIN:VEVENT
DTSTART;TZID=America/Chicago:20240229T150000
DTEND;TZID=America/Chicago:20240229T160000
DTSTAMP:20260423T223608
CREATED:20240123T180405Z
LAST-MODIFIED:20260416T170357Z
UID:65147-1709218800-1709222400@scottsdaleinstitute.org
SUMMARY:DIALOGUE | IT Business Operations | "Building and Scaling the Office of the CIO - UW Health's 3-Year Journey"
DESCRIPTION:Nathan Hensal\, MS\, PMP\, Sr. Director\, IS Strategy & Operations\, UW Health – Information Services\n\n\n\nPresentation Slides\nDialogue Digest
URL:https://scottsdaleinstitute.org/event/dialogue-it-business-operations-building-and-scaling-the-office-of-the-cio-uw-healths-3-year-journey/
END:VEVENT
BEGIN:VEVENT
DTSTART;TZID=America/Chicago:20240228T150000
DTEND;TZID=America/Chicago:20240228T160000
DTSTAMP:20260423T223608
CREATED:20240123T182025Z
LAST-MODIFIED:20260416T170413Z
UID:65153-1709132400-1709136000@scottsdaleinstitute.org
SUMMARY:DIALOGUE | Health Equity | "Community Care Hubs: A Promising Model for Health and Social Care Coordination"
DESCRIPTION:Maureen Pike\, MPH\, MBA\, RN\, Director\, Social and Clinical Care Integration\, Community Health and Well-Being\, Trinity Health and Marc Rosen\, MPH\, System Director\, Community Impact [...]
URL:https://scottsdaleinstitute.org/event/dialogue-health-equity-community-care-hubs-a-promising-model-for-health-and-social-care-coordination/
END:VEVENT
BEGIN:VEVENT
DTSTART;TZID=America/Chicago:20240228T130000
DTEND;TZID=America/Chicago:20240228T140000
DTSTAMP:20260423T223608
CREATED:20231211T160233Z
LAST-MODIFIED:20260323T171007Z
UID:64566-1709125200-1709128800@scottsdaleinstitute.org
SUMMARY:WEBINAR | Supporting PCPs as they Shoulder the Burden of Mental Health Care
DESCRIPTION:Anne Travis\, MD\, MSc\, FACG\, AGAF\, Director\, Clinical Content of Advanced Clinical Decision Support\, UpToDate; and Julie Frey\, Head of Product for Health Providers\, Wolters Kluwer  [...]
URL:https://scottsdaleinstitute.org/event/webinar-supporting-pcps-as-they-shoulder-the-burden-of-mental-health-care/
END:VEVENT
BEGIN:VEVENT
DTSTART;TZID=America/Chicago:20240222T130000
DTEND;TZID=America/Chicago:20240222T140000
DTSTAMP:20260423T223608
CREATED:20240118T152935Z
LAST-MODIFIED:20260323T171007Z
UID:65102-1708606800-1708610400@scottsdaleinstitute.org
SUMMARY:WEBINAR | The Rise of Interim Executives and Professionals in the Healthcare Workplace
DESCRIPTION:Monte Weirman\, CPA\, Managing Partner of Healthcare; and Deb Gordon\, Senior Managing Director of Healthcare\, Korn Ferry. As the workforce shifts before our eyes\, healthcare professiona [...]
URL:https://scottsdaleinstitute.org/event/webinar-the-rise-of-interim-executives-and-professionals-in-the-healthcare-workplace/
END:VEVENT
BEGIN:VEVENT
DTSTART;TZID=America/Chicago:20240221T130000
DTEND;TZID=America/Chicago:20240221T140000
DTSTAMP:20260423T223608
CREATED:20231004T152444Z
LAST-MODIFIED:20260323T171008Z
UID:63530-1708520400-1708524000@scottsdaleinstitute.org
SUMMARY:WEBINAR | AI-Powered Transformation: Scaling and Mastering Disruptive Technology
DESCRIPTION:Aaron Miri\, MBA\, FCHIME\, FHIMSS\, CHCIO\, Senior Vice President and Chief Digital and Information Officer\, Baptist Health (Jacksonville); and Sanjeev Agrawal\, President & COO\, LeanTa [...]
URL:https://scottsdaleinstitute.org/event/webinar-ai-powered-transformation-scaling-and-mastering-disruptive-technology/
END:VEVENT
BEGIN:VEVENT
DTSTART;TZID=America/Chicago:20240208T130000
DTEND;TZID=America/Chicago:20240208T140000
DTSTAMP:20260423T223608
CREATED:20240116T154208Z
LAST-MODIFIED:20260323T171009Z
UID:65027-1707397200-1707400800@scottsdaleinstitute.org
SUMMARY:WEBINAR | Bounce Back Project: Promoting Health Through Happiness
DESCRIPTION:Melissa Pribyl\, MSN\, RN\, Community Health Nurse\, CentraCare.  As we hear about and experience declining mental health and well-being in our communities\, learn how CentraCare’s comm [...]
URL:https://scottsdaleinstitute.org/event/webinar-bounce-back-project-promoting-health-through-happiness/
END:VEVENT
BEGIN:VEVENT
DTSTART;TZID=America/Chicago:20240207T130000
DTEND;TZID=America/Chicago:20240207T140000
DTSTAMP:20260423T223608
CREATED:20240117T153356Z
LAST-MODIFIED:20260323T171009Z
UID:65088-1707310800-1707314400@scottsdaleinstitute.org
SUMMARY:WEBINAR | Operationalizing AI at Stanford Health Care
DESCRIPTION:Nikesh Kotecha\, PhD\, Head of Data Science at Stanford Health Care\, embodies the new data-science leader who can operationalize the AI-enabled health system.  Join us for an SI Fireside [...]
URL:https://scottsdaleinstitute.org/event/webinar-operationalizing-ai-at-stanford-health-care/
END:VEVENT
BEGIN:VEVENT
DTSTART;TZID=America/Chicago:20240131T130000
DTEND;TZID=America/Chicago:20240131T140000
DTSTAMP:20260423T223608
CREATED:20231211T152655Z
LAST-MODIFIED:20250402T195400Z
UID:64560-1706706000-1706709600@scottsdaleinstitute.org
SUMMARY:WEBINAR | Moving Core Platforms to the Cloud at Sentara
DESCRIPTION:Tim Skeen\, EVP & Enterprise CIO\, Sentara Healthcare\, and Scott Mayo\, CEO\, OptaFi\, describe how Sentara\, combining a health system and a health plan\, became an early adopter of end- [...]
URL:https://scottsdaleinstitute.org/event/webinar-moving-core-platforms-to-the-cloud-at-sentara/
END:VEVENT
BEGIN:VEVENT
DTSTART;TZID=America/Chicago:20240130T150000
DTEND;TZID=America/Chicago:20240130T160000
DTSTAMP:20260423T223608
CREATED:20240108T200002Z
LAST-MODIFIED:20260416T170812Z
UID:64932-1706626800-1706630400@scottsdaleinstitute.org
SUMMARY:DIALOGUE | Digital + Innovation + Telehealth | "Telehealth and eVisits: How are they addressing access challenges?"
DESCRIPTION:Michael Williams\, MD\, CMIO\, UVA Health\n\n\nPresentation Slides\nDialogue Digest
URL:https://scottsdaleinstitute.org/event/dialogue-digital-innovation-telehealth-telehealth-and-evisits-how-are-they-addressing-access-challenges/
END:VEVENT
BEGIN:VEVENT
DTSTART;TZID=America/Chicago:20240125T150000
DTEND;TZID=America/Chicago:20240125T160000
DTSTAMP:20260423T223608
CREATED:20240108T200612Z
LAST-MODIFIED:20260416T170848Z
UID:64935-1706194800-1706198400@scottsdaleinstitute.org
SUMMARY:DIALOGUE | Analytics | "Early Results of Deploying Generative AI in Clinical Workflows at Houston Methodist"
DESCRIPTION:S. Nicholas Desai\, DPM\, MBA\, VP\, Chief Operating Officer\, Houston Methodist Cypress Hospital and Chief Medical Officer and Chief Quality Officer\, Houston Methodist Cypress Hospital a [...]
URL:https://scottsdaleinstitute.org/event/dialogue-analytics-early-results-of-deploying-generative-ai-in-clinical-workflows-at-houston-methodist/
END:VEVENT
BEGIN:VEVENT
DTSTART;TZID=America/Chicago:20240125T130000
DTEND;TZID=America/Chicago:20240125T140000
DTSTAMP:20260423T223608
CREATED:20231129T153504Z
LAST-MODIFIED:20260323T171009Z
UID:64320-1706187600-1706191200@scottsdaleinstitute.org
SUMMARY:WEBINAR | Modern Primary Care and PODS: Repositioning Primary Care as the Driver to Transform Healthcare
DESCRIPTION:David Cook\, MD\, FAAFP\, Co-Founder & CEO; and Ehab Sharawy\, MD\, FACOG\, Co-Founder & CEO\, One Health Consulting Group\, discuss how the dual concept of PODS (Patient Oriented Delivery [...]
URL:https://scottsdaleinstitute.org/event/webinar-modern-primary-care-and-pods-repositioning-primary-care-as-the-driver-to-transform-healthcare/
END:VEVENT
BEGIN:VEVENT
DTSTART;TZID=America/Chicago:20240124T130000
DTEND;TZID=America/Chicago:20240124T140000
DTSTAMP:20260423T223608
CREATED:20231218T160024Z
LAST-MODIFIED:20250319T193656Z
UID:64726-1706101200-1706104800@scottsdaleinstitute.org
SUMMARY:WEBINAR | Virtual Care Maturity Model for Health Systems
DESCRIPTION:Doug Mirsky\, PhD\, VP of Healthcare Delivery\, Digital Medicine Society (DiMe). Through the pandemic\, health systems raced to respond to a world where patients could no longer see their  [...]
URL:https://scottsdaleinstitute.org/event/virtual-care-maturity-model-for-health-systems/
END:VEVENT
BEGIN:VEVENT
DTSTART;TZID=America/Chicago:20240123T130000
DTEND;TZID=America/Chicago:20240123T140000
DTSTAMP:20260423T223608
CREATED:20231219T155418Z
LAST-MODIFIED:20250402T195401Z
UID:64750-1706014800-1706018400@scottsdaleinstitute.org
SUMMARY:WEBINAR | Trustworthy AI: Whose Trust Needs to be Earned and How
DESCRIPTION:Ida Sim\, MD\, PhD\, Professor of Medicine and Computational Precision Health\, Co-Director of Joint Program in Computational Precision Health\, UCSF UC Berkeley\, and Chief Research Infor [...]
URL:https://scottsdaleinstitute.org/event/webinar-trustworthy-ai-whose-trust-needs-to-be-earned-and-how/
END:VEVENT
BEGIN:VEVENT
DTSTART;TZID=America/Chicago:20240116T130000
DTEND;TZID=America/Chicago:20240116T140000
DTSTAMP:20260423T223608
CREATED:20231128T151352Z
LAST-MODIFIED:20260323T171010Z
UID:64296-1705410000-1705413600@scottsdaleinstitute.org
SUMMARY:WEBINAR | Food Farmacy in Chicagoland: Advocate’s Community Health Outreach
DESCRIPTION:Moet Sims-Joe\, MPH\, Manager Community Health & Community Health Workers; and Melinda Harville\, MPH\, Food Farmacy Coordinator and Mobile Unit Outreach Specialist\, Advocate Health Care. [...]
URL:https://scottsdaleinstitute.org/event/food-farmacy-in-chicagoland-advocates-community-health-outreach/
END:VEVENT
BEGIN:VEVENT
DTSTART;TZID=America/Chicago:20240111T130000
DTEND;TZID=America/Chicago:20240111T140000
DTSTAMP:20260423T223608
CREATED:20231211T151659Z
LAST-MODIFIED:20260323T171010Z
UID:64558-1704978000-1704981600@scottsdaleinstitute.org
SUMMARY:WEBINAR | Ethical AI Governance: A Framework for Medical Decision-Making
DESCRIPTION:Christoph U. Lehmann\, MD\, FAAP\, FACMI\, FIAHSI\, Willis C. Maddrey MD Distinguished Professor in Clinical Science; Director\, Clinical Informatics Center; Associate Dean of Clinical Inf [...]
URL:https://scottsdaleinstitute.org/event/webinar-ethical-ai-governance-a-framework-for-medical-decision-making/
END:VEVENT
BEGIN:VEVENT
DTSTART;TZID=America/Chicago:20231213T130000
DTEND;TZID=America/Chicago:20231213T140000
DTSTAMP:20260423T223608
CREATED:20231031T150054Z
LAST-MODIFIED:20250319T193656Z
UID:63961-1702472400-1702476000@scottsdaleinstitute.org
SUMMARY:WEBINAR | From Evidence to Action: Harnessing the Power and Promise of Real-World Data
DESCRIPTION:Danessa Sandmann\, MPH\, Operations; and Karen Wong\, MD\, MPH\, Clinical Informatics\, Epic Research and Cosmos. Epic Cosmos is a tool created through a collaboration of over 1\,200 hos [...]
URL:https://scottsdaleinstitute.org/event/webinar-from-evidence-to-action-harnessing-the-power-and-promise-of-real-world-data/
END:VEVENT
BEGIN:VEVENT
DTSTART;TZID=America/Chicago:20231212T130000
DTEND;TZID=America/Chicago:20231212T140000
DTSTAMP:20260423T223608
CREATED:20231019T162757Z
LAST-MODIFIED:20250319T192311Z
UID:63723-1702386000-1702389600@scottsdaleinstitute.org
SUMMARY:WEBINAR | Health System Pharmacy in Block Chain
DESCRIPTION:Thomas Matanich\, MBA\, PMP\, Director of Contract Management; and Nilesh Desai\, MBA\, BS\, RPh\, CPPS\, Chief Pharmacy Officer\, Baptist Health System. Ensuring the appropriate applicati [...]
URL:https://scottsdaleinstitute.org/event/health-system-pharmacy-in-block-chain/
END:VEVENT
BEGIN:VEVENT
DTSTART;TZID=America/Chicago:20231207T130000
DTEND;TZID=America/Chicago:20231207T140000
DTSTAMP:20260423T223608
CREATED:20231101T194840Z
LAST-MODIFIED:20260323T171011Z
UID:64024-1701954000-1701957600@scottsdaleinstitute.org
SUMMARY:FIRESIDE CHAT / WEBINAR | Insights on Institutional Fatigue: Combating Health Worker Burnout and Improving Patient Care in Complex Environments
DESCRIPTION: \n \n \n \n \n \nBradley D. Anawalt\, MD; Chief of Medicine\, University of Washington Medical Center\, Professor & Vice Chair of Medicine\, University of Washington; Angela G. Germ [...]
URL:https://scottsdaleinstitute.org/event/fireside-chat-webinar-insights-on-institutional-fatigue-combating-health-worker-burnout-and-improving-patient-care-in-complex-environments/
END:VEVENT
END:VCALENDAR