BEGIN:VCALENDAR
VERSION:2.0
PRODID:-//Scottsdale Institute - ECPv6.8.0//NONSGML v1.0//EN
CALSCALE:GREGORIAN
METHOD:PUBLISH
X-ORIGINAL-URL:https://scottsdaleinstitute.org
X-WR-CALDESC:Events for Scottsdale Institute
REFRESH-INTERVAL;VALUE=DURATION:PT1H
X-Robots-Tag:noindex
X-PUBLISHED-TTL:PT1H
BEGIN:VTIMEZONE
TZID:America/Chicago
BEGIN:DAYLIGHT
TZOFFSETFROM:-0600
TZOFFSETTO:-0500
TZNAME:CDT
DTSTART:20220313T080000
END:DAYLIGHT
BEGIN:STANDARD
TZOFFSETFROM:-0500
TZOFFSETTO:-0600
TZNAME:CST
DTSTART:20221106T070000
END:STANDARD
BEGIN:DAYLIGHT
TZOFFSETFROM:-0600
TZOFFSETTO:-0500
TZNAME:CDT
DTSTART:20230312T080000
END:DAYLIGHT
BEGIN:STANDARD
TZOFFSETFROM:-0500
TZOFFSETTO:-0600
TZNAME:CST
DTSTART:20231105T070000
END:STANDARD
END:VTIMEZONE
BEGIN:VEVENT
DTSTART;TZID=America/Chicago:20230124T130000
DTEND;TZID=America/Chicago:20230124T140000
DTSTAMP:20260424T161513
CREATED:20230110T160346Z
LAST-MODIFIED:20250319T193521Z
UID:58553-1674565200-1674568800@scottsdaleinstitute.org
SUMMARY:WEBINAR | Healthcare’s Labor Challenge – Why is it Happening and What Can You do About It?
DESCRIPTION:Dan Unger\, SVP & GM\, Health Catalyst – Financial Empowerment.  Soaring labor costs and workforce shortages are wreaking havoc on health system financials and impacting patient care. W [...]
URL:https://scottsdaleinstitute.org/event/webinar-healthcares-labor-challenge-why-is-it-happening-and-what-can-you-do-about-it/
END:VEVENT
BEGIN:VEVENT
DTSTART;TZID=America/Chicago:20230117T130000
DTEND;TZID=America/Chicago:20230117T140000
DTSTAMP:20260424T161513
CREATED:20221220T153145Z
LAST-MODIFIED:20250319T193521Z
UID:58194-1673960400-1673964000@scottsdaleinstitute.org
SUMMARY:WEBINAR | Update from the National Coordinator
DESCRIPTION:Micky Tripathi\, PhD\, MPP\, National Coordinator for Health Information Technology\, U.S. Department of Health and Human Services\, provides updates on the recent and current work to enab [...]
URL:https://scottsdaleinstitute.org/event/webinar-update-from-the-national-coordinator/
END:VEVENT
BEGIN:VEVENT
DTSTART;TZID=America/Chicago:20221213T150000
DTEND;TZID=America/Chicago:20221213T160000
DTSTAMP:20260424T161513
CREATED:20221207T171916Z
LAST-MODIFIED:20230324T212730Z
UID:58040-1670943600-1670947200@scottsdaleinstitute.org
SUMMARY:DIALOGUE | Clinical Informatics "Improving Clinician Engagement and Wellbeing at Ascension"
DESCRIPTION:Baligh Yehia\, MD\, MPP\, FACP\, SVP\, Ascension & President\, Ascension Medical Group – “Improving Clinician Engagement and Wellbeing at Ascension”
URL:https://scottsdaleinstitute.org/event/dialogue-clinical-informatics-improving-clinician-engagement-and-wellbeing-at-ascension/
END:VEVENT
BEGIN:VEVENT
DTSTART;TZID=America/Chicago:20221128T130000
DTEND;TZID=America/Chicago:20221128T140000
DTSTAMP:20260424T161513
CREATED:20221122T151545Z
LAST-MODIFIED:20250319T193521Z
UID:57829-1669640400-1669644000@scottsdaleinstitute.org
SUMMARY:WEBINAR | Digital Transformation Implementation: Agile Informatics?
DESCRIPTION:Pete Stetson\, MD\, MA\, CHIO\, Memorial Sloan Kettering Cancer Center.  Dr. Stetson shares a status update\, lessons learned\, and the vision for next steps on executing a digital transf [...]
URL:https://scottsdaleinstitute.org/event/webinar-digital-transformation-implementation-agile-informatics/
END:VEVENT
BEGIN:VEVENT
DTSTART;TZID=America/Chicago:20221122T130000
DTEND;TZID=America/Chicago:20221122T140000
DTSTAMP:20260424T161513
CREATED:20221103T190936Z
LAST-MODIFIED:20250319T193521Z
UID:57502-1669122000-1669125600@scottsdaleinstitute.org
SUMMARY:WEBINAR | State of the Healthcare Workforce: Top 5 Key Drivers of Retention
DESCRIPTION:Jessica Dudley\, MD\, Chief Clinical Officer\, Press Ganey. Top-tier healthcare organizations strive to continually improve their employees’ experience. But the global pandemic has left  [...]
URL:https://scottsdaleinstitute.org/event/webinar-state-of-the-healthcare-workforce-top-5-key-drivers-of-retention/
END:VEVENT
BEGIN:VEVENT
DTSTART;VALUE=DATE:20221114
DTEND;VALUE=DATE:20221116
DTSTAMP:20260424T161513
CREATED:20211215T165702Z
LAST-MODIFIED:20260416T173343Z
UID:49582-1668384000-1668556799@scottsdaleinstitute.org
SUMMARY:SUMMIT | 2022 Clinical Informatics: The Time is Here: Leveraging More Patient-Specific and Workflow Context
DESCRIPTION:The Time is Here: Leveraging More Patient-Specific and Workflow Context\nHow is your health system navigating the many challenges surrounding workflows for benefits inside—and outside— [...]
URL:https://scottsdaleinstitute.org/event/si-2022-clinical-informatics-summit/
ATTACH;FMTTYPE=image/jpeg:https://scottsdaleinstitute.org/wp-content/uploads/2021/12/workflow-sm-e1675210433104.jpg
END:VEVENT
BEGIN:VEVENT
DTSTART;TZID=America/Chicago:20221110T130000
DTEND;TZID=America/Chicago:20221110T140000
DTSTAMP:20260424T161513
CREATED:20221011T182849Z
LAST-MODIFIED:20251203T015518Z
UID:56906-1668085200-1668088800@scottsdaleinstitute.org
SUMMARY:WEBINAR / FIRESIDE CHAT | A Case for Digital Engagement: Trends and Challenges in Telehealth
DESCRIPTION:Heidi West\, Head of Healthcare\, Zoom; and Bill Shickolovich\, Senior Vice President\, Optum.  Every healthcare organization learned something from the pandemic. Many learned how they wo [...]
URL:https://scottsdaleinstitute.org/event/webinar-a-case-for-digital-engagement-trends-and-challenges-in-telehealth/
END:VEVENT
BEGIN:VEVENT
DTSTART;TZID=America/Chicago:20221109T130000
DTEND;TZID=America/Chicago:20221109T140000
DTSTAMP:20260424T161513
CREATED:20221011T160626Z
LAST-MODIFIED:20250319T193521Z
UID:56900-1667998800-1668002400@scottsdaleinstitute.org
SUMMARY:WEBINAR | How AI-Powered Platforms can Leverage Behavioral Science to ‘Nudge’ Patients to Better Outcomes and Improved Care Management 
DESCRIPTION:Prasad Dindigal\, Vice President – Healthcare and Life Sciences\, EXL Health.  As healthcare organizations continue to shift to value-based models\, it is essential that care management [...]
URL:https://scottsdaleinstitute.org/event/webinar-how-ai-powered-platforms-can-leverage-behavioral-science-to-nudge-patients-to-better-outcomes-and-improved-care-management/
END:VEVENT
BEGIN:VEVENT
DTSTART;TZID=America/Chicago:20221103T130000
DTEND;TZID=America/Chicago:20221103T140000
DTSTAMP:20260424T161513
CREATED:20221019T144353Z
LAST-MODIFIED:20250319T193522Z
UID:57100-1667480400-1667484000@scottsdaleinstitute.org
SUMMARY:WEBINAR | 21st Century Cures and Patient-First Release of Results
DESCRIPTION:Anil Parwani\, MD\, PhD\, MBA\, Professor of Pathology and Biomedical Informatics; Luciano Prevedello\, MD\, MPH\, Associate Chief Clinical Information Officer & Vice Chair\, Medical Infor [...]
URL:https://scottsdaleinstitute.org/event/webinar-21st-century-cures-and-patient-first-release-of-results/
END:VEVENT
BEGIN:VEVENT
DTSTART;TZID=America/Chicago:20221101T130000
DTEND;TZID=America/Chicago:20221101T140000
DTSTAMP:20260424T161513
CREATED:20221019T145208Z
LAST-MODIFIED:20250319T193522Z
UID:57102-1667307600-1667311200@scottsdaleinstitute.org
SUMMARY:WEBINAR | Health Equity - Mitigating Bias Through Inclusive Design
DESCRIPTION:Keisha Taylor\, PhD\, Senior Principal\, and Keshia Trotman\, Senior Consultant\, Korn Ferry. Bias can impact care decisions and influence how we design services and provide care. Mitigati [...]
URL:https://scottsdaleinstitute.org/event/webinar-health-equity-inclusion-through-services-products-and-access-that-benefit-the-broader-diversified-group/
END:VEVENT
BEGIN:VEVENT
DTSTART;TZID=America/Chicago:20220929T150000
DTEND;TZID=America/Chicago:20220929T160000
DTSTAMP:20260424T161513
CREATED:20220928T180220Z
LAST-MODIFIED:20260415T173532Z
UID:56617-1664463600-1664467200@scottsdaleinstitute.org
SUMMARY:DIALOGUE | SI CIO + Clinical Informatics "Reimagining Diagnosis Delivery"
DESCRIPTION:Chero Goswami\, CIO\, and Roshelle Ritzenthaler\, Sr Design Strategist\, Digital Health\, UW Health. In a world where many difficult diagnoses and life-altering test results are delivered  [...]
URL:https://scottsdaleinstitute.org/event/dialogue-si-cio-clinical-informatics-reimagining-diagnosis-delivery/
END:VEVENT
BEGIN:VEVENT
DTSTART;TZID=America/Chicago:20220922T130000
DTEND;TZID=America/Chicago:20220922T140000
DTSTAMP:20260424T161513
CREATED:20220801T143436Z
LAST-MODIFIED:20250319T193522Z
UID:55337-1663851600-1663855200@scottsdaleinstitute.org
SUMMARY:WEBINAR | Digital Care Journeys Optimize Patient Experience and Improve Operational Outcomes at MultiCare
DESCRIPTION:Ben Chao\, MHA\, President of CareConnect\, Ariel Oksendahl\, Joint/Spine Program Manager\, and Sam Rosu\, MHA\, Product Manager\, Tech Advisory Services\, MultiCare Health Systems. With d [...]
URL:https://scottsdaleinstitute.org/event/webinar-digital-care-journeys-optimize-patient-experience-and-improve-operational-outcomes-at-multicare/
END:VEVENT
BEGIN:VEVENT
DTSTART;TZID=America/Chicago:20220921T130000
DTEND;TZID=America/Chicago:20220921T140000
DTSTAMP:20260424T161513
CREATED:20220726T212958Z
LAST-MODIFIED:20250319T193522Z
UID:55206-1663765200-1663768800@scottsdaleinstitute.org
SUMMARY:WEBINAR | Clinician of the Future
DESCRIPTION:Thomas Erlinger\, MD\, MPH\, Vice President\, Clinical Analytics\, and Teresa Mueller\, MS\, Global Vice President\, Communications\, Elsevier Health. Over the next 10 years\, the healthca [...]
URL:https://scottsdaleinstitute.org/event/webinar-clinician-of-the-future/
END:VEVENT
BEGIN:VEVENT
DTSTART;TZID=America/Chicago:20220920T130000
DTEND;TZID=America/Chicago:20220920T140000
DTSTAMP:20260424T161513
CREATED:20220726T222739Z
LAST-MODIFIED:20250319T193522Z
UID:55218-1663678800-1663682400@scottsdaleinstitute.org
SUMMARY:WEBINAR | How RWJBarnabas Health increased EHR Efficiency and Clinician Well-Being and Decreased Length of Stay
DESCRIPTION:Stephen O’Mahony\, MD\, FACP\, SVP\, Chief Health Information Officer\, RWJBarnabas Health. With EHR usability concerns contributing to healthcare burnout and patient safety issues\, the [...]
URL:https://scottsdaleinstitute.org/event/webinar-i-how-rwjbarnabas-health-increased-ehr-efficiency-and-clinician-well-being-and-decreased-length-of-stay/
END:VEVENT
BEGIN:VEVENT
DTSTART;TZID=America/Chicago:20220915T130000
DTEND;TZID=America/Chicago:20220915T140000
DTSTAMP:20260424T161513
CREATED:20220801T144905Z
LAST-MODIFIED:20251203T015519Z
UID:55340-1663246800-1663250400@scottsdaleinstitute.org
SUMMARY:WEBINAR / FIRESIDE CHAT | The Nursing Labor Shortage: A Next-Gen Perspective
DESCRIPTION:Catherine L. Gilliss\, PhD\, RN\, FAAN\, Dean and Styles Professor of Nursing\, UCSF School of Nursing\, Associate Vice-Chancellor for Nursing Affairs\, University of California San Franci [...]
URL:https://scottsdaleinstitute.org/event/webinar-fireside-chat-the-nursing-labor-shortage-a-next-gen-perspective/
END:VEVENT
BEGIN:VEVENT
DTSTART;TZID=America/Chicago:20220908T130000
DTEND;TZID=America/Chicago:20220908T140000
DTSTAMP:20260424T161513
CREATED:20220726T220211Z
LAST-MODIFIED:20250319T193522Z
UID:55212-1662642000-1662645600@scottsdaleinstitute.org
SUMMARY:WEBINAR | Enhanced Suicide Response: Spectrum Health's Community Focused Approach
DESCRIPTION:Jody Sprague\, LMSW\, Program Manager for School-Based Suicide Prevention and Lindsay Parker\, Program Manager for Suicide Prevention and Behavioral Health Strategy\, Spectrum Health.  In [...]
URL:https://scottsdaleinstitute.org/event/webinar-enhanced-suicide-response-spectrum-healths-community-focused-approach/
END:VEVENT
BEGIN:VEVENT
DTSTART;TZID=America/Chicago:20220831T130000
DTEND;TZID=America/Chicago:20220831T140000
DTSTAMP:20260424T161513
CREATED:20220407T184235Z
LAST-MODIFIED:20250319T192101Z
UID:53830-1661950800-1661954400@scottsdaleinstitute.org
SUMMARY:WEBINAR | Enhancing Care and Margins with an Integrated\, Strategic Approach to Specialty Pharmacy Management 
DESCRIPTION:Abhinav Rastogi\, MBA\, MIS\, President and CEO\, Temple University Hospital and Carmine DeNardo\, RPh\, General Manager\, Specialty Pharmacy\, Omnicell.  Attracted by the potential econo [...]
URL:https://scottsdaleinstitute.org/event/webinar-enhancing-care-and-margins-with-an-integrated-strategic-approach-to-specialty-pharmacy-management/
END:VEVENT
BEGIN:VEVENT
DTSTART;TZID=America/Chicago:20220817T110000
DTEND;TZID=America/Chicago:20220817T120000
DTSTAMP:20260424T161513
CREATED:20220712T182506Z
LAST-MODIFIED:20251203T015519Z
UID:54897-1660734000-1660737600@scottsdaleinstitute.org
SUMMARY:WEBINAR / FIRESIDE CHAT | Cleveland Clinic's Strategy for Physician Retention
DESCRIPTION:Andrea L. Sikon\, MD\, FACP\, PCC\, BCC\, Co-Founder and Executive Director\, Cleveland Clinic’s CECM & Interim Associate Chief of Clinical Operations\, Cleveland Clinic Community Care;  [...]
URL:https://scottsdaleinstitute.org/event/webinar-fireside-chat-cleveland-clinics-strategy-to-physician-retention/
END:VEVENT
BEGIN:VEVENT
DTSTART;TZID=America/Chicago:20220811T130000
DTEND;TZID=America/Chicago:20220811T140000
DTSTAMP:20260424T161513
CREATED:20220527T161905Z
LAST-MODIFIED:20251203T015519Z
UID:54347-1660222800-1660226400@scottsdaleinstitute.org
SUMMARY:WEBINAR / FIRESIDE CHAT | The Healthcare Workforce Crisis: Strategies from the Top
DESCRIPTION:Nancy Howell Agee\, President & CEO\, Carilion Clinic\, Todd LaPorte\, MBA\, CEO\, HonorHealth and Karen Grimley\, PhD\, MBA\, RN\, FACHE\, NEA-BC\, CNO\, UCLA Health. Fireside Chat Modera [...]
URL:https://scottsdaleinstitute.org/event/webinar-fireside-chat-the-healthcare-workforce-crisis-strategies-from-the-top/
END:VEVENT
BEGIN:VEVENT
DTSTART;TZID=America/Chicago:20220810T130000
DTEND;TZID=America/Chicago:20220810T140000
DTSTAMP:20260424T161513
CREATED:20220523T184236Z
LAST-MODIFIED:20250319T193522Z
UID:54280-1660136400-1660140000@scottsdaleinstitute.org
SUMMARY:WEBINAR | Achieving Next-Generation Care Delivery with Unified Healthcare Communications
DESCRIPTION:Nicholas Perkins\, DO\, Associate CMIO\, Prisma Health. In the increasingly complex—and now highly virtual—world of healthcare delivery\, effectively coordinating multi-channel\, multi [...]
URL:https://scottsdaleinstitute.org/event/achieving-next-generation-care-delivery-with-unified-healthcare-communications/
END:VEVENT
BEGIN:VEVENT
DTSTART;TZID=America/Chicago:20220809T130000
DTEND;TZID=America/Chicago:20220809T140000
DTSTAMP:20260424T161513
CREATED:20220718T163525Z
LAST-MODIFIED:20250319T193522Z
UID:54998-1660050000-1660053600@scottsdaleinstitute.org
SUMMARY:WEBINAR | Michigan Medicine Post-Acute Care: Wrap-Around Services That Keep Your Patients Safe at Home
DESCRIPTION:Grace Jenq\, MD\, Associate Chief Clinical Officer and Eric Towell\, RN\, EMBA\, Associate Chief Operating Officer\, Post-Acute Care\, University of Michigan Health System.  A portfolio o [...]
URL:https://scottsdaleinstitute.org/event/webinar-post-acute-care-wrap-around-services-that-keep-your-patients-safe-at-home/
END:VEVENT
BEGIN:VEVENT
DTSTART;TZID=America/Chicago:20220804T130000
DTEND;TZID=America/Chicago:20220804T140000
DTSTAMP:20260424T161513
CREATED:20220714T134724Z
LAST-MODIFIED:20250319T193522Z
UID:54910-1659618000-1659621600@scottsdaleinstitute.org
SUMMARY:WEBINAR | A Cancer Research Hospital’s Journey with AI/ML: Glimpses from Memorial Sloan Kettering Cancer Center
DESCRIPTION:Avijit Chatterjee\, PhD\, Senior Director and Head of AI/ML and NextGen Analytics\, Memorial Sloan Kettering Cancer Center.  Artificial intelligence and machine learning provide unprecede [...]
URL:https://scottsdaleinstitute.org/event/webinar-a-cancer-research-hospitals-journey-with-ai-ml-glimpses-from-memorial-sloan-kettering-cancer-center/
END:VEVENT
BEGIN:VEVENT
DTSTART;TZID=America/Chicago:20220802T130000
DTEND;TZID=America/Chicago:20220802T140000
DTSTAMP:20260424T161513
CREATED:20220712T155527Z
LAST-MODIFIED:20250319T193522Z
UID:54892-1659445200-1659448800@scottsdaleinstitute.org
SUMMARY:WEBINAR | Solutions for Tackling the Margin Challenge: Interview with Kurt Barwis\, President & CEO\, Bristol Hospital
DESCRIPTION:Kurt Barwis\, FACHE\, President & CEO\, Bristol Hospital\, and Randy Notes\, Managing Director\, Impact Advisors.  Current market conditions are creating unique pressures for healthcare o [...]
URL:https://scottsdaleinstitute.org/event/webinar-solutions-for-tackling-the-margin-challenge-interview-with-kurt-barwis-president-ceo-bristol-hospital/
END:VEVENT
BEGIN:VEVENT
DTSTART;TZID=America/Chicago:20220728T130000
DTEND;TZID=America/Chicago:20220728T140000
DTSTAMP:20260424T161513
CREATED:20220531T154617Z
LAST-MODIFIED:20250319T193522Z
UID:54408-1659013200-1659016800@scottsdaleinstitute.org
SUMMARY:WEBINAR | Enabling Nurse-led Specialized Virtual Care in the Home at Stanford Health Care
DESCRIPTION:Gretchen Brown\, MSN\, RN\, ACNIO\, Stanford Health Care\, Samuel Thomas\, MD\, MS\, CMO\, PocketRN\, and Mirini Kim\, DNP\, RN\, CPNP-PC\, Director of Nursing\, PocketRN. In January 2021\ [...]
URL:https://scottsdaleinstitute.org/event/webinar-enabling-nurse-led-specialized-virtual-care-in-the-home-at-stanford-health-care/
END:VEVENT
BEGIN:VEVENT
DTSTART;TZID=America/Chicago:20220727T130000
DTEND;TZID=America/Chicago:20220727T140000
DTSTAMP:20260424T161513
CREATED:20220523T183110Z
LAST-MODIFIED:20250319T193523Z
UID:54275-1658926800-1658930400@scottsdaleinstitute.org
SUMMARY:WEBINAR | Intelligent Infrastructure is Key to Unleashing Pharmacy Transformation 
DESCRIPTION:Jillian Foster\, PharmD\, MBA\, FACHE\, FASHP\, System Pharmacy Service Line Administrator\, Baptist Memorial Health Care Corporation\, Memphis; Allen Flynn\, PhD\, PharmD\, Director of Ma [...]
URL:https://scottsdaleinstitute.org/event/webinar-intelligent-infrastructure-is-key-to-unleashing-pharmacy-transformation/
END:VEVENT
BEGIN:VEVENT
DTSTART;TZID=America/Chicago:20220721T150000
DTEND;TZID=America/Chicago:20220721T160000
DTSTAMP:20260424T161513
CREATED:20211015T201826Z
LAST-MODIFIED:20230324T213237Z
UID:48298-1658415600-1658419200@scottsdaleinstitute.org
SUMMARY:DIALOGUE | CMIO + CNIO – "Amazon Voice Technology"
DESCRIPTION:Houston Methodist Team – “Amazon Voice Technology”
URL:https://scottsdaleinstitute.org/event/si-cmio-cnio-dialogue-jul-21-2022/
END:VEVENT
BEGIN:VEVENT
DTSTART;TZID=America/Chicago:20220720T130000
DTEND;TZID=America/Chicago:20220720T140000
DTSTAMP:20260424T161513
CREATED:20220520T192020Z
LAST-MODIFIED:20250319T193523Z
UID:54265-1658322000-1658325600@scottsdaleinstitute.org
SUMMARY:WEBINAR |  Predictive Risk Stratification: Using Analytics to Empower Change with Actionable Workflows Description
DESCRIPTION:Melissa Welch\, MD\, Chief Medical Officer\, Health Catalyst. Effective population health initiatives are challenging to implement for a variety of reasons. Care teams are already overburd [...]
URL:https://scottsdaleinstitute.org/event/webinar-predictive-risk-stratification-using-analytics-to-empower-change-with-actionable-workflows-description/
END:VEVENT
BEGIN:VEVENT
DTSTART;TZID=America/Chicago:20220719T130000
DTEND;TZID=America/Chicago:20220719T140000
DTSTAMP:20260424T161513
CREATED:20220628T211501Z
LAST-MODIFIED:20250319T193523Z
UID:54769-1658235600-1658239200@scottsdaleinstitute.org
SUMMARY:WEBINAR | Leveraging Analytics to Engage Providers in Performance Improvement
DESCRIPTION:Morgan Bradham\, MBA\, Vice President of Operations\, Palmetto Primary Care Physicians\, and Brad Crater\, RN\, MBA\, Senior Director Product Strategy\, Optum. Join Morgan and Brad as they [...]
URL:https://scottsdaleinstitute.org/event/webinar-leveraging-analytics-to-engage-providers-in-performance-improvement/
END:VEVENT
BEGIN:VEVENT
DTSTART;TZID=America/Chicago:20220706T130000
DTEND;TZID=America/Chicago:20220706T140000
DTSTAMP:20260424T161513
CREATED:20220520T174716Z
LAST-MODIFIED:20250319T193523Z
UID:54261-1657112400-1657116000@scottsdaleinstitute.org
SUMMARY:WEBINAR | How Llamas\, Education\, and Listening Can Help Combat Burnout
DESCRIPTION:Between the COVID-19 pandemic\, merging with SCL Health\, and overall workforce changes in healthcare\, it can be easy for Intermountain Healthcare caregivers to feel burned out. During th [...]
URL:https://scottsdaleinstitute.org/event/webinar-how-llamas-education-and-listening-can-help-combat-burnout/
END:VEVENT
BEGIN:VEVENT
DTSTART;TZID=America/Chicago:20220628T130000
DTEND;TZID=America/Chicago:20220628T140000
DTSTAMP:20260424T161513
CREATED:20220531T144758Z
LAST-MODIFIED:20250319T193523Z
UID:54388-1656421200-1656424800@scottsdaleinstitute.org
SUMMARY:WEBINAR | Connected Consumer Experience for a Digitally Connected Future
DESCRIPTION:Chris Stebbins\, Vice President of Digital Transformation\, Leah Schelin\, SVP & General Manager\, Clinical and Pharmacy Services\, and Shashank Verma\, Head of Global Digital CX\, EXL Hea [...]
URL:https://scottsdaleinstitute.org/event/webinar-connected-consumer-experience-for-a-digitally-connected-future/
END:VEVENT
END:VCALENDAR