BEGIN:VCALENDAR
VERSION:2.0
PRODID:-//Scottsdale Institute - ECPv6.8.0//NONSGML v1.0//EN
CALSCALE:GREGORIAN
METHOD:PUBLISH
X-WR-CALNAME:Scottsdale Institute
X-ORIGINAL-URL:https://scottsdaleinstitute.org
X-WR-CALDESC:Events for Scottsdale Institute
REFRESH-INTERVAL;VALUE=DURATION:PT1H
X-Robots-Tag:noindex
X-PUBLISHED-TTL:PT1H
BEGIN:VTIMEZONE
TZID:America/Chicago
BEGIN:DAYLIGHT
TZOFFSETFROM:-0600
TZOFFSETTO:-0500
TZNAME:CDT
DTSTART:20190310T080000
END:DAYLIGHT
BEGIN:STANDARD
TZOFFSETFROM:-0500
TZOFFSETTO:-0600
TZNAME:CST
DTSTART:20191103T070000
END:STANDARD
BEGIN:DAYLIGHT
TZOFFSETFROM:-0600
TZOFFSETTO:-0500
TZNAME:CDT
DTSTART:20200308T080000
END:DAYLIGHT
BEGIN:STANDARD
TZOFFSETFROM:-0500
TZOFFSETTO:-0600
TZNAME:CST
DTSTART:20201101T070000
END:STANDARD
END:VTIMEZONE
BEGIN:VEVENT
DTSTART;TZID=America/Chicago:20200915T130000
DTEND;TZID=America/Chicago:20200915T140000
DTSTAMP:20260425T134844
CREATED:20200805T230238Z
LAST-MODIFIED:20250319T193735Z
UID:38902-1600174800-1600178400@scottsdaleinstitute.org
SUMMARY:Data Intelligence and the Framework to Build the Autonomous Pharmacy of the Future
DESCRIPTION:Allen Flynn\, PhD\, PharmD\nJames Stevenson\, PharmD\, FASHP\, FFIP\nAllen Flynn\, PhD\, PharmD\, Assistant Professor\, Department of Learning Health Science\, University of Michigan Medic [...]
URL:https://scottsdaleinstitute.org/event/data-intelligence-and-the-framework-to-build-the-autonomous-pharmacy-of-the-future/
END:VEVENT
BEGIN:VEVENT
DTSTART;TZID=America/Chicago:20200902T130000
DTEND;TZID=America/Chicago:20200902T140000
DTSTAMP:20260425T134844
CREATED:20200805T230206Z
LAST-MODIFIED:20250402T195401Z
UID:38900-1599051600-1599055200@scottsdaleinstitute.org
SUMMARY:Enterprise Management of Drug Inventory\, Drug Shortages\, and Drug Diversion at SCL Health
DESCRIPTION:Jennifer Davis\, PharmD\, MBA\, MISM\, BCPS\, FASHP\nJennifer Davis\, PharmD\, MBA\, MISM\, BCPS\, FASHP\, System Director of Pharmacy & Technology Initiatives\, SCL Health.Â  Managing med [...]
URL:https://scottsdaleinstitute.org/event/enterprise-management-of-drug-inventory-drug-shortages-and-drug-diversion-at-scl-health/
END:VEVENT
BEGIN:VEVENT
DTSTART;TZID=America/Chicago:20200901T130000
DTEND;TZID=America/Chicago:20200901T140000
DTSTAMP:20260425T134844
CREATED:20200801T143815Z
LAST-MODIFIED:20250402T195401Z
UID:35009-1598965200-1598968800@scottsdaleinstitute.org
SUMMARY:Predictive Analytics at UW Health
DESCRIPTION:Brian Patterson\, MD\, MPH\nFrank Liao\, PhD\nSabrina Adelaine\nBrian Patterson\, MD\, MPH\, Physician Informatics Director for Predictive Analytics; Frank Liao\, PhD\, Director of Data Sc [...]
URL:https://scottsdaleinstitute.org/event/predictive-analytics-at-uw-health/
END:VEVENT
BEGIN:VEVENT
DTSTART;TZID=America/Chicago:20200827T130000
DTEND;TZID=America/Chicago:20200827T140000
DTSTAMP:20260425T134844
CREATED:20200706T234258Z
LAST-MODIFIED:20250319T193735Z
UID:37915-1598533200-1598536800@scottsdaleinstitute.org
SUMMARY:Mercy Virtual and COVID-19: Healthcare Redefined
DESCRIPTION:Keith M. Starke\, MD\, FACP\, SVP & CQO; Joseph Kelly\, EVP Office of Transformation; Gavin Helton\, MD\, SVP Population Health; and Ashok Palagiri\, MD\, Physician Lead for Virtual Hospit [...]
URL:https://scottsdaleinstitute.org/event/mercy-virtual-and-covid-19-healthcare-redefined/
END:VEVENT
BEGIN:VEVENT
DTSTART;TZID=America/Chicago:20200826T130000
DTEND;TZID=America/Chicago:20200826T140000
DTSTAMP:20260425T134844
CREATED:20200706T234255Z
LAST-MODIFIED:20260402T154028Z
UID:37914-1598446800-1598450400@scottsdaleinstitute.org
SUMMARY:Pharmacy Intelligence â€“ Insights from Aggregate Benchmarking
DESCRIPTION:Sandy Salverson\, PharmD\, BCPS\nStaci Hermann\, PharmD\, MS\nJames Stevenson\, PharmD\, FASHP\, FFIP\nSandy Salverson\, PharmD\, BCPS\, VP Pharmacy Operations\, OSF HealthCare System\, St [...]
URL:https://scottsdaleinstitute.org/event/pharmacy-intelligence-insights-from-aggregate-benchmarking/
END:VEVENT
BEGIN:VEVENT
DTSTART;TZID=America/Chicago:20200819T130000
DTEND;TZID=America/Chicago:20200819T140000
DTSTAMP:20260425T134844
CREATED:20200720T170758Z
LAST-MODIFIED:20250402T195401Z
UID:38427-1597842000-1597845600@scottsdaleinstitute.org
SUMMARY:Accelerating Transformation and Automating the Service Now Experience in Epic at SCL Health
DESCRIPTION:Stephanie McIntyre\, MBA\, RN-BC\nStephanie H. McIntyre\, MBA\, RN-BC\, VP Applications\, and Nick Iannoni\, Director Shared Application Services\, SCL Health. Speed\, agility and collabor [...]
URL:https://scottsdaleinstitute.org/event/integrating-epic-and-servicenow-at-scl-health/
END:VEVENT
BEGIN:VEVENT
DTSTART;TZID=America/Chicago:20200813T130000
DTEND;TZID=America/Chicago:20200813T140000
DTSTAMP:20260425T134844
CREATED:20200706T234247Z
LAST-MODIFIED:20250319T193735Z
UID:37911-1597323600-1597327200@scottsdaleinstitute.org
SUMMARY:COVID-19 and Health Disparities: Addressing Health Disparities Now\, Preparing for Vaccination and Beyond at CCHMC
DESCRIPTION:Rob Kahn\, MD\, MPH\nAndy Beck\, MD\, MPH\nRob Kahn\, MD\, MPH\, Physician Lead\, Community and Population Health\, and Andy Beck\, MD\, MPH\, Associate Professor & Attending Pediatrician\ [...]
URL:https://scottsdaleinstitute.org/event/covid-19-and-health-disparities-addressing-health-disparities-now-preparing-for-vaccination-and-beyond-at-cchmc/
END:VEVENT
BEGIN:VEVENT
DTSTART;TZID=America/Chicago:20200812T130000
DTEND;TZID=America/Chicago:20200812T140000
DTSTAMP:20260425T134844
CREATED:20200706T234243Z
LAST-MODIFIED:20250319T193735Z
UID:37910-1597237200-1597240800@scottsdaleinstitute.org
SUMMARY:At Home Care Program-Cuts Costs-and-Improves Outcomes at Geisinger
DESCRIPTION:Andrea Harding\nAnthony Wylie\nAndrea Harding\, Sr. Director Operations & Strategy\, and Anthony Wylie\, DO\, Sr. Medical Director\, Geisinger at Home.Â  Geisinger at Home provides team-ba [...]
URL:https://scottsdaleinstitute.org/event/at-home-care-program-cuts-costs-and-improves-outcomes-at-geisinger/
END:VEVENT
BEGIN:VEVENT
DTSTART;TZID=America/Chicago:20200804T140000
DTEND;TZID=America/Chicago:20200804T150000
DTSTAMP:20260425T134844
CREATED:20200706T234232Z
LAST-MODIFIED:20250319T193735Z
UID:37907-1596549600-1596553200@scottsdaleinstitute.org
SUMMARY:Home Hospital: New Evidence and New Adoption at Brigham Health
DESCRIPTION:David Levine\, MD\, MPH\, MA\, general internist and clinician investigator\, Division of General Internal Medicine and Primary Care at Brigham Health and Harvard Medical School\, Partners [...]
URL:https://scottsdaleinstitute.org/event/home-hospital-new-evidence-and-new-adoption-at-partners/
END:VEVENT
BEGIN:VEVENT
DTSTART;TZID=America/Chicago:20200625T130000
DTEND;TZID=America/Chicago:20200625T140000
DTSTAMP:20260425T134844
CREATED:20200504T153004Z
LAST-MODIFIED:20250319T192131Z
UID:36505-1593090000-1593093600@scottsdaleinstitute.org
SUMMARY:Beyond the Crisis - Key Impacts of COVID-19 and Assessing the Path Forward
DESCRIPTION:Keith Shah\, PhD\, SVP Strategy & Growth\, and Sasha Preble\, Senior Director Strategy\, Growth & Transformation\, Optum Advisory Services.Â  The COVID-19 crisis has impacted nearly every  [...]
URL:https://scottsdaleinstitute.org/event/beyond-the-crisis-key-impacts-of-covid-19-and-assessing-the-path-forward/
END:VEVENT
BEGIN:VEVENT
DTSTART;TZID=America/Chicago:20200604T100000
DTEND;TZID=America/Chicago:20200604T110000
DTSTAMP:20260425T134844
CREATED:20200414T193938Z
LAST-MODIFIED:20250319T191324Z
UID:36045-1591264800-1591268400@scottsdaleinstitute.org
SUMMARY:COVID-19 Financial Recovery Strategies
DESCRIPTION:Michael Allen\, CFO\, OSF HealthCare\, Christian Pass\, CFO\, John Muir Health\, and Dan Michelson\, CEO\, Strata.Â  The COVID-19 pandemic has turned hospital financials upside down\, as h [...]
URL:https://scottsdaleinstitute.org/event/financial-impact-of-covid-19-si-members-weigh-in/
END:VEVENT
BEGIN:VEVENT
DTSTART;TZID=America/Chicago:20200521T130000
DTEND;TZID=America/Chicago:20200521T140000
DTSTAMP:20260425T134844
CREATED:20200403T153859Z
LAST-MODIFIED:20250402T195401Z
UID:35604-1590066000-1590069600@scottsdaleinstitute.org
SUMMARY:Using Analytics to Improve Care Management
DESCRIPTION:Robert Crossey\, DO\, President\, and Francis R. Colangelo\, MD\, MS-HQS\, FACP\, VP and Chief Quality Officer\, Premier Medical Associates.Â  ImprovingÂ care coordinationÂ for patients wi [...]
URL:https://scottsdaleinstitute.org/event/using-analytics-to-improve-care-management/
END:VEVENT
BEGIN:VEVENT
DTSTART;TZID=America/Chicago:20200519T130000
DTEND;TZID=America/Chicago:20200519T140000
DTSTAMP:20260425T134844
CREATED:20200403T153900Z
LAST-MODIFIED:20250319T193735Z
UID:35603-1589893200-1589896800@scottsdaleinstitute.org
SUMMARY:Framing Social Determinants of Health â€¦ Differently
DESCRIPTION:Jay Bhatt\, DO\, MPH\, FACP\,Â former SVP & Chief Medical Officer\, American Hospital Association. Dr. Bhatt explores how to consider framing social needs\,Â social determinants of healthÂ [...]
URL:https://scottsdaleinstitute.org/event/framing-social-determinants-of-health-differently/
END:VEVENT
BEGIN:VEVENT
DTSTART;TZID=America/Chicago:20200409T130000
DTEND;TZID=America/Chicago:20200409T140000
DTSTAMP:20260425T134844
CREATED:20200313T153208Z
LAST-MODIFIED:20260109T151441Z
UID:35085-1586437200-1586440800@scottsdaleinstitute.org
SUMMARY:The Cures Act Final Rule: Interoperability\, Information Blocking\, and the ONC Health IT Certification Program
DESCRIPTION:Larry Katzovitz\nDan Golder\, DDS\, MBA\, Principal\, and Larry Katzovitz\, Senior Advisor\, Impact Advisors. This teleconference will examine the recent â€œ21st Century Cures Act:Â Intero [...]
URL:https://scottsdaleinstitute.org/event/the-cures-act-final-rule-interoperability-information-blocking-and-the-onc-health-it-certification-program/
END:VEVENT
BEGIN:VEVENT
DTSTART;TZID=America/Chicago:20200304T130000
DTEND;TZID=America/Chicago:20200304T140000
DTSTAMP:20260425T134844
CREATED:20200204T030406Z
LAST-MODIFIED:20250319T193736Z
UID:34582-1583326800-1583330400@scottsdaleinstitute.org
SUMMARY:Central Pharmacy Services Hub Delivers Patient-focused Care
DESCRIPTION:Mark Sullivan\, PharmD\, MBA\, BCPS\, FASHP\, Executive Director\, Pharmacy Operations\, andÂ Michael Oâ€™Neal\, PharmD\, MBA\, Director of Pharmacy Procurement\, Vanderbilt University Hos [...]
URL:https://scottsdaleinstitute.org/event/central-pharmacy-services-hub-delivers-patient-focused-care/
END:VEVENT
BEGIN:VEVENT
DTSTART;TZID=America/Chicago:20200130T130000
DTEND;TZID=America/Chicago:20200130T140000
DTSTAMP:20260425T134844
CREATED:20191202T193338Z
LAST-MODIFIED:20250319T193736Z
UID:33614-1580389200-1580392800@scottsdaleinstitute.org
SUMMARY:Intermountain at Home and Virtual Care
DESCRIPTION:Joel Macey\, Executive Director Intermountain Homecare\, and Nick Bassett\, VP Population Health Services\, Intermountain Healthcare.Â  As more health systems transition to value-based car [...]
URL:https://scottsdaleinstitute.org/event/intermountain-at-home-and-virtual-care/
END:VEVENT
BEGIN:VEVENT
DTSTART;TZID=America/Chicago:20191217T130000
DTEND;TZID=America/Chicago:20191217T140000
DTSTAMP:20260425T134844
CREATED:20191101T150805Z
LAST-MODIFIED:20250319T193736Z
UID:32902-1576587600-1576591200@scottsdaleinstitute.org
SUMMARY:Outlook 2020:  The Top Three Challenges for Hospital Pharmacy Teams
DESCRIPTION:Dean Parry\, RPH\nDaniel Teich PharmD\nJennifer Wheeler Davis\, PharmD\, MBA\, MISM\, BCPS\, FASHP\nDave Ehlert PharmD\, MBA\, FASHP\nPatrick Yoder\, PharmD\nDean Parry\, RPH\, Associate V [...]
URL:https://scottsdaleinstitute.org/event/outlook-2020-the-top-three-challenges-for-hospital-pharmacy-teams/
END:VEVENT
BEGIN:VEVENT
DTSTART;TZID=America/Chicago:20191205T130000
DTEND;TZID=America/Chicago:20191205T140000
DTSTAMP:20260425T134844
CREATED:20191101T150741Z
LAST-MODIFIED:20250402T195402Z
UID:32900-1575550800-1575554400@scottsdaleinstitute.org
SUMMARY:Artificial Intelligence in Obstetrics: New Models to Prevent Poor Outcomes
DESCRIPTION:Matthew Hoffman\, MD\, Marie E. Pinizotto Endowed Chair in Obstetrics & Gynecology\, Christiana Care Health System\, and Andrew Roberts\, PhD\, Data Scientist\, Cerner. Drs. Hoffman and Ro [...]
URL:https://scottsdaleinstitute.org/event/artificial-intelligence-in-obstetrics-new-models-to-prevent-poor-outcomes/
END:VEVENT
BEGIN:VEVENT
DTSTART;TZID=America/Chicago:20191126T130000
DTEND;TZID=America/Chicago:20191126T140000
DTSTAMP:20260425T134844
CREATED:20190930T215840Z
LAST-MODIFIED:20250402T195402Z
UID:32478-1574773200-1574776800@scottsdaleinstitute.org
SUMMARY:Predictive Clinical Surveillance with AI
DESCRIPTION:Jean-Claude Saghbini\nJean-Claude Saghbini\, Chief Technology Officer of Wolters Kluwer\, Health. Real-time surveillance of rapidly deteriorating conditions is key to impacting quality and [...]
URL:https://scottsdaleinstitute.org/event/predictive-clinical-surveillance-with-ai/
END:VEVENT
BEGIN:VEVENT
DTSTART;TZID=America/Chicago:20191121T130000
DTEND;TZID=America/Chicago:20191121T140000
DTSTAMP:20260425T134844
CREATED:20190930T215841Z
LAST-MODIFIED:20250402T195402Z
UID:32477-1574341200-1574344800@scottsdaleinstitute.org
SUMMARY:Clinical Transformation through Care Team Communication
DESCRIPTION:Simmy King DNP\, MS\, MBA\, RN-BC\, NE-BC\, Nursing Director: Clinical Information Systems & Professional Development\, Matt MacVey\, Vice President & Chief Information Officer\, and Jerem [...]
URL:https://scottsdaleinstitute.org/event/clinical-transformation-through-care-team-communication/
END:VEVENT
BEGIN:VEVENT
DTSTART;TZID=America/Chicago:20191119T130000
DTEND;TZID=America/Chicago:20191119T140000
DTSTAMP:20260425T134844
CREATED:20191003T024900Z
LAST-MODIFIED:20260104T172030Z
UID:32547-1574168400-1574172000@scottsdaleinstitute.org
SUMMARY:Machine Learning Algorithms for Disease Detection: Implementing AI into Radiology Workflow
DESCRIPTION:Warren B. Gefter\, MD\, Professor of Radiology\, Penn Medicine\, and William Boonn\, MD\, CMIO\, Nuance.Â  With November being Lung Cancer Awareness month\, Drs. Gefter and Boonn discuss P [...]
URL:https://scottsdaleinstitute.org/event/machine-learning-algorithms-for-disease-detection-implementing-ai-into-radiology-workflow/
END:VEVENT
BEGIN:VEVENT
DTSTART;TZID=America/Chicago:20191112T130000
DTEND;TZID=America/Chicago:20191112T140000
DTSTAMP:20260425T134844
CREATED:20190930T215857Z
LAST-MODIFIED:20250402T195402Z
UID:32474-1573563600-1573567200@scottsdaleinstitute.org
SUMMARY:Todayâ€™s CMIO:  Dreamer\, Doer or Dinosaur?
DESCRIPTION:D. Matthew Sullivan\, MD\nAngela Tiberio\, MD\nD. Matthew Sullivan\, MD\, Associate CMIO\, Atrium Health\, and Angela R. Tiberio\, MD\, Physician Executive/Clinical Solutions Leader\, Impa [...]
URL:https://scottsdaleinstitute.org/event/todays-cmio-dreamer-doer-or-dinosaur/
END:VEVENT
BEGIN:VEVENT
DTSTART;TZID=America/Chicago:20191031T130000
DTEND;TZID=America/Chicago:20191031T140000
DTSTAMP:20260425T134844
CREATED:20190903T041641Z
LAST-MODIFIED:20250402T195402Z
UID:32102-1572526800-1572530400@scottsdaleinstitute.org
SUMMARY:Agile Change Management at Banner
DESCRIPTION:Sherri Hess\, MS-IS\, BSN\, RN-BC\, FHIMSS\nSherri Hess\, MS-IS\, BSN\, RN-BC\, FHIMSS\, CNIO\, and Jean Davis\, MSN\, MBA\, HCM\, RN\, Senior Director Nursing Informatics\, Banner Health. [...]
URL:https://scottsdaleinstitute.org/event/agile-change-management-at-banner/
END:VEVENT
BEGIN:VEVENT
DTSTART;TZID=America/Chicago:20191030T130000
DTEND;TZID=America/Chicago:20191030T140000
DTSTAMP:20260425T134844
CREATED:20190903T041644Z
LAST-MODIFIED:20250402T195402Z
UID:32101-1572440400-1572444000@scottsdaleinstitute.org
SUMMARY:Patient Engagement Platform at Memorial Sloan Kettering
DESCRIPTION:Pete Stetson\, MD\, MA\nKevin Shannon\nPete Stetson\, MD\, MA\, CHIO\, Deputy Physician-in-Chief\, and Kevin Shannon\, Director â€“ Solutions Architect\, Memorial Sloan Kettering Cancer Ce [...]
URL:https://scottsdaleinstitute.org/event/patient-engagement-platform-at-memorial-sloan-kettering/
END:VEVENT
BEGIN:VEVENT
DTSTART;TZID=America/Chicago:20191029T130000
DTEND;TZID=America/Chicago:20191029T140000
DTSTAMP:20260425T134844
CREATED:20190906T202807Z
LAST-MODIFIED:20250402T195402Z
UID:32136-1572354000-1572357600@scottsdaleinstitute.org
SUMMARY:Clinical Process Improvement and Actionable EHRs
DESCRIPTION:Thomas Moran\, MD\nDarby K. Dennis\, MS\, RN\nBrita Hansen\, MD\nLuis SaldaÃ±a\, MD\nTom Moran\, MD\, VP & Chief Medical Information Executive\, Northwestern Medicine\, Darby Dennis\, RN\, [...]
URL:https://scottsdaleinstitute.org/event/clinical-process-improvement-and-actionable-ehrs/
END:VEVENT
BEGIN:VEVENT
DTSTART;TZID=America/Chicago:20191022T130000
DTEND;TZID=America/Chicago:20191022T140000
DTSTAMP:20260425T134844
CREATED:20190903T161603Z
LAST-MODIFIED:20250402T195402Z
UID:32116-1571749200-1571752800@scottsdaleinstitute.org
SUMMARY:Regulating Opioid Use: Strategies for Safely Prescribing Opioids in Light of New Federal Mandates
DESCRIPTION:Vanessa Guzman\nBob Hussey\nVanessa Guzman\, AVP\, Quality Improvement\, Montefiore Health System\, and Bob Hussey\, Business Consultant for Clinical Effectiveness\, Wolters Kluwer Health. [...]
URL:https://scottsdaleinstitute.org/event/regulating-opioid-use-strategies-for-safely-prescribing-opioids-in-light-of-new-federal-mandates/
END:VEVENT
BEGIN:VEVENT
DTSTART;TZID=America/Chicago:20191015T130000
DTEND;TZID=America/Chicago:20191015T140000
DTSTAMP:20260425T134844
CREATED:20190903T041654Z
LAST-MODIFIED:20250402T195402Z
UID:32098-1571144400-1571148000@scottsdaleinstitute.org
SUMMARY:Recognizing How to Diagnose\, Treat\, and Prevent the Causes of Physician Burnout at Sharp Rees-Stealy
DESCRIPTION:Alissa Speziale\, MD\, FACG\nElan Hekier\, MD\nBrent Steineckert\, MD\nAlissa Speziale\, MD\, FACG\, Chief Wellness Officer\, Elan Hekier\, MD\, CMIO\, Sharp Rees-Stealy Medical Group\, an [...]
URL:https://scottsdaleinstitute.org/event/recognizing-how-to-diagnose-treat-and-prevent-the-causes-of-physician-burnout-at-sharp-rees-stealy/
END:VEVENT
BEGIN:VEVENT
DTSTART;TZID=America/Chicago:20191003T130000
DTEND;TZID=America/Chicago:20191003T140000
DTSTAMP:20260425T134844
CREATED:20190903T041703Z
LAST-MODIFIED:20250402T195402Z
UID:32095-1570107600-1570111200@scottsdaleinstitute.org
SUMMARY:Applying AI Across Industries into Healthcare
DESCRIPTION:Kenneth Harper\nKenneth Harper\, VP and GM\, Healthcare Virtual Assistants and Ambient Clinical Intelligence\, Nuance Communications.Â  While healthcare has been slower to adopt artificial [...]
URL:https://scottsdaleinstitute.org/event/applying-ai-across-industries-into-healthcare/
END:VEVENT
BEGIN:VEVENT
DTSTART;TZID=America/Chicago:20191001T130000
DTEND;TZID=America/Chicago:20191001T140000
DTSTAMP:20260425T134844
CREATED:20190903T041707Z
LAST-MODIFIED:20250402T195403Z
UID:32094-1569934800-1569938400@scottsdaleinstitute.org
SUMMARY:Leveraging Analytics to Drive Greater Value from your EMR Platform
DESCRIPTION:Brian Doty\nCasey Graves\nDan Kinsella\nBrian Doty\, Principal\, Casey Graves\, Principal\, and Dan Kinsella\, Managing Director\, Deloitte Consulting\, LLP.Â  Digitization of the electron [...]
URL:https://scottsdaleinstitute.org/event/leveraging-analytics-to-driver-greater-value-from-your-emr-platform/
END:VEVENT
BEGIN:VEVENT
DTSTART;TZID=America/Chicago:20190926T130000
DTEND;TZID=America/Chicago:20190926T140000
DTSTAMP:20260425T134844
CREATED:20190731T172410Z
LAST-MODIFIED:20250402T195403Z
UID:31786-1569502800-1569506400@scottsdaleinstitute.org
SUMMARY:Tapping Into the Potential of Natural Language Processing in Healthcare
DESCRIPTION:Wendy Chapman\, PhD\, Director of the Centre for Clinical and Public Health Informatics at the University of Melbourne\, and Mike Dow\, Senior Director of Data Science\, Health Catalyst.Â  [...]
URL:https://scottsdaleinstitute.org/event/tapping-into-the-potential-of-natural-language-processing-in-healthcare/
END:VEVENT
END:VCALENDAR