BEGIN:VCALENDAR
VERSION:2.0
PRODID:-//Scottsdale Institute - ECPv6.8.0//NONSGML v1.0//EN
CALSCALE:GREGORIAN
METHOD:PUBLISH
X-WR-CALNAME:Scottsdale Institute
X-ORIGINAL-URL:https://scottsdaleinstitute.org
X-WR-CALDESC:Events for Scottsdale Institute
REFRESH-INTERVAL;VALUE=DURATION:PT1H
X-Robots-Tag:noindex
X-PUBLISHED-TTL:PT1H
BEGIN:VTIMEZONE
TZID:America/Chicago
BEGIN:DAYLIGHT
TZOFFSETFROM:-0600
TZOFFSETTO:-0500
TZNAME:CDT
DTSTART:20210314T080000
END:DAYLIGHT
BEGIN:STANDARD
TZOFFSETFROM:-0500
TZOFFSETTO:-0600
TZNAME:CST
DTSTART:20211107T070000
END:STANDARD
END:VTIMEZONE
BEGIN:VEVENT
DTSTART;TZID=America/Chicago:20211014T130000
DTEND;TZID=America/Chicago:20211014T140000
DTSTAMP:20260424T155104
CREATED:20211006T210735Z
LAST-MODIFIED:20250319T191844Z
UID:48048-1634216400-1634220000@scottsdaleinstitute.org
SUMMARY:WEBINAR | Incident Response – Are you Prepared for a Security Event?
DESCRIPTION:Stephen Collins\, CISSP\, C|CISO\, Security Single Point of Contact\, Impact Advisors.  Health systems are continually challenged by the everchanging security threat landscape.  While or [...]
URL:https://scottsdaleinstitute.org/event/webinar-incident-response-are-you-prepared-for-a-security-event/
END:VEVENT
BEGIN:VEVENT
DTSTART;TZID=America/Chicago:20211013T130000
DTEND;TZID=America/Chicago:20211013T140000
DTSTAMP:20260424T155104
CREATED:20210914T175413Z
LAST-MODIFIED:20250319T192103Z
UID:47588-1634130000-1634133600@scottsdaleinstitute.org
SUMMARY:WEBINAR | Leveraging Predictive Analytics to Develop Consumer-Centric Strategies at Bon Secours Mercy Health 
DESCRIPTION:Deepesh Chandra\, MS\, Chief Analytics Officer\, Bon Secours Mercy Health\, and Sanjula Jain\, PhD\, SVP Market Strategy & Chief Research Officer\, Trilliant Health.  Underlying many exec [...]
URL:https://scottsdaleinstitute.org/event/webinar-leveraging-predictive-analytics-to-develop-consumer-centric-strategies-at-bon-secours-mercy-health/
END:VEVENT
BEGIN:VEVENT
DTSTART;TZID=America/Chicago:20211012T130000
DTEND;TZID=America/Chicago:20211012T140000
DTSTAMP:20260424T155104
CREATED:20210914T173759Z
LAST-MODIFIED:20251029T153040Z
UID:47584-1634043600-1634047200@scottsdaleinstitute.org
SUMMARY:WEBINAR | Activating Health Equity: A Moral Imperative Calling for Business Solutions
DESCRIPTION:Heather Nelson\, Senior Manager; David Veroff\, Specialist Leader\, Deloitte Consulting LLP; and Wendy Gerhardt\, Senior Manager\, Deloitte Center for Health Solutions. Disparities in heal [...]
URL:https://scottsdaleinstitute.org/event/webinar-activating-health-equity-a-moral-imperative-calling-for-business-solutions/
END:VEVENT
BEGIN:VEVENT
DTSTART;TZID=America/Chicago:20211007T130000
DTEND;TZID=America/Chicago:20211007T140000
DTSTAMP:20260424T155104
CREATED:20210729T182122Z
LAST-MODIFIED:20251203T015523Z
UID:46798-1633611600-1633615200@scottsdaleinstitute.org
SUMMARY:WEBINAR | Practical Considerations for AI in an Increasingly Regulated World
DESCRIPTION:Emily Webber\, MD\, FAAP\, FAMIA\, CMIO\, IU Health and Riley Children’s Health; Matthew Hoffman\, MD\, MPH\, Chair of Obstetrics and Gynecology\, Christiana Care Health System; Rebecca  [...]
URL:https://scottsdaleinstitute.org/event/webinar-practical-considerations-for-ai-in-an-increasingly-regulated-world/
END:VEVENT
BEGIN:VEVENT
DTSTART;TZID=America/Chicago:20211006T130000
DTEND;TZID=America/Chicago:20211006T140000
DTSTAMP:20260424T155104
CREATED:20210914T174739Z
LAST-MODIFIED:20250319T192103Z
UID:47586-1633525200-1633528800@scottsdaleinstitute.org
SUMMARY:WEBINAR | Now Showing: What the Entertainment Industry can Teach Us About Patient Activation
DESCRIPTION:Anna Schoenbaum\, Associate Vice President of Information Services Applications; Neil Ravitz\, Chief Operating Officer\, Department of Orthopaedics\, Chief Administrative Officer\, Musculo [...]
URL:https://scottsdaleinstitute.org/event/webinar-now-showing-what-the-entertainment-industry-can-teach-us-about-patient-activation/
END:VEVENT
BEGIN:VEVENT
DTSTART;TZID=America/Chicago:20210929T130000
DTEND;TZID=America/Chicago:20210929T140000
DTSTAMP:20260424T155104
CREATED:20210824T174605Z
LAST-MODIFIED:20250319T191845Z
UID:47097-1632920400-1632924000@scottsdaleinstitute.org
SUMMARY:WEBINAR | Mayo Clinic Cloud: Simplified. Scalable. Secure.
DESCRIPTION:Dale Magnuson\, MS\, Section Head\, and Travis Drucker\, Enterprise IT Architect\, Mayo Clinic.  Innovation isn’t easy. That’s why Mayo Clinic Cloud (MCC) is busy simplifying\, scalin [...]
URL:https://scottsdaleinstitute.org/event/webinar-mayo-clinic-cloud-simplified-scalable-secure/
END:VEVENT
BEGIN:VEVENT
DTSTART;TZID=America/Chicago:20210928T130000
DTEND;TZID=America/Chicago:20210928T140000
DTSTAMP:20260424T155104
CREATED:20210811T172215Z
LAST-MODIFIED:20250319T192104Z
UID:47017-1632834000-1632837600@scottsdaleinstitute.org
SUMMARY:WEBINAR | Avera@Home: Leveraging Home-Based Services for Integrated System Success
DESCRIPTION:Sandra Dieleman\, President and CEO\, Avera@Home. Home healthcare has long played a critical role in the care continuum; for Avera Health\, a robust home health infrastructure proved essen [...]
URL:https://scottsdaleinstitute.org/event/webinar-averahome-leveraging-home-based-services-for-integrated-system-success/
END:VEVENT
BEGIN:VEVENT
DTSTART;TZID=America/Chicago:20210923T130000
DTEND;TZID=America/Chicago:20210923T140000
DTSTAMP:20260424T155104
CREATED:20210824T174221Z
LAST-MODIFIED:20250319T192104Z
UID:47098-1632402000-1632405600@scottsdaleinstitute.org
SUMMARY:WEBINAR | Optimizing Patient Throughput and Improving Clinical Outcomes at University Health
DESCRIPTION:John Klare\, Co-CEO and Board Member\, and Loren Mann\, Managing Director Clinical Performance\, Impact Advisors.  University Health\, a 700-bed Level I trauma AMC embarked on a project t [...]
URL:https://scottsdaleinstitute.org/event/webinar-optimizing-patient-throughput-and-improving-clinical-outcomes-at-university-health/
END:VEVENT
BEGIN:VEVENT
DTSTART;TZID=America/Chicago:20210922T130000
DTEND;TZID=America/Chicago:20210922T140000
DTSTAMP:20260424T155104
CREATED:20210811T171400Z
LAST-MODIFIED:20250319T192104Z
UID:47016-1632315600-1632319200@scottsdaleinstitute.org
SUMMARY:WEBINAR | Leveraging Longitudinal Care Plans to Enhance Care Coordination and Patient Engagement
DESCRIPTION:Donna Mayo\, VP\, Clinical Informatics\, Elsevier. Communication gaps among the healthcare team make coordinating care for your patients both challenging and costly. Studies have shown tha [...]
URL:https://scottsdaleinstitute.org/event/webinar-leveraging-longitudinal-care-plans-to-enhance-care-coordination-and-patient-engagement/
END:VEVENT
BEGIN:VEVENT
DTSTART;TZID=America/Chicago:20210921T130000
DTEND;TZID=America/Chicago:20210921T140000
DTSTAMP:20260424T155104
CREATED:20210811T170023Z
LAST-MODIFIED:20250319T192104Z
UID:47015-1632229200-1632232800@scottsdaleinstitute.org
SUMMARY:WEBINAR | Achieving Patient Flow Outcomes using Thought Leadership
DESCRIPTION:Kenna Belshe\, DO\, VP & Chief Clinical Officer\, North Kansas City Hospital\, and Kara Hess\, Senior Healthcare Executive\, Cerner. Thought leadership requires dedication\, patience\, str [...]
URL:https://scottsdaleinstitute.org/event/webinar-achieving-patient-flow-outcomes-using-thought-leadership/
END:VEVENT
BEGIN:VEVENT
DTSTART;TZID=America/Chicago:20210915T130000
DTEND;TZID=America/Chicago:20210915T140000
DTSTAMP:20260424T155104
CREATED:20210825T184824Z
LAST-MODIFIED:20250319T191845Z
UID:47111-1631710800-1631714400@scottsdaleinstitute.org
SUMMARY:WEBINAR | Implementing Enterprise Resource Planning During a Pandemic at Spectrum Health
DESCRIPTION:Tania Bethea\, MBA\, Senior Director\, ERP/Enterprise Business Systems\, Spectrum Health\, and Tracy Braman\, MBA\, Senior Director\, Integrations & Operational Excellence\, Spectrum Healt [...]
URL:https://scottsdaleinstitute.org/event/webinar-implementing-enterprise-resource-planning-during-a-pandemic-at-spectrum-health/
END:VEVENT
BEGIN:VEVENT
DTSTART;TZID=America/Chicago:20210914T130000
DTEND;TZID=America/Chicago:20210914T140000
DTSTAMP:20260424T155104
CREATED:20210825T211707Z
LAST-MODIFIED:20250319T192104Z
UID:47113-1631624400-1631628000@scottsdaleinstitute.org
SUMMARY:WEBINAR | How Ambient AI is Transforming the Provider-Patient Experience at Metro Health - University of Michigan Health
DESCRIPTION:Joshua Wilda\, EVP & CIO\, Lance Owens\, DO\, CMIO\, Metro Health\, and Kenn Harper\, VP & GM\, Dragon Ambient eXperience and Virtual Assistant\, Nuance Communications. As part of the orga [...]
URL:https://scottsdaleinstitute.org/event/webinar-how-ambient-ai-is-transforming-the-provider-patient-experience-at-metro-health-university-of-michigan-health/
END:VEVENT
BEGIN:VEVENT
DTSTART;TZID=America/Chicago:20210908T100000
DTEND;TZID=America/Chicago:20210908T140000
DTSTAMP:20260424T155104
CREATED:20210507T001246Z
LAST-MODIFIED:20250506T221545Z
UID:44949-1631095200-1631109600@scottsdaleinstitute.org
SUMMARY:SI 2021 Analytics Virtual Summit - Connecting the Dots: Data-Driven Transformation
DESCRIPTION:Shifting to a cloud infrastructure\, incorporating analytics at point-of-care and discussing the future landscape of our healthcare data—these were just a few of the topics the Scottsdal [...]
URL:https://scottsdaleinstitute.org/event/si-2021-analytics-virtual-summit-8nbr43j7/
ATTACH;FMTTYPE=image/jpeg:https://scottsdaleinstitute.org/wp-content/uploads/2021/05/2021-Analytics-Summit-panoramic-e1675210871725.jpg
END:VEVENT
BEGIN:VEVENT
DTSTART;TZID=America/Chicago:20210831T130000
DTEND;TZID=America/Chicago:20210831T140000
DTSTAMP:20260424T155104
CREATED:20210624T182054Z
LAST-MODIFIED:20250319T192104Z
UID:45702-1630414800-1630418400@scottsdaleinstitute.org
SUMMARY:WEBINAR | COVID and Kids – Current Impact\, and What Back to School and Sports Mean for Public Health
DESCRIPTION:Roberta DeBiasi\, MD\, MS\, Chief of the Division of Pediatric Diseases and Co-Director of the institutional Emerging and Highly Contagious Infectious Disease Task Force (including Ebola  [...]
URL:https://scottsdaleinstitute.org/event/covid-and-kids-current-impact-and-what-back-to-school-and-sports-mean-for-public-health/
END:VEVENT
BEGIN:VEVENT
DTSTART;TZID=America/Chicago:20210823T130000
DTEND;TZID=America/Chicago:20210823T140000
DTSTAMP:20260424T155104
CREATED:20210616T222449Z
LAST-MODIFIED:20260104T163814Z
UID:45616-1629723600-1629727200@scottsdaleinstitute.org
SUMMARY:WEBINAR | Advancing Care Delivery Innovation with Cedars-Sinai\, Houston Methodist & Spectrum
DESCRIPTION:Tom Priselac\, President & CEO\, Cedars-Sinai; Marc Boom\, MD\, President & CEO\, Houston Methodist and Tina Freese Decker\, President & CEO\, Spectrum Health join John Simon\, SVP\, Op [...]
URL:https://scottsdaleinstitute.org/event/webinar-advancing-care-delivery-innovation-with-cedars-sinai-houston-methodist-spectrum/
END:VEVENT
BEGIN:VEVENT
DTSTART;TZID=America/Chicago:20210819T143000
DTEND;TZID=America/Chicago:20210819T153000
DTSTAMP:20260424T155104
CREATED:20210312T222721Z
LAST-MODIFIED:20230404T000157Z
UID:43189-1629383400-1629387000@scottsdaleinstitute.org
SUMMARY:SI CIO-CISO Dialogue - Aug 19 2021
DESCRIPTION:“CISO Fundamentals:  Policies\, Partners & Playbook”\nPhil Napier\, Health ISO\, UVA Health System\nThis is an invitation-only event.  For more information\, fill out the form\, belo [...]
URL:https://scottsdaleinstitute.org/event/cio-ciso-dialogue-call-08192021/
END:VEVENT
BEGIN:VEVENT
DTSTART;TZID=America/Chicago:20210819T130000
DTEND;TZID=America/Chicago:20210819T140000
DTSTAMP:20260424T155104
CREATED:20210719T174130Z
LAST-MODIFIED:20260104T173356Z
UID:46486-1629378000-1629381600@scottsdaleinstitute.org
SUMMARY:WEBINAR | 2022 PFS Proposed Rule Overview
DESCRIPTION:Dan Golder\, DDS\, MBA\, Principal\, and Larry Katzovitz\, Senior Advisor\, Impact Advisors. This session examines the recent 2022 Physician Fee Schedule (PFS) Proposed Rule\, released on [...]
URL:https://scottsdaleinstitute.org/event/webinar-2022-pfs-proposed-rule-overview/
END:VEVENT
BEGIN:VEVENT
DTSTART;TZID=America/Chicago:20210818T130000
DTEND;TZID=America/Chicago:20210818T140000
DTSTAMP:20260424T155104
CREATED:20210802T164311Z
LAST-MODIFIED:20250319T191845Z
UID:46845-1629291600-1629295200@scottsdaleinstitute.org
SUMMARY:WEBINAR | Stronger Together: Why Industry Alignment is the Only Means to Mitigate Healthcare Cybersecurity Risk
DESCRIPTION:Erik Decker\, AVP & CISO\, Intermountain Healthcare\, and Ed Gaudet\, CEO\, Censinet. Cyber attacks. Data breaches. Ransomware incidents. All these challenges jeopardize effective patient  [...]
URL:https://scottsdaleinstitute.org/event/webinar-stronger-together-why-industry-alignment-is-the-only-means-to-mitigate-healthcare-cybersecurity-risk/
END:VEVENT
BEGIN:VEVENT
DTSTART;TZID=America/Chicago:20210805T130000
DTEND;TZID=America/Chicago:20210805T140000
DTSTAMP:20260424T155104
CREATED:20210611T183712Z
LAST-MODIFIED:20251203T015524Z
UID:45528-1628168400-1628172000@scottsdaleinstitute.org
SUMMARY:WEBINAR | SI Digital Transformation Survey Results
DESCRIPTION:Omer Awan\, Chief Data and Digital Officer\, Atrium Health; Chero Goswami\, SVP & CIO\, UW Health; and Craig Richardville\, SVP & Chief Information and Digital Officer\, SCL Health with Ch [...]
URL:https://scottsdaleinstitute.org/event/webinar-si-digital-transformation-survey-results/
END:VEVENT
BEGIN:VEVENT
DTSTART;TZID=America/Chicago:20210803T130000
DTEND;TZID=America/Chicago:20210803T140000
DTSTAMP:20260424T155104
CREATED:20210715T181816Z
LAST-MODIFIED:20250319T191322Z
UID:46456-1627995600-1627999200@scottsdaleinstitute.org
SUMMARY:WEBINAR | Health Equity Impact:  Closing the Gap between Definition and Execution
DESCRIPTION:Trudy Sullivan\, MBA\, Chief Communications Officer and Chief Diversity & Inclusion Officer\, and Jason Jones\, PhD\, Chief Data Science Officer\, HealthCatalyst.  Serving as a core domai [...]
URL:https://scottsdaleinstitute.org/event/webinar-health-equity-impact-closing-the-gap-between-definition-and-execution/
END:VEVENT
BEGIN:VEVENT
DTSTART;TZID=America/Chicago:20210728T130000
DTEND;TZID=America/Chicago:20210728T140000
DTSTAMP:20260424T155104
CREATED:20210709T200533Z
LAST-MODIFIED:20250319T192104Z
UID:46235-1627477200-1627480800@scottsdaleinstitute.org
SUMMARY:WEBINAR | Beyond Patient Engagement: How to Partner Effectively with Patients to Optimize Care
DESCRIPTION:Jason Burum\, General Manager\, Provider Segment\, Clinical Effectiveness\, and John Vivoda\, Senior Director\, Patient Strategy and Product Management\, Clinical Effectiveness\, Wolters K [...]
URL:https://scottsdaleinstitute.org/event/webinar-beyond-patient-engagement-how-to-partner-effectively-with-patients-to-optimize-care/
END:VEVENT
BEGIN:VEVENT
DTSTART;TZID=America/Chicago:20210727T130000
DTEND;TZID=America/Chicago:20210727T140000
DTSTAMP:20260424T155104
CREATED:20210611T183451Z
LAST-MODIFIED:20250319T191845Z
UID:45526-1627390800-1627394400@scottsdaleinstitute.org
SUMMARY:WEBINAR | Applying Advanced Robotics to Increase Pharmacy Efficiencies at Sentara RMH
DESCRIPTION:Jamin Engel\, PharmD\, MBA\, BCSCP\, Western Region Director of Pharmacy\, Sentara Healthcare.  In a hospital setting\, the safe and efficient distribution of medications is among the mos [...]
URL:https://scottsdaleinstitute.org/event/webinar-applying-advanced-robotics-to-increase-pharmacy-efficiencies-at-sentara-rmh/
END:VEVENT
BEGIN:VEVENT
DTSTART;TZID=America/Chicago:20210720T143000
DTEND;TZID=America/Chicago:20210720T153000
DTSTAMP:20260424T155104
CREATED:20210331T211134Z
LAST-MODIFIED:20230404T000013Z
UID:43678-1626791400-1626795000@scottsdaleinstitute.org
SUMMARY:SI Analytics Dialogue - Jul 20 2021
DESCRIPTION:“Data Governance and The Learning Health System Umbrella”\nJohn Long\, UW Health\nThis is an invitation-only event.  For more information\, fill out the form\, below.\n\n \n\n\n\n\n N [...]
URL:https://scottsdaleinstitute.org/event/analytics-dialogue-07202021-bgw365/
END:VEVENT
BEGIN:VEVENT
DTSTART;TZID=America/Chicago:20210714T130000
DTEND;TZID=America/Chicago:20210714T140000
DTSTAMP:20260424T155104
CREATED:20210611T183304Z
LAST-MODIFIED:20250319T191845Z
UID:45524-1626267600-1626271200@scottsdaleinstitute.org
SUMMARY:WEBINAR | Social Determinants of Health: Interoperability Standards and Evidence-Based Decision Support
DESCRIPTION:Evelyn Gallego\, MBA\, MPH\, CPHIMS\, CEO\, EMI Advisors and Program Manager and SME\, HL7®Gravity Project\, and Cheyenne Santiago\, RN\, MSN\, Managing Editor\, MCG Health.  The impact  [...]
URL:https://scottsdaleinstitute.org/event/webinar-social-determinants-of-health-interoperability-standards-and-evidence-based-decision-support/
END:VEVENT
BEGIN:VEVENT
DTSTART;TZID=America/Chicago:20210707T130000
DTEND;TZID=America/Chicago:20210707T140000
DTSTAMP:20260424T155104
CREATED:20210611T183308Z
LAST-MODIFIED:20250319T192104Z
UID:45523-1625662800-1625666400@scottsdaleinstitute.org
SUMMARY:WEBINAR | Effect of Community Health Worker-Patient Pairings on Readmissions in ACOs at Mass General Brigham
DESCRIPTION:Jocelyn Carter\, MD\, MPH\, Internal Medicine Hospitalist and Clinician Scientist\, Mass General Hospital (MGH).  The C-CAT (Community CAre Transitions) initiative was structured as a r [...]
URL:https://scottsdaleinstitute.org/event/webinar-effect-of-community-health-worker-patient-pairings-on-readmissions-in-acos-at-mass-general-brigham/
END:VEVENT
BEGIN:VEVENT
DTSTART;TZID=America/Chicago:20210624T130000
DTEND;TZID=America/Chicago:20210624T140000
DTSTAMP:20260424T155104
CREATED:20210213T211741Z
LAST-MODIFIED:20240507T210644Z
UID:42591-1624539600-1624543200@scottsdaleinstitute.org
SUMMARY:WEBINAR | How Geisinger is Using Data to Address Social Determinants of Health
DESCRIPTION:Allison Hess\, VP of Health Innovations\, and Maria Welch\, Innovations Program Manager\, Geisinger Steele Institute for Innovation.  Learn how Geisinger developed a Social Determinants o [...]
URL:https://scottsdaleinstitute.org/event/webinar-how-geisinger-is-using-data-to-address-social-determinants-of-health/
END:VEVENT
BEGIN:VEVENT
DTSTART;TZID=America/Chicago:20210622T130000
DTEND;TZID=America/Chicago:20210622T140000
DTSTAMP:20260424T155104
CREATED:20210415T160619Z
LAST-MODIFIED:20251203T015524Z
UID:44155-1624366800-1624370400@scottsdaleinstitute.org
SUMMARY:WEBINAR | Who’s Leading America’s Healthcare Recovery Plan?
DESCRIPTION:Joseph J. Fifer\, FHFMA\, CPA\, President & CEO\, Healthcare Financial Management Association\, and Paul Keckley\, PhD\, Managing Editor\, The Keckley Report.  Join Paul Keckley and Joe F [...]
URL:https://scottsdaleinstitute.org/event/webinar-whos-leading-americas-healthcare-recovery-plan/
END:VEVENT
BEGIN:VEVENT
DTSTART;TZID=America/Chicago:20210617T143000
DTEND;TZID=America/Chicago:20210617T153000
DTSTAMP:20260424T155104
CREATED:20210312T222722Z
LAST-MODIFIED:20230404T000158Z
UID:43187-1623940200-1623943800@scottsdaleinstitute.org
SUMMARY:SI CIO-CISO Dialogue - Jun 17 2021
DESCRIPTION:“NSA Healthcare Cybersecurity Workforce Certificate Program”\nMichael Erickson\, CISO\, Baptist Health\nThis is an invitation-only event.  For more information\, fill out the form\, b [...]
URL:https://scottsdaleinstitute.org/event/cio-ciso-dialogue-call-06172021/
END:VEVENT
BEGIN:VEVENT
DTSTART;TZID=America/Chicago:20210608T130000
DTEND;TZID=America/Chicago:20210608T140000
DTSTAMP:20260424T155104
CREATED:20210213T211020Z
LAST-MODIFIED:20230404T001604Z
UID:42577-1623157200-1623160800@scottsdaleinstitute.org
SUMMARY:WEBINAR | Expanding the Effective Use and Use Cases of AI in Healthcare
DESCRIPTION:Julie Watson\, MD\, CMO\, INTEGRIS Health\, and Jason Jones\, PhD\, Chief Analytics and Data Science Officer\, Health Catalyst.\nTo achieve the Quadruple Aim in health and healthcare requi [...]
URL:https://scottsdaleinstitute.org/event/webinar-expanding-the-effective-use-and-use-cases-of-ai-in-healthcare/
END:VEVENT
BEGIN:VEVENT
DTSTART;TZID=America/Chicago:20210602T130000
DTEND;TZID=America/Chicago:20210602T140000
DTSTAMP:20260424T155104
CREATED:20210518T172303Z
LAST-MODIFIED:20250319T191620Z
UID:45104-1622638800-1622642400@scottsdaleinstitute.org
SUMMARY:WEBINAR | Harnessing the Power of Data: Truveta at Trinity Health
DESCRIPTION:Marcus Shipley\, MBA\, SVP\, Innovation and CIO\, Trinity Health.  Health systems have amassed an amazing amount of data\, yet no one system has enough data in size or diversity to genera [...]
URL:https://scottsdaleinstitute.org/event/webinar-harnessing-the-power-of-data-truveta-at-trinity-health/
END:VEVENT
END:VCALENDAR