BEGIN:VCALENDAR
VERSION:2.0
PRODID:-//Scottsdale Institute - ECPv6.8.0//NONSGML v1.0//EN
CALSCALE:GREGORIAN
METHOD:PUBLISH
X-ORIGINAL-URL:https://scottsdaleinstitute.org
X-WR-CALDESC:Events for Scottsdale Institute
REFRESH-INTERVAL;VALUE=DURATION:PT1H
X-Robots-Tag:noindex
X-PUBLISHED-TTL:PT1H
BEGIN:VTIMEZONE
TZID:America/Chicago
BEGIN:DAYLIGHT
TZOFFSETFROM:-0600
TZOFFSETTO:-0500
TZNAME:CDT
DTSTART:20240310T080000
END:DAYLIGHT
BEGIN:STANDARD
TZOFFSETFROM:-0500
TZOFFSETTO:-0600
TZNAME:CST
DTSTART:20241103T070000
END:STANDARD
END:VTIMEZONE
BEGIN:VEVENT
DTSTART;TZID=America/Chicago:20240904T130000
DTEND;TZID=America/Chicago:20240904T140000
DTSTAMP:20260423T225351
CREATED:20240816T154326Z
LAST-MODIFIED:20260323T170957Z
UID:67813-1725454800-1725458400@scottsdaleinstitute.org
SUMMARY:FIRESIDE CHAT / WEBINAR | The AI Movement Underway in Nursing: How Breakthrough Technologies\, Partnerships and NURSES are Fueling Industry Transformation
DESCRIPTION:Kay Lytle\, DNP\, RN\, NI-BC\, NEA-BC\, CPHIMS\, ACHIP\, FHIMSS\, FAMIA\, Chief Nursing Information Officer\, Duke University Health System; and Mary Varghese Presti\, RN\, VP\, Portfolio [...]
URL:https://scottsdaleinstitute.org/event/fireside-chat-webinar-the-ai-movement-underway-in-nursing-how-breakthrough-technologies-partnerships-and-nurses-are-fueling-industry-transformation/
END:VEVENT
END:VCALENDAR