BEGIN:VCALENDAR
VERSION:2.0
PRODID:-//Scottsdale Institute - ECPv6.8.0//NONSGML v1.0//EN
CALSCALE:GREGORIAN
METHOD:PUBLISH
X-ORIGINAL-URL:https://scottsdaleinstitute.org
X-WR-CALDESC:Events for Scottsdale Institute
REFRESH-INTERVAL;VALUE=DURATION:PT1H
X-Robots-Tag:noindex
X-PUBLISHED-TTL:PT1H
BEGIN:VTIMEZONE
TZID:America/Chicago
BEGIN:DAYLIGHT
TZOFFSETFROM:-0600
TZOFFSETTO:-0500
TZNAME:CDT
DTSTART:20240310T080000
END:DAYLIGHT
BEGIN:STANDARD
TZOFFSETFROM:-0500
TZOFFSETTO:-0600
TZNAME:CST
DTSTART:20241103T070000
END:STANDARD
END:VTIMEZONE
BEGIN:VEVENT
DTSTART;TZID=America/Chicago:20241114T130000
DTEND;TZID=America/Chicago:20241114T140000
DTSTAMP:20260423T192018
CREATED:20241001T165411Z
LAST-MODIFIED:20260323T170952Z
UID:68471-1731589200-1731592800@scottsdaleinstitute.org
SUMMARY:FIRESIDE CHAT / WEBINAR | 2024 Election Impacts on Healthcare
DESCRIPTION:Join us for an insightful and interactive Fireside Chat featuring two prominent healthcare industry leaders\, Paul Keckley\, Ph.D.\, Managing Editor\, The Keckley Report\, Healthcare Polic [...]
URL:https://scottsdaleinstitute.org/event/fireside-chat-webinar-2024-election-impacts-on-healthcare/
END:VEVENT
BEGIN:VEVENT
DTSTART;TZID=America/Chicago:20241114T150000
DTEND;TZID=America/Chicago:20241114T160000
DTSTAMP:20260423T192018
CREATED:20240815T192701Z
LAST-MODIFIED:20260416T164636Z
UID:67785-1731596400-1731600000@scottsdaleinstitute.org
SUMMARY:DIALOGUE | Health Equity | "Texas Health: Advancing Health Equity Through Innovative Programs and Collaboration"
DESCRIPTION:Laurie C. Long\, PhD\, Program Director\, Community Health Improvement\, Strategic Initiatives\, and Saundra Denise Brown\, MSN-ED\, RN-BC\, Program Manager Faith Community Nursing\, Texas [...]
URL:https://scottsdaleinstitute.org/event/dialogue-health-equity-texas-health-advancing-health-equity-through-innovative-programs-and-collaboration/
END:VEVENT
END:VCALENDAR