BEGIN:VCALENDAR
VERSION:2.0
PRODID:-//Scottsdale Institute - ECPv6.8.0//NONSGML v1.0//EN
CALSCALE:GREGORIAN
METHOD:PUBLISH
X-ORIGINAL-URL:https://scottsdaleinstitute.org
X-WR-CALDESC:Events for Scottsdale Institute
REFRESH-INTERVAL;VALUE=DURATION:PT1H
X-Robots-Tag:noindex
X-PUBLISHED-TTL:PT1H
BEGIN:VTIMEZONE
TZID:America/Chicago
BEGIN:DAYLIGHT
TZOFFSETFROM:-0600
TZOFFSETTO:-0500
TZNAME:CDT
DTSTART:20240310T080000
END:DAYLIGHT
BEGIN:STANDARD
TZOFFSETFROM:-0500
TZOFFSETTO:-0600
TZNAME:CST
DTSTART:20241103T070000
END:STANDARD
END:VTIMEZONE
BEGIN:VEVENT
DTSTART;TZID=America/Chicago:20240912T130000
DTEND;TZID=America/Chicago:20240912T140000
DTSTAMP:20260423T153044
CREATED:20240806T142950Z
LAST-MODIFIED:20260323T170956Z
UID:67676-1726146000-1726149600@scottsdaleinstitute.org
SUMMARY:WEBINAR | Strengthening Community Health: Augusta Health's Data Driven Approach to Equity
DESCRIPTION:Leigh Williams\, Assistant Chief Information Officer\, Augusta Health. Augusta Health’s mission is to strengthen the community they call home – Leigh knows this requires a strategic ap [...]
URL:https://scottsdaleinstitute.org/event/webinar-strengthening-community-health-augusta-healths-data-driven-approach-to-equity/
END:VEVENT
END:VCALENDAR