BEGIN:VCALENDAR
VERSION:2.0
PRODID:-//Scottsdale Institute - ECPv6.8.0//NONSGML v1.0//EN
CALSCALE:GREGORIAN
METHOD:PUBLISH
X-ORIGINAL-URL:https://scottsdaleinstitute.org
X-WR-CALDESC:Events for Scottsdale Institute
REFRESH-INTERVAL;VALUE=DURATION:PT1H
X-Robots-Tag:noindex
X-PUBLISHED-TTL:PT1H
BEGIN:VTIMEZONE
TZID:America/Chicago
BEGIN:DAYLIGHT
TZOFFSETFROM:-0600
TZOFFSETTO:-0500
TZNAME:CDT
DTSTART:20250309T080000
END:DAYLIGHT
BEGIN:STANDARD
TZOFFSETFROM:-0500
TZOFFSETTO:-0600
TZNAME:CST
DTSTART:20251102T070000
END:STANDARD
END:VTIMEZONE
BEGIN:VEVENT
DTSTART;TZID=America/Chicago:20250513T130000
DTEND;TZID=America/Chicago:20250513T140000
DTSTAMP:20260423T181556
CREATED:20250311T164104Z
LAST-MODIFIED:20251203T015505Z
UID:70314-1747141200-1747144800@scottsdaleinstitute.org
SUMMARY:FIRESIDE CHAT | Thomas Lee\, MD\, Press Ganey CMO: Six NEJM Catalyst Articles Everyone Should Know About!
DESCRIPTION:Join us for what promises to be an informative and fun discussion with Tom Lee\, MD\, who in addition to his role as Chief Medical Officer at Press Ganey\, is the Editor-in-Chief of NEJM  [...]
URL:https://scottsdaleinstitute.org/event/fireside-chat-thomas-lee-md-press-ganey-cmo-six-nejm-catalyst-articles-everyone-should-know-about/
END:VEVENT
BEGIN:VEVENT
DTSTART;TZID=America/Chicago:20250520T130000
DTEND;TZID=America/Chicago:20250520T140000
DTSTAMP:20260423T181556
CREATED:20250421T141627Z
LAST-MODIFIED:20250709T164715Z
UID:70792-1747746000-1747749600@scottsdaleinstitute.org
SUMMARY:WEBINAR | Competing for Patients in Tech's Backyard How El Camino Health Boosted New Patient Acquisition by Triple Digits in 90-Days
DESCRIPTION:Deb Muro\, Chief Information Officer\, El Camino Health; and Sonja Tarrago\, MD\, Head of Physician Strategy\, DexCare. In the heart of Silicon Valley\, where tech-savvy consumers are cond [...]
URL:https://scottsdaleinstitute.org/event/webinar-competing-for-patients-in-techs-backyard-how-el-camino-health-boosted-new-patient-acquisition-by-triple-digits-in-90-days/
END:VEVENT
BEGIN:VEVENT
DTSTART;TZID=America/Chicago:20250521T130000
DTEND;TZID=America/Chicago:20250521T140000
DTSTAMP:20260423T181556
CREATED:20250318T151924Z
LAST-MODIFIED:20250709T164812Z
UID:70431-1747832400-1747836000@scottsdaleinstitute.org
SUMMARY:WEBINAR | Navigating Uncertainty: Federal Funding Cuts and Their Impact on Healthcare Systems in 2025
DESCRIPTION:Julie Brown-Georgi\, MS\, CAHIMS Founder & CEO\, Digital Health Policy Strategies. As federal funding cuts loom over the healthcare landscape\, healthcare systems are facing unprecedented [...]
URL:https://scottsdaleinstitute.org/event/webinar-navigating-uncertainty-federal-funding-cuts-and-their-impact-on-healthcare-systems-in-2025/
END:VEVENT
END:VCALENDAR