BEGIN:VCALENDAR
VERSION:2.0
PRODID:-//Scottsdale Institute - ECPv6.8.0//NONSGML v1.0//EN
CALSCALE:GREGORIAN
METHOD:PUBLISH
X-WR-CALNAME:Scottsdale Institute
X-ORIGINAL-URL:https://scottsdaleinstitute.org
X-WR-CALDESC:Events for Scottsdale Institute
REFRESH-INTERVAL;VALUE=DURATION:PT1H
X-Robots-Tag:noindex
X-PUBLISHED-TTL:PT1H
BEGIN:VTIMEZONE
TZID:America/Chicago
BEGIN:DAYLIGHT
TZOFFSETFROM:-0600
TZOFFSETTO:-0500
TZNAME:CDT
DTSTART:20230312T080000
END:DAYLIGHT
BEGIN:STANDARD
TZOFFSETFROM:-0500
TZOFFSETTO:-0600
TZNAME:CST
DTSTART:20231105T070000
END:STANDARD
END:VTIMEZONE
BEGIN:VEVENT
DTSTART;TZID=America/Chicago:20230502T130000
DTEND;TZID=America/Chicago:20230502T140000
DTSTAMP:20260424T200350
CREATED:20230406T154945Z
LAST-MODIFIED:20251203T015516Z
UID:60814-1683032400-1683036000@scottsdaleinstitute.org
SUMMARY:WEBINAR / FIRESIDE CHAT  | Home Hospital at Scale: A Fireside Chat with Mass General Brigham
DESCRIPTION:Denise W. Gee\, MD\, Vice Chair of Clinical Operations\, Massachusetts General Hospital\, Clinical Director of Surgical Services; Kevin Whitney\, DNP\, RN\, EMT-P\, COO & CNO; Stephen C. D [...]
URL:https://scottsdaleinstitute.org/event/webinar-fireside-chat-home-hospital-at-scale-a-fireside-chat-with-mass-general-brigham/
END:VEVENT
BEGIN:VEVENT
DTSTART;TZID=America/Chicago:20230503T130000
DTEND;TZID=America/Chicago:20230503T140000
DTSTAMP:20260424T200350
CREATED:20230406T155823Z
LAST-MODIFIED:20250319T193734Z
UID:60817-1683118800-1683122400@scottsdaleinstitute.org
SUMMARY:WEBINAR | Unwinding the Federal Medicaid Continuous Coverage Requirements
DESCRIPTION:Kinda Serafi\, JD\, Partner\, Manatt. The current Medicaid continuous coverage requirement prohibits states from disenrolling individuals from Medicaid for the duration of the public healt [...]
URL:https://scottsdaleinstitute.org/event/webinar-unwinding-the-federal-medicaid-continuous-coverage-requirements/
END:VEVENT
BEGIN:VEVENT
DTSTART;TZID=America/Chicago:20230504T130000
DTEND;TZID=America/Chicago:20230504T140000
DTSTAMP:20260424T200350
CREATED:20230406T160521Z
LAST-MODIFIED:20250319T193734Z
UID:60819-1683205200-1683208800@scottsdaleinstitute.org
SUMMARY:WEBINAR | DE&I is a Business Enabler: Why Healthcare Organizations Cannot Take The Foot Off The Pedal
DESCRIPTION:Shajmil Smith\, MHA\, ACC\, Principal\, Healthcare\, Korn Ferry. According to recent reports\, organizations are beginning to reduce DEI leadership roles indicating a decline in commitmen [...]
URL:https://scottsdaleinstitute.org/event/webinar-dei-is-a-business-enabler-why-healthcare-organizations-cannot-take-the-foot-off-the-pedal/
END:VEVENT
BEGIN:VEVENT
DTSTART;TZID=America/Chicago:20230509T130000
DTEND;TZID=America/Chicago:20230509T140000
DTSTAMP:20260424T200350
CREATED:20230406T161310Z
LAST-MODIFIED:20250319T193734Z
UID:60823-1683637200-1683640800@scottsdaleinstitute.org
SUMMARY:WEBINAR | Will Generative AI Revolutionize the Field Of Clinical Decision Support?
DESCRIPTION:Scott Weingarten\, MD\, MPH\, Chief Value Officer\, Board Member for Vytalize Health\, President of FJM Health; and David Rhew\, MD\, Global Chief Medical Officer & VP of Healthcare\, Micr [...]
URL:https://scottsdaleinstitute.org/event/webinar-will-generative-ai-revolutionize-the-field-of-clinical-decision-support/
END:VEVENT
BEGIN:VEVENT
DTSTART;TZID=America/Chicago:20230511T130000
DTEND;TZID=America/Chicago:20230511T140000
DTSTAMP:20260424T200350
CREATED:20230428T164519Z
LAST-MODIFIED:20250319T193520Z
UID:61157-1683810000-1683813600@scottsdaleinstitute.org
SUMMARY:WEBINAR | Federal Health IT Update: HTI-1 Proposed Rule\, TEFCA
DESCRIPTION:Micky Tripathi\, PhD\, National Coordinator for Health Information Technology\, U.S. Department of Health and Human Services. Join National Coordinator for Health IT Micky Tripathi to lear [...]
URL:https://scottsdaleinstitute.org/event/webinar-federal-health-it-update-hti-1-proposed-rule-tefca/
END:VEVENT
BEGIN:VEVENT
DTSTART;TZID=America/Chicago:20230517T130000
DTEND;TZID=America/Chicago:20230517T140000
DTSTAMP:20260424T200350
CREATED:20230508T152115Z
LAST-MODIFIED:20250319T191616Z
UID:61315-1684328400-1684332000@scottsdaleinstitute.org
SUMMARY:WEBINAR | Preparing the Future Pharmacy Workforce
DESCRIPTION:Arash Dabestani\, PharmD\, MHA\, FASHP\, FABC\, Dean and Professor\, Long Island University College of Pharmacy; and Rick Green\, MBA\, MSM\, Vice President of Marketing\, Omnicell. The la [...]
URL:https://scottsdaleinstitute.org/event/webinar-preparing-the-future-pharmacy-workforce/
END:VEVENT
BEGIN:VEVENT
DTSTART;TZID=America/Chicago:20230518T130000
DTEND;TZID=America/Chicago:20230518T140000
DTSTAMP:20260424T200350
CREATED:20230406T163858Z
LAST-MODIFIED:20250319T193733Z
UID:60838-1684414800-1684418400@scottsdaleinstitute.org
SUMMARY:WEBINAR | Building Relationships\, One Story at a Time
DESCRIPTION:Gabrielle Pina\, DO\, FAAP\, Pediatric Hospitalist\, DIME Leader\, Director of Advocacy and Quality Improvement for Loma Linda Pediatric Residency Program\, Loma Linda University Health. C [...]
URL:https://scottsdaleinstitute.org/event/webinar-building-relationships-one-story-at-a-time/
END:VEVENT
BEGIN:VEVENT
DTSTART;TZID=America/Chicago:20230523T130000
DTEND;TZID=America/Chicago:20230523T140000
DTSTAMP:20260424T200350
CREATED:20230426T164922Z
LAST-MODIFIED:20250319T193520Z
UID:61119-1684846800-1684850400@scottsdaleinstitute.org
SUMMARY:WEBINAR | The End of the Public Health Emergency: Implications for Telehealth
DESCRIPTION:Ken Perez\, MBA\, Marketing and Strategy Advisor to Vindeca Health and former Vice President of Healthcare Policy and Government Affairs for Omnicell\, covers the background for the COVID- [...]
URL:https://scottsdaleinstitute.org/event/webinar-the-end-of-the-public-health-emergency-implications-for-telehealth/
END:VEVENT
BEGIN:VEVENT
DTSTART;TZID=America/Chicago:20230531T130000
DTEND;TZID=America/Chicago:20230531T140000
DTSTAMP:20260424T200350
CREATED:20230419T145156Z
LAST-MODIFIED:20251203T015515Z
UID:60809-1685538000-1685541600@scottsdaleinstitute.org
SUMMARY:WEBINAR | Tiered Performance Structure: A Framework for Strategic Improvement
DESCRIPTION:Ashley Ackerman\, System Director\, Patient Experience; and Paige Pugh\, Manager\, Patient Experience\, Baptist Health System KY/IN. In the ever-changing world of healthcare\, organization [...]
URL:https://scottsdaleinstitute.org/event/webinar-tiered-performance-structure-a-framework-for-strategic-improvement/
END:VEVENT
END:VCALENDAR