BEGIN:VCALENDAR
VERSION:2.0
PRODID:-//Scottsdale Institute - ECPv6.8.0//NONSGML v1.0//EN
CALSCALE:GREGORIAN
METHOD:PUBLISH
X-WR-CALNAME:Scottsdale Institute
X-ORIGINAL-URL:https://scottsdaleinstitute.org
X-WR-CALDESC:Events for Scottsdale Institute
REFRESH-INTERVAL;VALUE=DURATION:PT1H
X-Robots-Tag:noindex
X-PUBLISHED-TTL:PT1H
BEGIN:VTIMEZONE
TZID:America/Chicago
BEGIN:DAYLIGHT
TZOFFSETFROM:-0600
TZOFFSETTO:-0500
TZNAME:CDT
DTSTART:20220313T080000
END:DAYLIGHT
BEGIN:STANDARD
TZOFFSETFROM:-0500
TZOFFSETTO:-0600
TZNAME:CST
DTSTART:20221106T070000
END:STANDARD
END:VTIMEZONE
BEGIN:VEVENT
DTSTART;TZID=America/Chicago:20221212T130000
DTEND;TZID=America/Chicago:20221212T140000
DTSTAMP:20260425T081746
CREATED:20221121T234013Z
LAST-MODIFIED:20251203T015518Z
UID:57815-1670850000-1670853600@scottsdaleinstitute.org
SUMMARY:WEBINAR / FIRESIDE CHAT | What to Expect from the Inflation Reduction Act
DESCRIPTION:Fireside Chat with Joseph J. Fifer\, FHFMA\, CPA\, President & CEO\, Healthcare Financial Management Association\, and Paul H. Keckley\, PhD\, Managing Editor\, The Keckley Report\, moder [...]
URL:https://scottsdaleinstitute.org/event/fireside-chat-what-to-expect-from-the-inflation-reduction-act/
END:VEVENT
END:VCALENDAR