BEGIN:VCALENDAR
VERSION:2.0
PRODID:-//Scottsdale Institute - ECPv6.8.0//NONSGML v1.0//EN
CALSCALE:GREGORIAN
METHOD:PUBLISH
X-WR-CALNAME:Scottsdale Institute
X-ORIGINAL-URL:https://scottsdaleinstitute.org
X-WR-CALDESC:Events for Scottsdale Institute
REFRESH-INTERVAL;VALUE=DURATION:PT1H
X-Robots-Tag:noindex
X-PUBLISHED-TTL:PT1H
BEGIN:VTIMEZONE
TZID:America/Chicago
BEGIN:DAYLIGHT
TZOFFSETFROM:-0600
TZOFFSETTO:-0500
TZNAME:CDT
DTSTART:20250309T080000
END:DAYLIGHT
BEGIN:STANDARD
TZOFFSETFROM:-0500
TZOFFSETTO:-0600
TZNAME:CST
DTSTART:20251102T070000
END:STANDARD
END:VTIMEZONE
BEGIN:VEVENT
DTSTART;TZID=America/Chicago:20251104T130000
DTEND;TZID=America/Chicago:20251104T140000
DTSTAMP:20260420T144144
CREATED:20251008T143908Z
LAST-MODIFIED:20251104T205347Z
UID:72589-1762261200-1762264800@scottsdaleinstitute.org
SUMMARY:WEBINAR | Amplifying the Clinician Voice: Practical Approaches for Impactful Transformation
DESCRIPTION:Sylvain Trepanier\, DNP\, Chief Nurse Executive\, Providence; and Victor Herrera\, MD\, Chief Clinical Officer & SVP\, AdventHealth. Clinicians are key catalysts in health care transformat [...]
URL:https://scottsdaleinstitute.org/event/webinar-amplifying-the-clinician-voice-practical-approaches-for-impactful-transformation/
END:VEVENT
END:VCALENDAR