BEGIN:VCALENDAR
VERSION:2.0
PRODID:-//Scottsdale Institute - ECPv6.8.0//NONSGML v1.0//EN
CALSCALE:GREGORIAN
METHOD:PUBLISH
X-ORIGINAL-URL:https://scottsdaleinstitute.org
X-WR-CALDESC:Events for Scottsdale Institute
REFRESH-INTERVAL;VALUE=DURATION:PT1H
X-Robots-Tag:noindex
X-PUBLISHED-TTL:PT1H
BEGIN:VTIMEZONE
TZID:America/Chicago
BEGIN:DAYLIGHT
TZOFFSETFROM:-0600
TZOFFSETTO:-0500
TZNAME:CDT
DTSTART:20220313T080000
END:DAYLIGHT
BEGIN:STANDARD
TZOFFSETFROM:-0500
TZOFFSETTO:-0600
TZNAME:CST
DTSTART:20221106T070000
END:STANDARD
END:VTIMEZONE
BEGIN:VEVENT
DTSTART;TZID=America/Chicago:20221207T103000
DTEND;TZID=America/Chicago:20221207T120000
DTSTAMP:20260425T230330
CREATED:20221104T200218Z
LAST-MODIFIED:20260416T172257Z
UID:57522-1670409000-1670414400@scottsdaleinstitute.org
SUMMARY:ROUNDTABLE | "The Journey So Far…An Honest and Tough Conversation on DE&I\, Leadership and Promotion"
DESCRIPTION:Katrin Robinson and Kristi Steppe\, IU Health\, and Flo Falayi\, PHD\, Korn Ferry will be hosting this event.\n\n\n\nFinal Roundtable Report\nDEI Roundtable Korn Ferry IU Health
URL:https://scottsdaleinstitute.org/event/roundtable-the-journey-so-faran-honest-and-tough-conversation-on-dei-leadership-and-promotion/
END:VEVENT
END:VCALENDAR