BEGIN:VCALENDAR
VERSION:2.0
PRODID:-//Scottsdale Institute - ECPv6.8.0//NONSGML v1.0//EN
CALSCALE:GREGORIAN
METHOD:PUBLISH
X-ORIGINAL-URL:https://scottsdaleinstitute.org
X-WR-CALDESC:Events for Scottsdale Institute
REFRESH-INTERVAL;VALUE=DURATION:PT1H
X-Robots-Tag:noindex
X-PUBLISHED-TTL:PT1H
BEGIN:VTIMEZONE
TZID:America/Chicago
BEGIN:DAYLIGHT
TZOFFSETFROM:-0600
TZOFFSETTO:-0500
TZNAME:CDT
DTSTART:20250309T080000
END:DAYLIGHT
BEGIN:STANDARD
TZOFFSETFROM:-0500
TZOFFSETTO:-0600
TZNAME:CST
DTSTART:20251102T070000
END:STANDARD
END:VTIMEZONE
BEGIN:VEVENT
DTSTART;TZID=America/Chicago:20250911T120000
DTEND;TZID=America/Chicago:20250911T133000
DTSTAMP:20260420T183008
CREATED:20250725T142746Z
LAST-MODIFIED:20260414T213029Z
UID:71570-1757592000-1757597400@scottsdaleinstitute.org
SUMMARY:ROUNDTABLE | "Sustainable Innovation: Mapping Your Enterprise Intelligently"
DESCRIPTION:Sustainable innovation programs require a problem-oriented and value-driven mindset. Health systems must\ndelicately balance operational transformation with disciplined execution\, underst [...]
URL:https://scottsdaleinstitute.org/event/roundtable-sustainable-innovation-mapping-your-enterprise-intelligently/
END:VEVENT
END:VCALENDAR