BEGIN:VCALENDAR
VERSION:2.0
PRODID:-//Scottsdale Institute - ECPv6.8.0//NONSGML v1.0//EN
CALSCALE:GREGORIAN
METHOD:PUBLISH
X-WR-CALNAME:Scottsdale Institute
X-ORIGINAL-URL:https://scottsdaleinstitute.org
X-WR-CALDESC:Events for Scottsdale Institute
REFRESH-INTERVAL;VALUE=DURATION:PT1H
X-Robots-Tag:noindex
X-PUBLISHED-TTL:PT1H
BEGIN:VTIMEZONE
TZID:America/Chicago
BEGIN:DAYLIGHT
TZOFFSETFROM:-0600
TZOFFSETTO:-0500
TZNAME:CDT
DTSTART:20240310T080000
END:DAYLIGHT
BEGIN:STANDARD
TZOFFSETFROM:-0500
TZOFFSETTO:-0600
TZNAME:CST
DTSTART:20241103T070000
END:STANDARD
END:VTIMEZONE
BEGIN:VEVENT
DTSTART;TZID=America/Chicago:20240815T130000
DTEND;TZID=America/Chicago:20240815T140000
DTSTAMP:20260423T142420
CREATED:20240726T151704Z
LAST-MODIFIED:20250402T195357Z
UID:67515-1723726800-1723730400@scottsdaleinstitute.org
SUMMARY:WEBINAR | Driving Growth and Enhancing Experiences: Strategies for Digital Health Transformation
DESCRIPTION:Erin Powell\, System Vice President of Digital Health\, SSM Health; Geoff Wester\, Digital Health Strategy Director\, SSM Health; and Julia Millard\, Chief Customer Experience Office\, Dex [...]
URL:https://scottsdaleinstitute.org/event/webinar-driving-growth-and-enhancing-experiences-strategies-for-digital-health-transformation/
END:VEVENT
END:VCALENDAR