BEGIN:VCALENDAR
VERSION:2.0
PRODID:-//Scottsdale Institute - ECPv6.8.0//NONSGML v1.0//EN
CALSCALE:GREGORIAN
METHOD:PUBLISH
X-ORIGINAL-URL:https://scottsdaleinstitute.org
X-WR-CALDESC:Events for Scottsdale Institute
REFRESH-INTERVAL;VALUE=DURATION:PT1H
X-Robots-Tag:noindex
X-PUBLISHED-TTL:PT1H
BEGIN:VTIMEZONE
TZID:America/Chicago
BEGIN:DAYLIGHT
TZOFFSETFROM:-0600
TZOFFSETTO:-0500
TZNAME:CDT
DTSTART:20230312T080000
END:DAYLIGHT
BEGIN:STANDARD
TZOFFSETFROM:-0500
TZOFFSETTO:-0600
TZNAME:CST
DTSTART:20231105T070000
END:STANDARD
END:VTIMEZONE
BEGIN:VEVENT
DTSTART;TZID=America/Chicago:20231012T130000
DTEND;TZID=America/Chicago:20231012T140000
DTSTAMP:20260424T095924
CREATED:20230911T161957Z
LAST-MODIFIED:20260323T171014Z
UID:63097-1697115600-1697119200@scottsdaleinstitute.org
SUMMARY:WEBINAR | The Missing “E” in “ERP”: Setting Your Organization Up for Enterprise-Level Success
DESCRIPTION:Susan Kruzan\, Principal; Jill Haselhorst\, Principal; and Mike Cadwell\, Managing Director\, Impact Advisors. Whether you’re in the midst of merging organizations or trying to rally aro [...]
URL:https://scottsdaleinstitute.org/event/webinar-the-missing-e-in-erp-setting-your-organization-up-for-enterprise-level-success/
END:VEVENT
END:VCALENDAR