BEGIN:VCALENDAR
VERSION:2.0
PRODID:-//Scottsdale Institute - ECPv6.8.0//NONSGML v1.0//EN
CALSCALE:GREGORIAN
METHOD:PUBLISH
X-WR-CALNAME:Scottsdale Institute
X-ORIGINAL-URL:https://scottsdaleinstitute.org
X-WR-CALDESC:Events for Scottsdale Institute
REFRESH-INTERVAL;VALUE=DURATION:PT1H
X-Robots-Tag:noindex
X-PUBLISHED-TTL:PT1H
BEGIN:VTIMEZONE
TZID:America/Chicago
BEGIN:DAYLIGHT
TZOFFSETFROM:-0600
TZOFFSETTO:-0500
TZNAME:CDT
DTSTART:20240310T080000
END:DAYLIGHT
BEGIN:STANDARD
TZOFFSETFROM:-0500
TZOFFSETTO:-0600
TZNAME:CST
DTSTART:20241103T070000
END:STANDARD
END:VTIMEZONE
BEGIN:VEVENT
DTSTART;TZID=America/Chicago:20241002T130000
DTEND;TZID=America/Chicago:20241002T140000
DTSTAMP:20260423T103130
CREATED:20240805T142331Z
LAST-MODIFIED:20260323T170955Z
UID:67647-1727874000-1727877600@scottsdaleinstitute.org
SUMMARY:WEBINAR | Operations and Capacity: How to Make the Most of Your Technology Investments
DESCRIPTION:Barbara Bryan\, BSN\, MBA\, Managing Director; Elizabeth M. Gonzales\, MBA\, MPH\, Director; and Lily Karges\, Associate Director\, Impact Advisors. Join Impact Advisors as they discuss th [...]
URL:https://scottsdaleinstitute.org/event/webinar-operations-and-capacity-how-to-make-the-most-of-your-technology-investments/
END:VEVENT
BEGIN:VEVENT
DTSTART;TZID=America/Chicago:20241030T100000
DTEND;TZID=America/Chicago:20241030T130000
DTSTAMP:20260423T103130
CREATED:20240904T164751Z
LAST-MODIFIED:20260415T013430Z
UID:68035-1730282400-1730293200@scottsdaleinstitute.org
SUMMARY:SUMMIT | CIO Virtual – Transforming IT: Core Strategies & Realities for the Modern CIO
DESCRIPTION:Current Realities and Core IT Strategies\n\nOctober 30\, 2024\nSI CIO Virtual Summit\nSponsored by Impact Advisors\n\n\nJoin your healthcare CIOs peers from across the industry for the SI  [...]
URL:https://scottsdaleinstitute.org/event/summit-cio-virtual-transforming-it-core-strategies-realities-for-the-modern-cio/
ATTACH;FMTTYPE=image/jpeg:https://scottsdaleinstitute.org/wp-content/uploads/2024/09/cio-virtual-summit-image-1.jpg
END:VEVENT
END:VCALENDAR