BEGIN:VCALENDAR
VERSION:2.0
PRODID:-//Scottsdale Institute - ECPv6.8.0//NONSGML v1.0//EN
CALSCALE:GREGORIAN
METHOD:PUBLISH
X-WR-CALNAME:Scottsdale Institute
X-ORIGINAL-URL:https://scottsdaleinstitute.org
X-WR-CALDESC:Events for Scottsdale Institute
REFRESH-INTERVAL;VALUE=DURATION:PT1H
X-Robots-Tag:noindex
X-PUBLISHED-TTL:PT1H
BEGIN:VTIMEZONE
TZID:America/Chicago
BEGIN:DAYLIGHT
TZOFFSETFROM:-0600
TZOFFSETTO:-0500
TZNAME:CDT
DTSTART:20230312T080000
END:DAYLIGHT
BEGIN:STANDARD
TZOFFSETFROM:-0500
TZOFFSETTO:-0600
TZNAME:CST
DTSTART:20231105T070000
END:STANDARD
END:VTIMEZONE
BEGIN:VEVENT
DTSTART;TZID=America/Chicago:20230510T130000
DTEND;TZID=America/Chicago:20230510T140000
DTSTAMP:20260424T192636
CREATED:20230428T210042Z
LAST-MODIFIED:20230525T143013Z
UID:61171-1683723600-1683727200@scottsdaleinstitute.org
SUMMARY:WEBINAR | Leveraging your Survey and Analytic Strategy to Support Equity
DESCRIPTION:Deirdre Mylod\, PhD\, Executive Director\, Institute for Innovation & SVP of Research & Analytics\, Press Ganey Associates. Join Dr. Mylod for a data strategy playbook to guide PX and enga [...]
URL:https://scottsdaleinstitute.org/event/webinar-leveraging-your-survey-analytic-strategy-to-support-equity/
END:VEVENT
END:VCALENDAR