BEGIN:VCALENDAR
VERSION:2.0
PRODID:-//Scottsdale Institute - ECPv6.8.0//NONSGML v1.0//EN
CALSCALE:GREGORIAN
METHOD:PUBLISH
X-WR-CALNAME:Scottsdale Institute
X-ORIGINAL-URL:https://scottsdaleinstitute.org
X-WR-CALDESC:Events for Scottsdale Institute
REFRESH-INTERVAL;VALUE=DURATION:PT1H
X-Robots-Tag:noindex
X-PUBLISHED-TTL:PT1H
BEGIN:VTIMEZONE
TZID:America/Chicago
BEGIN:DAYLIGHT
TZOFFSETFROM:-0600
TZOFFSETTO:-0500
TZNAME:CDT
DTSTART:20250309T080000
END:DAYLIGHT
BEGIN:STANDARD
TZOFFSETFROM:-0500
TZOFFSETTO:-0600
TZNAME:CST
DTSTART:20251102T070000
END:STANDARD
END:VTIMEZONE
BEGIN:VEVENT
DTSTART;TZID=America/Chicago:20251202T130000
DTEND;TZID=America/Chicago:20251202T140000
DTSTAMP:20260420T131347
CREATED:20251029T151836Z
LAST-MODIFIED:20260323T170941Z
UID:72972-1764680400-1764684000@scottsdaleinstitute.org
SUMMARY:FIRESIDE CHAT | Navigating the Clinical AI Revolution: Quality\, Safety\, and the Role of Humans
DESCRIPTION:David W. Bates\, MD\, MSc\, Medical Director of Clinical and Quality Analysis\, Information Systems\, Partners HealthCare System and Chief\, Division of General Internal Medicine and Prima [...]
URL:https://scottsdaleinstitute.org/event/webinar-navigating-the-clinical-ai-revolution-quality-safety-and-the-role-of-humans/
END:VEVENT
END:VCALENDAR