BEGIN:VCALENDAR
VERSION:2.0
PRODID:-//Scottsdale Institute - ECPv6.8.0//NONSGML v1.0//EN
CALSCALE:GREGORIAN
METHOD:PUBLISH
X-WR-CALNAME:Scottsdale Institute
X-ORIGINAL-URL:https://scottsdaleinstitute.org
X-WR-CALDESC:Events for Scottsdale Institute
REFRESH-INTERVAL;VALUE=DURATION:PT1H
X-Robots-Tag:noindex
X-PUBLISHED-TTL:PT1H
BEGIN:VTIMEZONE
TZID:America/Chicago
BEGIN:DAYLIGHT
TZOFFSETFROM:-0600
TZOFFSETTO:-0500
TZNAME:CDT
DTSTART:20220313T080000
END:DAYLIGHT
BEGIN:STANDARD
TZOFFSETFROM:-0500
TZOFFSETTO:-0600
TZNAME:CST
DTSTART:20221106T070000
END:STANDARD
END:VTIMEZONE
BEGIN:VEVENT
DTSTART;TZID=America/Chicago:20221201T130000
DTEND;TZID=America/Chicago:20221201T140000
DTSTAMP:20260425T213251
CREATED:20221121T170529Z
LAST-MODIFIED:20230525T141823Z
UID:57777-1669899600-1669903200@scottsdaleinstitute.org
SUMMARY:WEBINAR | Equity First: A Strategic Approach to Ensuring Equity for Every Employee and Every Patient at The MetroHealth System
DESCRIPTION:Michelle Mencke\, Manager\, Patient Education and Accessibility Services\, Virtual Care Enterprise; Margie Diaz\, MSN\, RN\, Director\, Inclusion\, Diversity and Health Equity; and Mariele [...]
URL:https://scottsdaleinstitute.org/event/webinar-equity-first-a-strategic-approach-to-ensuring-equity-for-every-employee-and-every-patient-at-the-metrohealth-system/
END:VEVENT
BEGIN:VEVENT
DTSTART;TZID=America/Chicago:20221206T130000
DTEND;TZID=America/Chicago:20221206T140000
DTSTAMP:20260425T213251
CREATED:20221121T233152Z
LAST-MODIFIED:20221212T151540Z
UID:57813-1670331600-1670335200@scottsdaleinstitute.org
SUMMARY:WEBINAR | Age Technology to Address the 'Silver Tsunami' Amidst Clinical Staffing Shortages
DESCRIPTION:Carina Edwards\, CEO\, Quil.  The number of seniors in the U.S. is expected to double – to 95 million – over the next 40 years. Despite this looming “Silver Tsunami\,” we still a [...]
URL:https://scottsdaleinstitute.org/event/webinar-age-technology-to-address-the-silver-tsunamai-amidst-clinical-staffing-shortages/
END:VEVENT
BEGIN:VEVENT
DTSTART;TZID=America/Chicago:20221207T130000
DTEND;TZID=America/Chicago:20221207T140000
DTSTAMP:20260425T213251
CREATED:20221121T213949Z
LAST-MODIFIED:20230525T141845Z
UID:57804-1670418000-1670421600@scottsdaleinstitute.org
SUMMARY:WEBINAR | Preparing for the Next Generation of EHRs
DESCRIPTION:Marc Perlman\, Managing Director; Bharat Sutariya\, Managing Director; and Chris Harris\, Deloitte. Electronic health records (EHRs) first replaced paper medical records in the 1960s\, and [...]
URL:https://scottsdaleinstitute.org/event/webinar-preparing-for-the-next-generation-of-ehrs/
END:VEVENT
BEGIN:VEVENT
DTSTART;TZID=America/Chicago:20221208T130000
DTEND;TZID=America/Chicago:20221208T140000
DTSTAMP:20260425T213251
CREATED:20221122T033013Z
LAST-MODIFIED:20230525T141938Z
UID:57820-1670504400-1670508000@scottsdaleinstitute.org
SUMMARY:WEBINAR | Clinician-Led Governance for Care-Related Predictive Models
DESCRIPTION:Beth Britt\, PhD\, Director of Analytics\, and Sean Mooney\, Chief Research Information Officer\, UW Medicine (WA). Learn about an implemented governance structure and processes for evalua [...]
URL:https://scottsdaleinstitute.org/event/webinar-clinician-led-governance-for-care-related-predictive-models/
END:VEVENT
BEGIN:VEVENT
DTSTART;TZID=America/Chicago:20221212T130000
DTEND;TZID=America/Chicago:20221212T140000
DTSTAMP:20260425T213251
CREATED:20221121T234013Z
LAST-MODIFIED:20251203T015518Z
UID:57815-1670850000-1670853600@scottsdaleinstitute.org
SUMMARY:WEBINAR / FIRESIDE CHAT | What to Expect from the Inflation Reduction Act
DESCRIPTION:Fireside Chat with Joseph J. Fifer\, FHFMA\, CPA\, President & CEO\, Healthcare Financial Management Association\, and Paul H. Keckley\, PhD\, Managing Editor\, The Keckley Report\, moder [...]
URL:https://scottsdaleinstitute.org/event/fireside-chat-what-to-expect-from-the-inflation-reduction-act/
END:VEVENT
BEGIN:VEVENT
DTSTART;TZID=America/Chicago:20221213T130000
DTEND;TZID=America/Chicago:20221213T140000
DTSTAMP:20260425T213251
CREATED:20221121T232338Z
LAST-MODIFIED:20221220T145146Z
UID:57811-1670936400-1670940000@scottsdaleinstitute.org
SUMMARY:WEBINAR | Asynchronous Care as an Access Strategy – What We’ve Learned After One Year at Baptist Health
DESCRIPTION:Brett Oliver\, MD\, CMIO\, and Nick Sarantis\, System Director Digital Health\, Baptist Health.  In 2021\, Baptist Health (KY/IN) greatly expanded their ability to perform asynchronous eV [...]
URL:https://scottsdaleinstitute.org/event/webinar-asynchronous-care-as-an-access-strategy-what-weve-learned-after-one-year/
END:VEVENT
BEGIN:VEVENT
DTSTART;TZID=America/Chicago:20221214T130000
DTEND;TZID=America/Chicago:20221214T140000
DTSTAMP:20260425T213251
CREATED:20221209T144043Z
LAST-MODIFIED:20221220T151645Z
UID:58056-1671022800-1671026400@scottsdaleinstitute.org
SUMMARY:WEBINAR | Developing an Analytic Process to Help Address Social Drivers of Health at The MetroHealth System
DESCRIPTION:Nabil Chehade\, MD\, MSBS\, Interim Chief Executive Officer; Executive Vice President\, Chief Population and Digital Health; James Misak\, MD\, Assistant Professor\, Institute for H.O.P.E. [...]
URL:https://scottsdaleinstitute.org/event/webinar-developing-an-analytic-process-to-help-address-social-drivers-of-health-at-the-metrohealth-system/
END:VEVENT
BEGIN:VEVENT
DTSTART;TZID=America/Chicago:20221220T130000
DTEND;TZID=America/Chicago:20221220T140000
DTSTAMP:20260425T213251
CREATED:20221123T221251Z
LAST-MODIFIED:20241001T173907Z
UID:57854-1671541200-1671544800@scottsdaleinstitute.org
SUMMARY:WEBINAR | Ochsner Health’s Healthy State by 2030 Collective Impact Initiative
DESCRIPTION:Leonardo Seoane\, MD\, Executive Vice President\, Chief Academic Officer\, Ochsner Health and Interim CEO\, Ochsner LSU North Health System. Ochsner Health has taken to heart its commitme [...]
URL:https://scottsdaleinstitute.org/event/webinar-ochsner-healths-healthy-state-by-2030-collective-impact-initiative/
END:VEVENT
END:VCALENDAR