BEGIN:VCALENDAR
VERSION:2.0
PRODID:-//Scottsdale Institute - ECPv6.8.0//NONSGML v1.0//EN
CALSCALE:GREGORIAN
METHOD:PUBLISH
X-ORIGINAL-URL:https://scottsdaleinstitute.org
X-WR-CALDESC:Events for Scottsdale Institute
REFRESH-INTERVAL;VALUE=DURATION:PT1H
X-Robots-Tag:noindex
X-PUBLISHED-TTL:PT1H
BEGIN:VTIMEZONE
TZID:America/Chicago
BEGIN:DAYLIGHT
TZOFFSETFROM:-0600
TZOFFSETTO:-0500
TZNAME:CDT
DTSTART:20260308T080000
END:DAYLIGHT
BEGIN:STANDARD
TZOFFSETFROM:-0500
TZOFFSETTO:-0600
TZNAME:CST
DTSTART:20261101T070000
END:STANDARD
END:VTIMEZONE
BEGIN:VEVENT
DTSTART;TZID=America/Chicago:20260318T130000
DTEND;TZID=America/Chicago:20260318T140000
DTSTAMP:20260420T070855
CREATED:20260212T145006Z
LAST-MODIFIED:20260318T192618Z
UID:75001-1773838800-1773842400@scottsdaleinstitute.org
SUMMARY:WEBINAR | Connected Care: Driving Impact with Modern Interoperability and AI
DESCRIPTION:In a time of increasing patient complexity and workforce strain\, the true value of healthcare technology is no longer measured by the mere existence of digital data\, but by its ability t [...]
URL:https://scottsdaleinstitute.org/event/webinar-connected-care-driving-impact-with-modern-interoperability-and-ai/
END:VEVENT
BEGIN:VEVENT
DTSTART;TZID=America/Chicago:20260324T130000
DTEND;TZID=America/Chicago:20260324T140000
DTSTAMP:20260420T070855
CREATED:20260218T163541Z
LAST-MODIFIED:20260324T192610Z
UID:75128-1774357200-1774360800@scottsdaleinstitute.org
SUMMARY:WEBINAR | ECU Health Model of Nimble AI Governance to Avoid “Bureaucratic Theatre”
DESCRIPTION:Patrick Rogers\, Director\, Enterprise Data & Analytics; and John Hanna\, MD\, Associate CMIO\, ECU Health. This webinar describes how ECU Health is transforming their AI governance to sup [...]
URL:https://scottsdaleinstitute.org/event/webinar-ecu-health-model-of-nimble-ai-governance-to-avoid-bureaucratic-theatre/
END:VEVENT
BEGIN:VEVENT
DTSTART;TZID=America/Chicago:20260325T130000
DTEND;TZID=America/Chicago:20260325T140000
DTSTAMP:20260420T070855
CREATED:20260218T165550Z
LAST-MODIFIED:20260325T200929Z
UID:75137-1774443600-1774447200@scottsdaleinstitute.org
SUMMARY:WEBINAR | From Referrals to Milestones: Building Behavioral Health Pathways in Women’s Health
DESCRIPTION:Scott Domingue\, DNP\, MBA\, RN\, NEA-BC\, COO/CNO\, Behavioral Health\, Texas Health Resources; Laura Bauer\, MHA\, Vice President of Strategy; and Tom Milam\, MD\, Chief Medical Officer\ [...]
URL:https://scottsdaleinstitute.org/event/webinar-from-referrals-to-milestones-building-behavioral-health-protocols-in-womens-health/
END:VEVENT
BEGIN:VEVENT
DTSTART;TZID=America/Chicago:20260326T130000
DTEND;TZID=America/Chicago:20260326T140000
DTSTAMP:20260420T070855
CREATED:20260310T020005Z
LAST-MODIFIED:20260326T194503Z
UID:75480-1774530000-1774533600@scottsdaleinstitute.org
SUMMARY:WEBINAR | Solving the Healthcare Workforce Puzzle
DESCRIPTION:Gretchen Brown\, VP\, Chief Nursing Information Officer\, Stanford Medicine; and Courtney Green\, MSN\, RN\, NE-BC\, SVP\, Nursing & Healthcare Workforce Management Solutions\, Qgenda. Hea [...]
URL:https://scottsdaleinstitute.org/event/webinar-solving-the-healthcare-workforce-puzzle/
END:VEVENT
BEGIN:VEVENT
DTSTART;TZID=America/Chicago:20260331T130000
DTEND;TZID=America/Chicago:20260331T140000
DTSTAMP:20260420T070855
CREATED:20260218T173458Z
LAST-MODIFIED:20260331T195331Z
UID:75149-1774962000-1774965600@scottsdaleinstitute.org
SUMMARY:WEBINAR | Building the Connected Care Team of Tomorrow- Virtual Care at University Hospitals
DESCRIPTION:Brian Nelson\, MHA\, BSN\, RN\, Program Manager; Lauren Yanus\, BSN\, BA\, RN\, CPN\, Platform Lead\, Veale Healthcare Transformation Institute\, University Hospitals (UH); and Elizabeth G [...]
URL:https://scottsdaleinstitute.org/event/webinar-building-the-connected-care-team-of-tomorrow-virtual-care/
END:VEVENT
END:VCALENDAR