BEGIN:VCALENDAR
VERSION:2.0
PRODID:-//Scottsdale Institute - ECPv6.8.0//NONSGML v1.0//EN
CALSCALE:GREGORIAN
METHOD:PUBLISH
X-WR-CALNAME:Scottsdale Institute
X-ORIGINAL-URL:https://scottsdaleinstitute.org
X-WR-CALDESC:Events for Scottsdale Institute
REFRESH-INTERVAL;VALUE=DURATION:PT1H
X-Robots-Tag:noindex
X-PUBLISHED-TTL:PT1H
BEGIN:VTIMEZONE
TZID:America/Chicago
BEGIN:DAYLIGHT
TZOFFSETFROM:-0600
TZOFFSETTO:-0500
TZNAME:CDT
DTSTART:20230312T080000
END:DAYLIGHT
BEGIN:STANDARD
TZOFFSETFROM:-0500
TZOFFSETTO:-0600
TZNAME:CST
DTSTART:20231105T070000
END:STANDARD
END:VTIMEZONE
BEGIN:VEVENT
DTSTART;TZID=America/Chicago:20230308T120000
DTEND;TZID=America/Chicago:20230308T130000
DTSTAMP:20260425T180223
CREATED:20230221T185643Z
LAST-MODIFIED:20230308T214932Z
UID:59642-1678276800-1678280400@scottsdaleinstitute.org
SUMMARY:WEBINAR | Note Quality in the EHR Era at BayCare
DESCRIPTION:Alan Weiss\, MD\, MBA\, FACP\, VP & CMIO\, BayCare Health System There is controversy about whether electronic health records (EHRs) improve the quality of notes.  While some people beli [...]
URL:https://scottsdaleinstitute.org/event/webinar-for-the-note-quality-in-an-ehr-era/
END:VEVENT
END:VCALENDAR