BEGIN:VCALENDAR
VERSION:2.0
PRODID:-//Scottsdale Institute - ECPv6.8.0//NONSGML v1.0//EN
CALSCALE:GREGORIAN
METHOD:PUBLISH
X-WR-CALNAME:Scottsdale Institute
X-ORIGINAL-URL:https://scottsdaleinstitute.org
X-WR-CALDESC:Events for Scottsdale Institute
REFRESH-INTERVAL;VALUE=DURATION:PT1H
X-Robots-Tag:noindex
X-PUBLISHED-TTL:PT1H
BEGIN:VTIMEZONE
TZID:America/Chicago
BEGIN:DAYLIGHT
TZOFFSETFROM:-0600
TZOFFSETTO:-0500
TZNAME:CDT
DTSTART:20230312T080000
END:DAYLIGHT
BEGIN:STANDARD
TZOFFSETFROM:-0500
TZOFFSETTO:-0600
TZNAME:CST
DTSTART:20231105T070000
END:STANDARD
END:VTIMEZONE
BEGIN:VEVENT
DTSTART;TZID=America/Chicago:20230718T130000
DTEND;TZID=America/Chicago:20230718T140000
DTSTAMP:20260425T130438
CREATED:20230616T143348Z
LAST-MODIFIED:20250319T193733Z
UID:62080-1689685200-1689688800@scottsdaleinstitute.org
SUMMARY:WEBINAR | The 5 Disciplines of Inclusive Hospitals: How Diverse and Equitable Healthcare Systems Will Transform People's Health
DESCRIPTION:Andrés Tapia\, Senior Client Partner\, Global DE&I Strategist; and Fayruz Kirtzman\, Senior Client Partner\, Korn Ferry. The obvious case for diversity\, equity\, and inclusion in healthc [...]
URL:https://scottsdaleinstitute.org/event/webinar-the-5-disciplines-of-inclusive-hospitals-how-diverse-and-equitable-healthcare-systems-will-transform-peoples-health/
END:VEVENT
END:VCALENDAR