BEGIN:VCALENDAR
VERSION:2.0
PRODID:-//Scottsdale Institute - ECPv6.8.0//NONSGML v1.0//EN
CALSCALE:GREGORIAN
METHOD:PUBLISH
X-WR-CALNAME:Scottsdale Institute
X-ORIGINAL-URL:https://scottsdaleinstitute.org
X-WR-CALDESC:Events for Scottsdale Institute
REFRESH-INTERVAL;VALUE=DURATION:PT1H
X-Robots-Tag:noindex
X-PUBLISHED-TTL:PT1H
BEGIN:VTIMEZONE
TZID:America/Chicago
BEGIN:DAYLIGHT
TZOFFSETFROM:-0600
TZOFFSETTO:-0500
TZNAME:CDT
DTSTART:20230312T080000
END:DAYLIGHT
BEGIN:STANDARD
TZOFFSETFROM:-0500
TZOFFSETTO:-0600
TZNAME:CST
DTSTART:20231105T070000
END:STANDARD
END:VTIMEZONE
BEGIN:VEVENT
DTSTART;TZID=America/Chicago:20230926T130000
DTEND;TZID=America/Chicago:20230926T140000
DTSTAMP:20260425T081203
CREATED:20230809T151128Z
LAST-MODIFIED:20250319T192312Z
UID:62629-1695733200-1695736800@scottsdaleinstitute.org
SUMMARY:WEBINAR | Pragmatic and Aspirational Telemedicine That Transcends Urban and Rural Hospital
DESCRIPTION:Derick Ziegler\, FACHE\, Vice President and Chief Transformation Officer; Stacy Hammet\, HMBA\, MSN\, RN\, System Telehealth Administrator\, Baptist Memorial Health Care; and Narinder Sing [...]
URL:https://scottsdaleinstitute.org/event/webinar-pragmatic-and-aspirational-telemedicine-that-transcends-urban-and-rural-hospital/
END:VEVENT
END:VCALENDAR