BEGIN:VCALENDAR
VERSION:2.0
PRODID:-//Scottsdale Institute - ECPv6.8.0//NONSGML v1.0//EN
CALSCALE:GREGORIAN
METHOD:PUBLISH
X-ORIGINAL-URL:https://scottsdaleinstitute.org
X-WR-CALDESC:Events for Scottsdale Institute
REFRESH-INTERVAL;VALUE=DURATION:PT1H
X-Robots-Tag:noindex
X-PUBLISHED-TTL:PT1H
BEGIN:VTIMEZONE
TZID:America/Chicago
BEGIN:DAYLIGHT
TZOFFSETFROM:-0600
TZOFFSETTO:-0500
TZNAME:CDT
DTSTART:20230312T080000
END:DAYLIGHT
BEGIN:STANDARD
TZOFFSETFROM:-0500
TZOFFSETTO:-0600
TZNAME:CST
DTSTART:20231105T070000
END:STANDARD
END:VTIMEZONE
BEGIN:VEVENT
DTSTART;TZID=America/Chicago:20230927T130000
DTEND;TZID=America/Chicago:20230927T140000
DTSTAMP:20260425T081427
CREATED:20230823T134946Z
LAST-MODIFIED:20230927T195027Z
UID:62872-1695819600-1695823200@scottsdaleinstitute.org
SUMMARY:WEBINAR | Closing Care Gaps with Conversational AI\, Inclusive Interfaces\, and Meaningful Patient Engagements
DESCRIPTION:Freddie Feldman\, Director\, Voice & Conversational Interfaces\, Wolters Kluwer Health. Diversity gaps in health and wellness conversational AI can impact patient engagement and the compl [...]
URL:https://scottsdaleinstitute.org/event/webinar-closing-care-gaps-with-conversational-ai-inclusive-interfaces-and-meaningful-patient-engagements/
END:VEVENT
END:VCALENDAR