BEGIN:VCALENDAR
VERSION:2.0
PRODID:-//Scottsdale Institute - ECPv6.8.0//NONSGML v1.0//EN
CALSCALE:GREGORIAN
METHOD:PUBLISH
X-ORIGINAL-URL:https://scottsdaleinstitute.org
X-WR-CALDESC:Events for Scottsdale Institute
REFRESH-INTERVAL;VALUE=DURATION:PT1H
X-Robots-Tag:noindex
X-PUBLISHED-TTL:PT1H
BEGIN:VTIMEZONE
TZID:America/Chicago
BEGIN:DAYLIGHT
TZOFFSETFROM:-0600
TZOFFSETTO:-0500
TZNAME:CDT
DTSTART:20250309T080000
END:DAYLIGHT
BEGIN:STANDARD
TZOFFSETFROM:-0500
TZOFFSETTO:-0600
TZNAME:CST
DTSTART:20251102T070000
END:STANDARD
END:VTIMEZONE
BEGIN:VEVENT
DTSTART;TZID=America/Chicago:20250603T130000
DTEND;TZID=America/Chicago:20250603T140000
DTSTAMP:20260421T034802
CREATED:20250414T174835Z
LAST-MODIFIED:20250707T200426Z
UID:70702-1748955600-1748959200@scottsdaleinstitute.org
SUMMARY:WEBINAR | Empowering Analytics: Unlocking Organizational Potential with the Franchise Model
DESCRIPTION:Join Rev Sellappan\, Vice President of Analytics\, St. Jude Children’s Research Hospital to learn how organizations can supercharge their analytics capabilities using a franchise operat [...]
URL:https://scottsdaleinstitute.org/event/june-3-1-2-pm-ct-webinar-empowering-analytics-unlocking-organizational-potential-with-the-franchise-model/
END:VEVENT
END:VCALENDAR