BEGIN:VCALENDAR
VERSION:2.0
PRODID:-//Scottsdale Institute - ECPv6.8.0//NONSGML v1.0//EN
CALSCALE:GREGORIAN
METHOD:PUBLISH
X-ORIGINAL-URL:https://scottsdaleinstitute.org
X-WR-CALDESC:Events for Scottsdale Institute
REFRESH-INTERVAL;VALUE=DURATION:PT1H
X-Robots-Tag:noindex
X-PUBLISHED-TTL:PT1H
BEGIN:VTIMEZONE
TZID:America/Chicago
BEGIN:DAYLIGHT
TZOFFSETFROM:-0600
TZOFFSETTO:-0500
TZNAME:CDT
DTSTART:20250309T080000
END:DAYLIGHT
BEGIN:STANDARD
TZOFFSETFROM:-0500
TZOFFSETTO:-0600
TZNAME:CST
DTSTART:20251102T070000
END:STANDARD
BEGIN:DAYLIGHT
TZOFFSETFROM:-0600
TZOFFSETTO:-0500
TZNAME:CDT
DTSTART:20260308T080000
END:DAYLIGHT
BEGIN:STANDARD
TZOFFSETFROM:-0500
TZOFFSETTO:-0600
TZNAME:CST
DTSTART:20261101T070000
END:STANDARD
END:VTIMEZONE
BEGIN:VEVENT
DTSTART;TZID=America/Chicago:20251218T130000
DTEND;TZID=America/Chicago:20251218T140000
DTSTAMP:20260420T204528
CREATED:20251106T171249Z
LAST-MODIFIED:20251218T204316Z
UID:73120-1766062800-1766066400@scottsdaleinstitute.org
SUMMARY:WEBINAR | Here Health: Creating a Virtual-First Care Experience From Within A Health System
DESCRIPTION:Brad Crotty\, MD\, MPH\, FACP\, VP\, Chief Digital Officer; Melek Somai\, MD\, MPH\, Assistant Professor of Medicine & Chief Technology Officer; and Toni Hofhine\, Business Operations Mana [...]
URL:https://scottsdaleinstitute.org/event/webinar-here-health-creating-a-virtual-first-care-experience-from-within-a-health-system/
END:VEVENT
BEGIN:VEVENT
DTSTART;TZID=America/Chicago:20260107T130000
DTEND;TZID=America/Chicago:20260107T140000
DTSTAMP:20260420T204528
CREATED:20251106T170338Z
LAST-MODIFIED:20260107T203155Z
UID:73117-1767790800-1767794400@scottsdaleinstitute.org
SUMMARY:WEBINAR | The MOTHeRS Project: Maternal Outreach through Telehealth for Rural Sites
DESCRIPTION:Sy Atezaz Saeed\, MD\, MS\, FACPsych\, Professor and Chair Emeritus\, Department of Psychiatry and Behavioral Medicine\, Brody School of Medicine. Women face significant challenges in acce [...]
URL:https://scottsdaleinstitute.org/event/webinar-the-mothers-project-maternal-outreach-through-telehealth-for-rural-sites/
END:VEVENT
BEGIN:VEVENT
DTSTART;TZID=America/Chicago:20260113T130000
DTEND;TZID=America/Chicago:20260113T140000
DTSTAMP:20260420T204528
CREATED:20251116T214731Z
LAST-MODIFIED:20260323T170940Z
UID:73403-1768309200-1768312800@scottsdaleinstitute.org
SUMMARY:WEBINAR | Reimagining Medical Coding: The Autonomous Revolution in Healthcare
DESCRIPTION:Anne Robinson\, VP\, Middle Revenue Cycle Innovation; and Melinda Bowman\, Director\, CAC and AI Technology Implementation & Optimization\, Ensemble. Join us as we explore how autonomous m [...]
URL:https://scottsdaleinstitute.org/event/webinar-reimagining-medical-coding-the-autonomous-revolution-in-healthcare/
END:VEVENT
BEGIN:VEVENT
DTSTART;TZID=America/Chicago:20260114T130000
DTEND;TZID=America/Chicago:20260114T140000
DTSTAMP:20260420T204528
CREATED:20251118T171826Z
LAST-MODIFIED:20260114T204827Z
UID:73444-1768395600-1768399200@scottsdaleinstitute.org
SUMMARY:WEBINAR | Transforming Parkinson’s Care at Cedars Sinai: Remote Monitoring\, Therapy Optimization\, and Real-World Impact
DESCRIPTION:Join Michele Tagliati\, MD\, Head of Movement Disorders at Cedars-Sinai\, and Caroline Cake\, CEO and co-founder at Kneu Health for an in-depth discussion on how remote monitoring is resha [...]
URL:https://scottsdaleinstitute.org/event/webinar-transforming-parkinsons-care-remote-monitoring-therapy-optimization-and-real-world-impact/
END:VEVENT
BEGIN:VEVENT
DTSTART;TZID=America/Chicago:20260115T130000
DTEND;TZID=America/Chicago:20260115T140000
DTSTAMP:20260420T204528
CREATED:20251130T224258Z
LAST-MODIFIED:20260115T204929Z
UID:73553-1768482000-1768485600@scottsdaleinstitute.org
SUMMARY:WEBINAR | Building the Data Foundation for AI in Behavioral Health: From Measurement to Action
DESCRIPTION:Kathleen “Kathi” Cox\, COO\, Ambulatory & Virtual Channel\, Texas Health Resources; David Bartley\, Chief Solutions Officer; and Andy Flanagan\, CEO\, Iris Telehealth. As health system [...]
URL:https://scottsdaleinstitute.org/event/webinar-building-the-data-foundation-for-ai-in-behavioral-health-from-measurement-to-action/
END:VEVENT
BEGIN:VEVENT
DTSTART;TZID=America/Chicago:20260120T130000
DTEND;TZID=America/Chicago:20260120T140000
DTSTAMP:20260420T204528
CREATED:20251205T033957Z
LAST-MODIFIED:20260120T210032Z
UID:73628-1768914000-1768917600@scottsdaleinstitute.org
SUMMARY:Fireside Chat: From Strategy to Value: Implementing AI in Complex Health Systems
DESCRIPTION:Duke Health’s SVP & Chief Digital Officer\, Jeffery Ferranti\, MD\, MS joins Kirby Partners CEO\, Judy Kirby for this timely discussion. He shares practical insights on Adopting AI in a  [...]
URL:https://scottsdaleinstitute.org/event/fireside-chat-jeffery-ferranti-md-ms-svp-and-chief-digital-officer-duke-health/
END:VEVENT
BEGIN:VEVENT
DTSTART;TZID=America/Chicago:20260121T130000
DTEND;TZID=America/Chicago:20260121T140000
DTSTAMP:20260420T204528
CREATED:20251216T004300Z
LAST-MODIFIED:20260121T214429Z
UID:74044-1769000400-1769004000@scottsdaleinstitute.org
SUMMARY:WEBINAR | AI That Amplifies: Re-engineering Hospital Care Coordination Workflows as a Foundation for Clinical Data Intelligence
DESCRIPTION:Join Teri Sholder\, RN\, MHA\, CEO at Sholder Healthcare\, and Kai Romero\, MD\, Head of Clinical Success at Evidently for a deep-dive into how the team approaches re-engineering Hospital  [...]
URL:https://scottsdaleinstitute.org/event/webinar-ai-that-amplifies-re-engineering-hospital-care-coordination-workflows-as-a-foundation-for-clinical-data-intelligence/
END:VEVENT
BEGIN:VEVENT
DTSTART;TZID=America/Chicago:20260122T130000
DTEND;TZID=America/Chicago:20260122T140000
DTSTAMP:20260420T204528
CREATED:20251123T231807Z
LAST-MODIFIED:20260302T142402Z
UID:73507-1769086800-1769090400@scottsdaleinstitute.org
SUMMARY:WEBINAR | Considerations for Health Systems to Help Bridge the Tech Value Gap
DESCRIPTION:Michael T. Black\, Managing Director; Maulesh Shukla\, Executive Manager\, Deloitte; and Christy Harris Lemak\, PhD\, FACHE\, Executive Vice President\, Scottsdale Institute. Join us as we [...]
URL:https://scottsdaleinstitute.org/event/webinar-considerations-for-health-systems-to-help-bridge-the-tech-value-gap/
END:VEVENT
BEGIN:VEVENT
DTSTART;TZID=America/Chicago:20260127T130000
DTEND;TZID=America/Chicago:20260127T140000
DTSTAMP:20260420T204528
CREATED:20251210T192840Z
LAST-MODIFIED:20260302T210440Z
UID:73779-1769518800-1769522400@scottsdaleinstitute.org
SUMMARY:WEBINAR | Scaling AI-Assisted Infection Prevention: CLABSI Case Review and Beyond
DESCRIPTION:John Doerpinghaus\, Director; Jathan Merkel\, Managing Consultant; and Avery Ashby\, Managing Director\, Impact Advisors. Many health systems are testing Generative AI (GenAI) and large la [...]
URL:https://scottsdaleinstitute.org/event/webinar-scaling-ai-assisted-infection-prevention-clabsi-case-review-and-beyond/
END:VEVENT
BEGIN:VEVENT
DTSTART;TZID=America/Chicago:20260129T130000
DTEND;TZID=America/Chicago:20260129T140000
DTSTAMP:20260420T204528
CREATED:20251210T215030Z
LAST-MODIFIED:20260208T203626Z
UID:73785-1769691600-1769695200@scottsdaleinstitute.org
SUMMARY:FIRESIDE CHAT | The Great Healthcare Disruption: The Good (mostly) the Bad and the Ugly About Tomorrow’s Healthcare
DESCRIPTION:Join Marschall Runge\, MD\, PhD\, former CEO of Michigan Medicine and Dean of the University of Michigan Medical School\, Bryan Kirby\, VP\, Kirby Partners and Christy Harris Lemak\, PhD\, [...]
URL:https://scottsdaleinstitute.org/event/webinar-a-fireside-chat-with-dr-marschall-runge-former-ceo-of-michigan-medicine-and-dean-of-the-university-of-michigan-medical-school/
END:VEVENT
BEGIN:VEVENT
DTSTART;TZID=America/Chicago:20260203T130000
DTEND;TZID=America/Chicago:20260203T140000
DTSTAMP:20260420T204528
CREATED:20251211T205032Z
LAST-MODIFIED:20260218T145832Z
UID:73880-1770123600-1770127200@scottsdaleinstitute.org
SUMMARY:WEBINAR | AI-powered Risk Adjustment at University of Miami Health System
DESCRIPTION:Hospital and health system leaders increasingly view patient population risk adjustment as a strategic health system imperative. However\, while they often have a high-level understanding  [...]
URL:https://scottsdaleinstitute.org/event/webinar-ai-powered-risk-adjustment-at-university-of-miami-health-system-abstract/
END:VEVENT
BEGIN:VEVENT
DTSTART;TZID=America/Chicago:20260204T130000
DTEND;TZID=America/Chicago:20260204T140000
DTSTAMP:20260420T204528
CREATED:20251027T142049Z
LAST-MODIFIED:20260204T215335Z
UID:72931-1770210000-1770213600@scottsdaleinstitute.org
SUMMARY:WEBINAR | Leading with Love: The Movement\, the Momentum\, and the Road Ahead
DESCRIPTION:Apurv Gupta\, MD\, MPH\, Co-Founder and Board Member\, A Loving Organization; Maureen Bisognano\, President Emerita and Senior Fellow\, Institute for Healthcare Improvement (IHI); Andrea W [...]
URL:https://scottsdaleinstitute.org/event/webinar-leading-with-love-the-movement-the-momentum-and-the-road-ahead/
END:VEVENT
BEGIN:VEVENT
DTSTART;TZID=America/Chicago:20260205T130000
DTEND;TZID=America/Chicago:20260205T140000
DTSTAMP:20260420T204528
CREATED:20260112T153529Z
LAST-MODIFIED:20260218T145927Z
UID:74362-1770296400-1770300000@scottsdaleinstitute.org
SUMMARY:WEBINAR | Innovating with Intention: How Culture and AI Are Reshaping Patient Access at Houston Methodist
DESCRIPTION:S. Nicholas Desai\, DPM\, MBA\, FACFAS\, COO\, Chief Medical and Quality Officer\, Houston Methodist Cypress Hospital; and LeTesha Montgomery\, RN\, MHA\, FACHE\, Senior Vice President\, H [...]
URL:https://scottsdaleinstitute.org/event/webinar-innovating-with-intention-how-culture-and-ai-are-reshaping-patient-access-at-houston-methodist/
END:VEVENT
BEGIN:VEVENT
DTSTART;TZID=America/Chicago:20260211T130000
DTEND;TZID=America/Chicago:20260211T140000
DTSTAMP:20260420T204528
CREATED:20251123T234056Z
LAST-MODIFIED:20260323T170939Z
UID:73510-1770814800-1770818400@scottsdaleinstitute.org
SUMMARY:WEBINAR | Froedtert Health -  Improving EHR Engagement with Epic Specialty Sprints
DESCRIPTION:Erin Banaszak\, Team Supervisor; Christopher Jasen\, Director\, Epic Ambulatory Clinical Applications; and Keith Woeltje\, MD\, PhD\, Vice President and Chief Medical Informatics Officer ( [...]
URL:https://scottsdaleinstitute.org/event/webinar-improving-ehr-engagement-with-epic-specialty-sprints/
END:VEVENT
BEGIN:VEVENT
DTSTART;TZID=America/Chicago:20260212T130000
DTEND;TZID=America/Chicago:20260212T140000
DTSTAMP:20260420T204528
CREATED:20251218T032504Z
LAST-MODIFIED:20260218T150015Z
UID:74137-1770901200-1770904800@scottsdaleinstitute.org
SUMMARY:WEBINAR | ACCESS Unlocked: CMS’s Bold New Model for Tech-Enabled Chronic Care Management
DESCRIPTION:Jared Augenstein\, Senior Managing Director and Randi Seigel\, Partner\, Manatt provide an overview of CMMI’s new ACCESS (Advancing Chronic Care with Effective\, Scalable Solutions) Mode [...]
URL:https://scottsdaleinstitute.org/event/webinar-access-unlocked-cmss-bold-new-model-for-tech-enable-chronic-care-management/
END:VEVENT
BEGIN:VEVENT
DTSTART;TZID=America/Chicago:20260217T130000
DTEND;TZID=America/Chicago:20260217T140000
DTSTAMP:20260420T204528
CREATED:20251218T030121Z
LAST-MODIFIED:20260218T150125Z
UID:74134-1771333200-1771336800@scottsdaleinstitute.org
SUMMARY:WEBINAR | Scaling Intelligence: CommonSpirit's Journey Governing 230+ AI Tools for Better Health Outcomes
DESCRIPTION:CommonSpirit Health is at the forefront of AI adoption in healthcare\, with over 230 artificial intelligence tools actively enhancing operations and patient care. Daniel Barchi\, SEVP\, C [...]
URL:https://scottsdaleinstitute.org/event/webinar-scaling-intelligence-commonspirits-journey-governing-230-ai-tools-for-better-health-outcomes/
END:VEVENT
BEGIN:VEVENT
DTSTART;TZID=America/Chicago:20260218T130000
DTEND;TZID=America/Chicago:20260218T140000
DTSTAMP:20260420T204528
CREATED:20260107T164031Z
LAST-MODIFIED:20260218T204824Z
UID:74300-1771419600-1771423200@scottsdaleinstitute.org
SUMMARY:WEBINAR | Governance\, Education\, and Personalization: From Correlation to Causation
DESCRIPTION:Philip Bernard\, MD\, CMIO; Jimmie Glorioso\, MS\, CHCIO\, CPHIMS\, VP\, Applications; and Vishal Patel\, Director\, Informatics Education\, Children’s Health. In this webinar\, Governa [...]
URL:https://scottsdaleinstitute.org/event/webinar-governance-education-and-personalization-from-correlation-to-causation/
END:VEVENT
BEGIN:VEVENT
DTSTART;TZID=America/Chicago:20260224T130000
DTEND;TZID=America/Chicago:20260224T140000
DTSTAMP:20260420T204528
CREATED:20260121T161530Z
LAST-MODIFIED:20260224T211127Z
UID:74543-1771938000-1771941600@scottsdaleinstitute.org
SUMMARY:WEBINAR | The New ED Throughput Equation: Why Behavioral Health Now Defines Emergency Department Performance
DESCRIPTION:Emergency departments are increasingly on the front lines of the behavioral health crisis — and the impact is reshaping how emergency medicine is practiced. Psychiatric presentations now [...]
URL:https://scottsdaleinstitute.org/event/webinar-the-new-ed-throughput-equation-why-behavioral-health-now-defines-emergency-department-performance/
END:VEVENT
BEGIN:VEVENT
DTSTART;TZID=America/Chicago:20260226T130000
DTEND;TZID=America/Chicago:20260226T140000
DTSTAMP:20260420T204528
CREATED:20251204T004533Z
LAST-MODIFIED:20260323T170939Z
UID:73616-1772110800-1772114400@scottsdaleinstitute.org
SUMMARY:WEBINAR | Innovating for Impact: Creating a System for Long-Term Solutions to the Opioid Crisis\, Not Just More Bandaids
DESCRIPTION:Holly Geyer\, MD\, FASAM\, Associate Professor of Medicine\, Mayo Clinic; Craig Norquist\, MD\, Fellowship Director\, Chief Medical Information Officer\, HonorHealth; and Koran Hardimon\,  [...]
URL:https://scottsdaleinstitute.org/event/webinar-innovating-for-impact-creating-a-system-for-long-term-solutions/
END:VEVENT
BEGIN:VEVENT
DTSTART;TZID=America/Chicago:20260318T130000
DTEND;TZID=America/Chicago:20260318T140000
DTSTAMP:20260420T204528
CREATED:20260212T145006Z
LAST-MODIFIED:20260318T192618Z
UID:75001-1773838800-1773842400@scottsdaleinstitute.org
SUMMARY:WEBINAR | Connected Care: Driving Impact with Modern Interoperability and AI
DESCRIPTION:In a time of increasing patient complexity and workforce strain\, the true value of healthcare technology is no longer measured by the mere existence of digital data\, but by its ability t [...]
URL:https://scottsdaleinstitute.org/event/webinar-connected-care-driving-impact-with-modern-interoperability-and-ai/
END:VEVENT
BEGIN:VEVENT
DTSTART;TZID=America/Chicago:20260324T130000
DTEND;TZID=America/Chicago:20260324T140000
DTSTAMP:20260420T204528
CREATED:20260218T163541Z
LAST-MODIFIED:20260324T192610Z
UID:75128-1774357200-1774360800@scottsdaleinstitute.org
SUMMARY:WEBINAR | ECU Health Model of Nimble AI Governance to Avoid “Bureaucratic Theatre”
DESCRIPTION:Patrick Rogers\, Director\, Enterprise Data & Analytics; and John Hanna\, MD\, Associate CMIO\, ECU Health. This webinar describes how ECU Health is transforming their AI governance to sup [...]
URL:https://scottsdaleinstitute.org/event/webinar-ecu-health-model-of-nimble-ai-governance-to-avoid-bureaucratic-theatre/
END:VEVENT
BEGIN:VEVENT
DTSTART;TZID=America/Chicago:20260325T130000
DTEND;TZID=America/Chicago:20260325T140000
DTSTAMP:20260420T204528
CREATED:20260218T165550Z
LAST-MODIFIED:20260325T200929Z
UID:75137-1774443600-1774447200@scottsdaleinstitute.org
SUMMARY:WEBINAR | From Referrals to Milestones: Building Behavioral Health Pathways in Women’s Health
DESCRIPTION:Scott Domingue\, DNP\, MBA\, RN\, NEA-BC\, COO/CNO\, Behavioral Health\, Texas Health Resources; Laura Bauer\, MHA\, Vice President of Strategy; and Tom Milam\, MD\, Chief Medical Officer\ [...]
URL:https://scottsdaleinstitute.org/event/webinar-from-referrals-to-milestones-building-behavioral-health-protocols-in-womens-health/
END:VEVENT
BEGIN:VEVENT
DTSTART;TZID=America/Chicago:20260326T130000
DTEND;TZID=America/Chicago:20260326T140000
DTSTAMP:20260420T204528
CREATED:20260310T020005Z
LAST-MODIFIED:20260326T194503Z
UID:75480-1774530000-1774533600@scottsdaleinstitute.org
SUMMARY:WEBINAR | Solving the Healthcare Workforce Puzzle
DESCRIPTION:Gretchen Brown\, VP\, Chief Nursing Information Officer\, Stanford Medicine; and Courtney Green\, MSN\, RN\, NE-BC\, SVP\, Nursing & Healthcare Workforce Management Solutions\, Qgenda. Hea [...]
URL:https://scottsdaleinstitute.org/event/webinar-solving-the-healthcare-workforce-puzzle/
END:VEVENT
BEGIN:VEVENT
DTSTART;TZID=America/Chicago:20260331T130000
DTEND;TZID=America/Chicago:20260331T140000
DTSTAMP:20260420T204528
CREATED:20260218T173458Z
LAST-MODIFIED:20260331T195331Z
UID:75149-1774962000-1774965600@scottsdaleinstitute.org
SUMMARY:WEBINAR | Building the Connected Care Team of Tomorrow- Virtual Care at University Hospitals
DESCRIPTION:Brian Nelson\, MHA\, BSN\, RN\, Program Manager; Lauren Yanus\, BSN\, BA\, RN\, CPN\, Platform Lead\, Veale Healthcare Transformation Institute\, University Hospitals (UH); and Elizabeth G [...]
URL:https://scottsdaleinstitute.org/event/webinar-building-the-connected-care-team-of-tomorrow-virtual-care/
END:VEVENT
BEGIN:VEVENT
DTSTART;TZID=America/Chicago:20260401T130000
DTEND;TZID=America/Chicago:20260401T140000
DTSTAMP:20260420T204528
CREATED:20260302T204226Z
LAST-MODIFIED:20260401T220008Z
UID:75345-1775048400-1775052000@scottsdaleinstitute.org
SUMMARY:FIRESIDE CHAT | Violence as a Public Health Crisis: What Healthcare Leaders Must Do Now
DESCRIPTION:Gun violence\, immigration raids\, rising incivility\, and escalating violence within healthcare settings are issues no community—or health system—is immune to. As more individuals pre [...]
URL:https://scottsdaleinstitute.org/event/fireside-chat-violence-as-a-public-health-crisis-what-healthcare-leaders-must-do-now/
ATTACH;FMTTYPE=image/jpeg:https://scottsdaleinstitute.org/wp-content/uploads/2026/03/fsc.jpg
END:VEVENT
BEGIN:VEVENT
DTSTART;TZID=America/Chicago:20260409T130000
DTEND;TZID=America/Chicago:20260409T140000
DTSTAMP:20260420T204528
CREATED:20260309T153121Z
LAST-MODIFIED:20260409T203650Z
UID:75436-1775739600-1775743200@scottsdaleinstitute.org
SUMMARY:WEBINAR | How AI is Being Used to Change Pharmacy Practice
DESCRIPTION:System Chief Pharmacy Officers from Baptist Health System / University of Miami\, Nilesh Desai\, MBA\, BS\, RPh\, CPPS\, CPEL and Ochsner Health\, Debbie Simonson\, PharmD\, discuss their  [...]
URL:https://scottsdaleinstitute.org/event/webinar-how-ai-is-being-used-to-change-pharmacy-practice/
END:VEVENT
BEGIN:VEVENT
DTSTART;TZID=America/Chicago:20260414T130000
DTEND;TZID=America/Chicago:20260414T140000
DTSTAMP:20260420T204528
CREATED:20260320T205039Z
LAST-MODIFIED:20260414T200716Z
UID:75644-1776171600-1776175200@scottsdaleinstitute.org
SUMMARY:WEBINAR | Many Health Care Leaders Are Leaning into Agentic AI As Adoption Hurdles Ease
DESCRIPTION:Jay Bhatt\, Managing Director; Maulesh Shukla\, Executive Manager; Lauren O’Hanlon\, Principal\, Deloitte; and Ashwin Singh\, Vice President\, Revenue Cycle Management\, Jackson Health S [...]
URL:https://scottsdaleinstitute.org/event/webinar-many-health-care-leaders-are-leaning-into-agentic-ai-as-adoption-hurdles-ease/
END:VEVENT
BEGIN:VEVENT
DTSTART;TZID=America/Chicago:20260415T130000
DTEND;TZID=America/Chicago:20260415T140000
DTSTAMP:20260420T204528
CREATED:20260309T154823Z
LAST-MODIFIED:20260415T202644Z
UID:75446-1776258000-1776261600@scottsdaleinstitute.org
SUMMARY:WEBINAR | Partnering for Adoption\, Innovation\, Accountability | Lessons from Leading Health Systems in Front-End Automation
DESCRIPTION:Jessica Godbey\, Vice President of Patient Access\, Carle Health; and Candice Hoshi\, Vice President\, Revenue Cycle\, UCHealth. Health systems are under increasing pressure to modernize f [...]
URL:https://scottsdaleinstitute.org/event/webinar-partnering-for-adoption-innovation-accountability-lessons-from-leading-health-systems-in-front-end-automation/
END:VEVENT
BEGIN:VEVENT
DTSTART;TZID=America/Chicago:20260416T090000
DTEND;TZID=America/Chicago:20260416T100000
DTSTAMP:20260420T204528
CREATED:20260209T155445Z
LAST-MODIFIED:20260416T153934Z
UID:74959-1776330000-1776333600@scottsdaleinstitute.org
SUMMARY:WEBINAR | Inside Trinity Health’s $100M IT Cost Optimization Strategy through Archiving and Decommissioning
DESCRIPTION:Mike Prokic\, Chief IT Strategy Officer; and Nick O’Connor\, Chief Technology Officer\, Trinity Health. Healthcare systems are facing unprecedented financial pressure\, from federal reim [...]
URL:https://scottsdaleinstitute.org/event/webinar-inside-trinity-healths-100m-it-cost-optimization-strategy-through-archiving-and-decommissioning/
END:VEVENT
BEGIN:VEVENT
DTSTART;TZID=America/Chicago:20260421T130000
DTEND;TZID=America/Chicago:20260421T140000
DTSTAMP:20260420T204528
CREATED:20260317T221924Z
LAST-MODIFIED:20260421T001535Z
UID:75587-1776776400-1776780000@scottsdaleinstitute.org
SUMMARY:WEBINAR | Separating Signal from Noise: Building a Real AI Strategy in Healthcare
DESCRIPTION:Artificial intelligence is rapidly moving from experimentation to enterprise priority in healthcare. This session brings a CEO and industry innovator together to unpack what an effective A [...]
URL:https://scottsdaleinstitute.org/event/webinar-separating-signal-from-noise-building-a-real-ai-strategy-in-healthcare/
END:VEVENT
END:VCALENDAR