BEGIN:VCALENDAR
VERSION:2.0
PRODID:-//Scottsdale Institute - ECPv6.8.0//NONSGML v1.0//EN
CALSCALE:GREGORIAN
METHOD:PUBLISH
X-ORIGINAL-URL:https://scottsdaleinstitute.org
X-WR-CALDESC:Events for Scottsdale Institute
REFRESH-INTERVAL;VALUE=DURATION:PT1H
X-Robots-Tag:noindex
X-PUBLISHED-TTL:PT1H
BEGIN:VTIMEZONE
TZID:America/Chicago
BEGIN:DAYLIGHT
TZOFFSETFROM:-0600
TZOFFSETTO:-0500
TZNAME:CDT
DTSTART:20190310T080000
END:DAYLIGHT
BEGIN:STANDARD
TZOFFSETFROM:-0500
TZOFFSETTO:-0600
TZNAME:CST
DTSTART:20191103T070000
END:STANDARD
END:VTIMEZONE
BEGIN:VEVENT
DTSTART;TZID=America/Chicago:20190910T130000
DTEND;TZID=America/Chicago:20190910T140000
DTSTAMP:20260425T081234
CREATED:20190731T172432Z
LAST-MODIFIED:20250319T193737Z
UID:31780-1568120400-1568124000@scottsdaleinstitute.org
SUMMARY:Seeing is Relieving: Digital Reality in Healthcare
DESCRIPTION:Eren Aksu\nEren Aksu\, Manager\, Deloitte Consulting\, LLP.  Virtual and augmented reality\, once considered a novelty for entertainment\, has become one of the most effective emerging te [...]
URL:https://scottsdaleinstitute.org/event/seeing-is-relieving-digital-reality-in-healthcare/
END:VEVENT
BEGIN:VEVENT
DTSTART;TZID=America/Chicago:20190822T130000
DTEND;TZID=America/Chicago:20190822T140000
DTSTAMP:20260425T081234
CREATED:20190701T182459Z
LAST-MODIFIED:20250402T195403Z
UID:31525-1566478800-1566482400@scottsdaleinstitute.org
SUMMARY:Helping Care Teams Thrive Within their EHR at Centura
DESCRIPTION:Scott Raymond\, MHA\, INF\, BSN\, RN\nBret Shillingstad\, MD\, FACS\nScott Raymond\, MHA\, INF\, BSN\, RN\, VP Information Technology\, Centura Health\, and Bret Shillingstad\, MD\, FACS\, [...]
URL:https://scottsdaleinstitute.org/event/helping-care-teams-thrive-within-their-ehr-at-centura/
END:VEVENT
BEGIN:VEVENT
DTSTART;TZID=America/Chicago:20190820T130000
DTEND;TZID=America/Chicago:20190820T140000
DTSTAMP:20260425T081234
CREATED:20190701T182429Z
LAST-MODIFIED:20250402T195403Z
UID:31524-1566306000-1566309600@scottsdaleinstitute.org
SUMMARY:Predicting Congestive Heart Failure Using AI Techniques
DESCRIPTION:Sunil Mallya\, Principal Deep Learning Scientist\, Amazon Web Services\, and Marc Overhage\, MD\, VP Population Health Intelligence Strategy\, Cerner.  Predicting the onset of a serious c [...]
URL:https://scottsdaleinstitute.org/event/predicting-congestive-heart-failure-using-ai-techniques/
END:VEVENT
BEGIN:VEVENT
DTSTART;TZID=America/Chicago:20190814T130000
DTEND;TZID=America/Chicago:20190814T140000
DTSTAMP:20260425T081234
CREATED:20190701T182415Z
LAST-MODIFIED:20250319T193737Z
UID:31523-1565787600-1565791200@scottsdaleinstitute.org
SUMMARY:Innovative Technologies to Manage Social Determinants of Health at Advocate Physician Partners
DESCRIPTION:Alvia Siddiqi\, MD\, FAAFP\, VP Population Health\, and Mike Barbati\, Med Ec & Innovations\, Enterprise Population Health\, Advocate Aurora Health.  There are many factors that impact a  [...]
URL:https://scottsdaleinstitute.org/event/innovative-technologies-to-manage-social-determinants-of-health-at-advocate-physician-partners/
END:VEVENT
BEGIN:VEVENT
DTSTART;TZID=America/Chicago:20190807T130000
DTEND;TZID=America/Chicago:20190807T140000
DTSTAMP:20260425T081234
CREATED:20190708T194044Z
LAST-MODIFIED:20250402T195403Z
UID:31554-1565182800-1565186400@scottsdaleinstitute.org
SUMMARY:Elite Analytics Status at Rush
DESCRIPTION:Bala Hota\, MD\, VP & Chief Analytics Officer\, Rush University Medical Center.  Rush University System for Health achieved the 2018 HIMSS Adoption Model for Analytics Maturity Stage 7\,  [...]
URL:https://scottsdaleinstitute.org/event/elite-analytics-status-at-rush/
END:VEVENT
BEGIN:VEVENT
DTSTART;TZID=America/Chicago:20190806T130000
DTEND;TZID=America/Chicago:20190806T140000
DTSTAMP:20260425T081234
CREATED:20190701T182335Z
LAST-MODIFIED:20250319T193737Z
UID:31517-1565096400-1565100000@scottsdaleinstitute.org
SUMMARY:Network Management: A Strategic Approach to Value-based Care
DESCRIPTION:Matthew Penziner\, Executive Director\, NYUPN Clinically Integrated Network.  For NYUPN\, keeping costs down and quality high meant keeping more of its attributed patients seeing NYUPN ph [...]
URL:https://scottsdaleinstitute.org/event/network-management-a-strategic-approach-to-value-based-care/
END:VEVENT
BEGIN:VEVENT
DTSTART;TZID=America/Chicago:20190731T130000
DTEND;TZID=America/Chicago:20190731T140000
DTSTAMP:20260425T081234
CREATED:20190531T225354Z
LAST-MODIFIED:20250319T193737Z
UID:31138-1564578000-1564581600@scottsdaleinstitute.org
SUMMARY:Children's Minnesota Community Connect: Linking Families\, Resources and Care
DESCRIPTION:Jessica Block\nPam Ross\, JD\, MHA\nJessica Block\, Manager Community Health Programs\, and Pam Ross\, JD\, MHA\, Director Community Health Programs\, Children’s Hospitals & Clinics of M [...]
URL:https://scottsdaleinstitute.org/event/childrens-minnesota-community-connect-linking-families-resources-and-care/
END:VEVENT
BEGIN:VEVENT
DTSTART;TZID=America/Chicago:20190730T130000
DTEND;TZID=America/Chicago:20190730T140000
DTSTAMP:20260425T081234
CREATED:20190429T222607Z
LAST-MODIFIED:20220104T232354Z
UID:30578-1564491600-1564495200@scottsdaleinstitute.org
SUMMARY:Utilizing a Balanced Scorecard for Better BI at CHRISTUS
DESCRIPTION:Dustin Drueckhammer\, Manager Business Intelligence\, and Cindy Neuenschwander\, Senior Data Quality Specialist\, CHRISTUS Health.  In today’s climate\, Business Intelligence (BI) and D [...]
URL:https://scottsdaleinstitute.org/event/utilizing-a-balanced-scorecard-for-better-bi-at-christus/
END:VEVENT
BEGIN:VEVENT
DTSTART;TZID=America/Chicago:20190725T120000
DTEND;TZID=America/Chicago:20190725T130000
DTSTAMP:20260425T081234
CREATED:20190531T224924Z
LAST-MODIFIED:20250402T195403Z
UID:31134-1564056000-1564059600@scottsdaleinstitute.org
SUMMARY:Making the Right Choice:  How to Rate Healthcare Apps
DESCRIPTION:Adam Landman\, MD\nDavid Levine\, MD\nDavid W. Bates\, MD\nAdam Landman\, MD\, CIO\, David Levine\, MD\, Associate Physician\, and David Bates\, MD\, Chief of the Division of General Inter [...]
URL:https://scottsdaleinstitute.org/event/making-the-right-choice-how-to-rate-healthcare-apps/
END:VEVENT
BEGIN:VEVENT
DTSTART;TZID=America/Chicago:20190724T130000
DTEND;TZID=America/Chicago:20190724T140000
DTSTAMP:20260425T081234
CREATED:20190531T224727Z
LAST-MODIFIED:20250402T195403Z
UID:31132-1563973200-1563976800@scottsdaleinstitute.org
SUMMARY:What Nurses Need: Bridging the Gap Between Technology and Clinical Staff to Improve Patient Outcomes at CommonSpirit
DESCRIPTION:Ann Shepard\, RNC\, MSN\nNancy Beale\, MSN\, RN-BC\nAnthony F. Oliva\, DO\, MMM\, FACPE\nAnn Shepard\, RNC\, MSN\, VP & CNIO\, CommonSpirit Health\, Nancy Beale\, MSN\, RN-BC\, President\, [...]
URL:https://scottsdaleinstitute.org/event/what-nurses-need-bridging-the-gap-between-technology-and-clinical-staff-to-improve-patient-outcomes-at-commonspirit/
END:VEVENT
BEGIN:VEVENT
DTSTART;TZID=America/Chicago:20190723T130000
DTEND;TZID=America/Chicago:20190723T140000
DTSTAMP:20260425T081234
CREATED:20190531T224518Z
LAST-MODIFIED:20250402T195403Z
UID:31129-1563886800-1563890400@scottsdaleinstitute.org
SUMMARY:New Visualization Techniques for Medication Adherence at Advocate Aurora
DESCRIPTION:Darcy Davis\, PhD\nDarcy Davis\, PhD\, Data Scientist\, Advocate Aurora Health.  Medication adherence is a multi-faceted problem with varying intensity of health consequences but ultimate [...]
URL:https://scottsdaleinstitute.org/event/new-visualization-techniques-for-medication-adherence-at-advocate-aurora/
END:VEVENT
BEGIN:VEVENT
DTSTART;TZID=America/Chicago:20190625T130000
DTEND;TZID=America/Chicago:20190625T140000
DTSTAMP:20260425T081234
CREATED:20190429T222603Z
LAST-MODIFIED:20250319T193738Z
UID:30579-1561467600-1561471200@scottsdaleinstitute.org
SUMMARY:Population Health Strategy & Technology in the Shift to Value-Based Care
DESCRIPTION:Shara Cohen\, JD\nVanessa Guzman\, AVP\, Quality Improvement\, Montefiore Health System\, and Shara L. Cohen\, JD\, VP\, Customer Experience for Clinical Effectiveness\, Wolters Kluwer Hea [...]
URL:https://scottsdaleinstitute.org/event/population-health-strategy-technology-in-the-shift-to-value-based-care/
END:VEVENT
BEGIN:VEVENT
DTSTART;TZID=America/Chicago:20190618T130000
DTEND;TZID=America/Chicago:20190618T140000
DTSTAMP:20260425T081234
CREATED:20190429T222609Z
LAST-MODIFIED:20250402T195404Z
UID:30577-1560862800-1560866400@scottsdaleinstitute.org
SUMMARY:Enhanced Recovery After Surgery through EMR Integration
DESCRIPTION:Stacey Johnston\, MD\nMegan Argabright\nStacey Johnston\, MD\, Associate CMIO for Hospitalist Informatics\, and Megan Argabright\, Clinical Informaticist\, Baptist Health (Jacksonville FL) [...]
URL:https://scottsdaleinstitute.org/event/enhanced-recovery-after-surgery-through-emr-integration/
END:VEVENT
BEGIN:VEVENT
DTSTART;TZID=America/Chicago:20190613T130000
DTEND;TZID=America/Chicago:20190613T140000
DTSTAMP:20260425T081234
CREATED:20190429T222614Z
LAST-MODIFIED:20210416T222358Z
UID:30576-1560430800-1560434400@scottsdaleinstitute.org
SUMMARY:Transforming Patient Access to Care
DESCRIPTION:David Jaspan\, DO\, FACOOG\nJames Farley\nDavid Jaspan\, DO\, FACOOG\, Chair\, Access Governance Committee and Chair\, Obstetrics and Gynecology\, Einstein Healthcare Network\, and James F [...]
URL:https://scottsdaleinstitute.org/event/transforming-patient-access-to-care/
END:VEVENT
BEGIN:VEVENT
DTSTART;TZID=America/Chicago:20190606T130000
DTEND;TZID=America/Chicago:20190606T140000
DTSTAMP:20260425T081234
CREATED:20190429T222628Z
LAST-MODIFIED:20260104T165627Z
UID:30573-1559826000-1559829600@scottsdaleinstitute.org
SUMMARY:GDPR: So You Think it Doesn’t Apply?
DESCRIPTION:Scott Dresen\, FACHE\, FHIMSS\, CISSP\, CISM\, Senior VP & CTO/CISO\, Leah Voigt\, JD\, MPH\, Chief Privacy & Research Integrity Officer\, Spectrum Health System\, Christy Wheaton\, Chief  [...]
URL:https://scottsdaleinstitute.org/event/gdpr-so-you-think-it-doesnt-apply/
END:VEVENT
BEGIN:VEVENT
DTSTART;TZID=America/Chicago:20190522T130000
DTEND;TZID=America/Chicago:20190522T140000
DTSTAMP:20260425T081234
CREATED:20190331T224536Z
LAST-MODIFIED:20250402T195404Z
UID:26250-1558530000-1558533600@scottsdaleinstitute.org
SUMMARY:An EHR-Based Real-Time Analytics Program for Patient Safety Surveillance and Improvement
DESCRIPTION:David Classen\, MD\, CMIO\, Pascal Metrics\, and Professor of Medicine\, University of Utah.  Dr. Classen reviews the use of artificial intelligence at the bedside to improve the safety o [...]
URL:https://scottsdaleinstitute.org/event/an-ehr-based-real-time-analytics-program-for-patient-safety-surveillance-and-improvement/
END:VEVENT
BEGIN:VEVENT
DTSTART;TZID=America/Chicago:20190521T130000
DTEND;TZID=America/Chicago:20190521T140000
DTSTAMP:20260425T081234
CREATED:20190331T224431Z
LAST-MODIFIED:20210416T222358Z
UID:26248-1558443600-1558447200@scottsdaleinstitute.org
SUMMARY:KLAS Interoperability and EHR Data Sharing Trends
DESCRIPTION:Colin Buckley\nPaul Warbuton\nColin Buckley\, Senior Analyst\, Paul Warburton\, EHR Analyst\, and Tyson Blauer\, Interoperability Analyst\, KLAS.  Interoperability and EHR market share ar [...]
URL:https://scottsdaleinstitute.org/event/klas-interoperability-and-ehr-data-sharing-trends/
END:VEVENT
BEGIN:VEVENT
DTSTART;TZID=America/Chicago:20190516T130000
DTEND;TZID=America/Chicago:20190516T140000
DTSTAMP:20260425T081234
CREATED:20190331T224335Z
LAST-MODIFIED:20210416T222359Z
UID:26246-1558011600-1558015200@scottsdaleinstitute.org
SUMMARY:Recruitment Marketing in a Digital Age at Ascension
DESCRIPTION:Anne Pankonien\nLauren King\nAnne Pankonien\, Senior Director Talent Acquisition\, Promotions and Sourcing Strategy\, and Lauren King\, Regional Recruitment Director\, Ascension.  People  [...]
URL:https://scottsdaleinstitute.org/event/recruitment-marketing-in-a-digital-age-at-ascension/
END:VEVENT
BEGIN:VEVENT
DTSTART;TZID=America/Chicago:20190515T130000
DTEND;TZID=America/Chicago:20190515T140000
DTSTAMP:20260425T081234
CREATED:20190331T224225Z
LAST-MODIFIED:20250319T193738Z
UID:26244-1557925200-1557928800@scottsdaleinstitute.org
SUMMARY:Continuing Care: It's not just Post-acute Care
DESCRIPTION:Seth Nore\, MBA\, MHA\nSeth Nore\, MBA\, MHA\, Clinical Applications Director\, and John Jurchak\, MSPT\, Director of Performance Enhancement\, Atrium Health. Atrium Health operates as a f [...]
URL:https://scottsdaleinstitute.org/event/continuing-care-its-not-just-post-acute-care/
END:VEVENT
BEGIN:VEVENT
DTSTART;TZID=America/Chicago:20190502T130000
DTEND;TZID=America/Chicago:20190502T140000
DTSTAMP:20260425T081234
CREATED:20190402T152925Z
LAST-MODIFIED:20250402T195404Z
UID:26285-1556802000-1556805600@scottsdaleinstitute.org
SUMMARY:Clinical Guideline Recommendations you can Trust
DESCRIPTION:Janice Kaczmarek\nJanice Kaczmarek\, EPC Program Manager & Director\, ECRI Guidelines Trust\, ECRI Institute. When the Agency for Healthcare Research and Quality (AHRQ) decided to stop fun [...]
URL:https://scottsdaleinstitute.org/event/clinical-guideline-recommendations-you-can-trust/
END:VEVENT
END:VCALENDAR